BEGIN:VCALENDAR
VERSION:2.0
PRODID:-//Friends of Mt Tam - ECPv6.15.18//NONSGML v1.0//EN
CALSCALE:GREGORIAN
METHOD:PUBLISH
X-ORIGINAL-URL:https://www.friendsofmttam.org
X-WR-CALDESC:Events for Friends of Mt Tam
REFRESH-INTERVAL;VALUE=DURATION:PT1H
X-Robots-Tag:noindex
X-PUBLISHED-TTL:PT1H
BEGIN:VTIMEZONE
TZID:America/Los_Angeles
BEGIN:DAYLIGHT
TZOFFSETFROM:-0800
TZOFFSETTO:-0700
TZNAME:PDT
DTSTART:20160313T100000
END:DAYLIGHT
BEGIN:STANDARD
TZOFFSETFROM:-0700
TZOFFSETTO:-0800
TZNAME:PST
DTSTART:20161106T090000
END:STANDARD
BEGIN:DAYLIGHT
TZOFFSETFROM:-0800
TZOFFSETTO:-0700
TZNAME:PDT
DTSTART:20170312T100000
END:DAYLIGHT
BEGIN:STANDARD
TZOFFSETFROM:-0700
TZOFFSETTO:-0800
TZNAME:PST
DTSTART:20171105T090000
END:STANDARD
BEGIN:DAYLIGHT
TZOFFSETFROM:-0800
TZOFFSETTO:-0700
TZNAME:PDT
DTSTART:20180311T100000
END:DAYLIGHT
BEGIN:STANDARD
TZOFFSETFROM:-0700
TZOFFSETTO:-0800
TZNAME:PST
DTSTART:20181104T090000
END:STANDARD
END:VTIMEZONE
BEGIN:VEVENT
DTSTART;VALUE=DATE:20170826
DTEND;VALUE=DATE:20170827
DTSTAMP:20260423T213025
CREATED:20170811T145001Z
LAST-MODIFIED:20190510T191521Z
UID:8461-1503705600-1503791999@www.friendsofmttam.org
SUMMARY:12-4 Gravity Car Barn Open
DESCRIPTION:
URL:https://www.friendsofmttam.org/event/12-4-gravity-car-barn-open-15/
LOCATION:East Peak\, Mt Tamalpais
CATEGORIES:Gravity Car Barn
END:VEVENT
BEGIN:VEVENT
DTSTART;VALUE=DATE:20170826
DTEND;VALUE=DATE:20170827
DTSTAMP:20260423T213025
CREATED:20170813T215316Z
LAST-MODIFIED:20170821T213800Z
UID:8990-1503705600-1503791999@www.friendsofmttam.org
SUMMARY:11-4 Visitor Center - Chris & Tara Castleman / Kristi Wiliams
DESCRIPTION:
URL:https://www.friendsofmttam.org/event/11-4-visitor-center-chris-tara-castleman-kristi-wiliams/
CATEGORIES:Visitor Center
END:VEVENT
BEGIN:VEVENT
DTSTART;TZID=America/Los_Angeles:20170826T110000
DTEND;TZID=America/Los_Angeles:20170826T160000
DTSTAMP:20260423T213025
CREATED:20170823T045959Z
LAST-MODIFIED:20190510T194337Z
UID:9158-1503745200-1503763200@www.friendsofmttam.org
SUMMARY:Visitor Center - Chris & Tara Castleman
DESCRIPTION:
URL:https://www.friendsofmttam.org/event/visitor-center-chris-tara-castleman/
CATEGORIES:Visitor Center
END:VEVENT
BEGIN:VEVENT
DTSTART;TZID=America/Los_Angeles:20170826T203000
DTEND;TZID=America/Los_Angeles:20170826T230000
DTSTAMP:20260423T213025
CREATED:20170814T044542Z
LAST-MODIFIED:20190516T001918Z
UID:9023-1503779400-1503788400@www.friendsofmttam.org
SUMMARY:Astronomy Night - Carol Stoker
DESCRIPTION:Carol Stoker\,  Planetary Scientist\, NASA Ames Research Center        \n*** The Search for Life Beyond Earth ***\nBesides Earth\, several planetary bodies in our solar systems are recognized as having the potential to host primitive forms of life. This talk will describe why and how NASA plans to search for life on Mars and the icy moons of Jupiter and Saturn. \nStar Viewing after the program with the San Francisco Amature Astronomers
URL:https://www.friendsofmttam.org/event/astronomy-night-carol-stoker/
LOCATION:Cushing Memorial Amphitheater\, Mill Valley\, CA 94941\, USA\, 2 Cushing Dr\, United States
CATEGORIES:Astronomy
END:VEVENT
END:VCALENDAR