BEGIN:VCALENDAR
VERSION:2.0
PRODID:-//Friends of Mt Tam - ECPv6.15.18//NONSGML v1.0//EN
CALSCALE:GREGORIAN
METHOD:PUBLISH
X-WR-CALNAME:Friends of Mt Tam
X-ORIGINAL-URL:https://www.friendsofmttam.org
X-WR-CALDESC:Events for Friends of Mt Tam
REFRESH-INTERVAL;VALUE=DURATION:PT1H
X-Robots-Tag:noindex
X-PUBLISHED-TTL:PT1H
BEGIN:VTIMEZONE
TZID:America/Los_Angeles
BEGIN:DAYLIGHT
TZOFFSETFROM:-0800
TZOFFSETTO:-0700
TZNAME:PDT
DTSTART:20160313T100000
END:DAYLIGHT
BEGIN:STANDARD
TZOFFSETFROM:-0700
TZOFFSETTO:-0800
TZNAME:PST
DTSTART:20161106T090000
END:STANDARD
BEGIN:DAYLIGHT
TZOFFSETFROM:-0800
TZOFFSETTO:-0700
TZNAME:PDT
DTSTART:20170312T100000
END:DAYLIGHT
BEGIN:STANDARD
TZOFFSETFROM:-0700
TZOFFSETTO:-0800
TZNAME:PST
DTSTART:20171105T090000
END:STANDARD
BEGIN:DAYLIGHT
TZOFFSETFROM:-0800
TZOFFSETTO:-0700
TZNAME:PDT
DTSTART:20180311T100000
END:DAYLIGHT
BEGIN:STANDARD
TZOFFSETFROM:-0700
TZOFFSETTO:-0800
TZNAME:PST
DTSTART:20181104T090000
END:STANDARD
END:VTIMEZONE
BEGIN:VEVENT
DTSTART;VALUE=DATE:20170917
DTEND;VALUE=DATE:20170918
DTSTAMP:20260423T201333
CREATED:20170811T145008Z
LAST-MODIFIED:20190510T191522Z
UID:8468-1505606400-1505692799@www.friendsofmttam.org
SUMMARY:12-4 Gravity Car Barn Open
DESCRIPTION:
URL:https://www.friendsofmttam.org/event/12-4-gravity-car-barn-open-22/
LOCATION:East Peak\, Mt Tamalpais
CATEGORIES:Gravity Car Barn
END:VEVENT
BEGIN:VEVENT
DTSTART;VALUE=DATE:20170917
DTEND;VALUE=DATE:20170918
DTSTAMP:20260423T201333
CREATED:20170812T052200Z
LAST-MODIFIED:20191202T164110Z
UID:8730-1505606400-1505692799@www.friendsofmttam.org
SUMMARY:8am Hike led by Rosanna Petralia: "Surf to Summit" - SOLD OUT
DESCRIPTION:3-4 hours with a break for a light lunch. See Hiking / Sunday
URL:https://www.friendsofmttam.org/event/930am-hike-led-by-rosanna-petralia-surf-to-summit-hike-r/
LOCATION:Stinson Beach\, Mt Tamalpais
CATEGORIES:Hike
END:VEVENT
BEGIN:VEVENT
DTSTART;VALUE=DATE:20170917
DTEND;VALUE=DATE:20170918
DTSTAMP:20260423T201333
CREATED:20170813T215430Z
LAST-MODIFIED:20190510T194338Z
UID:8995-1505606400-1505692799@www.friendsofmttam.org
SUMMARY:11-4 Visitor Center - Tom Brookshire
DESCRIPTION:
URL:https://www.friendsofmttam.org/event/11-4-visitor-center-tom-brookshire-5/
LOCATION:Mt Tam\, East Peak Parking Lot\, East Ridgecrest Blvd.\, Mill Valley\, CA 94941\, USA\, 201 Meda Ln\, United States
CATEGORIES:Visitor Center
END:VEVENT
END:VCALENDAR