BEGIN:VCALENDAR
VERSION:2.0
PRODID:-//Friends of Mt Tam - ECPv6.15.18//NONSGML v1.0//EN
CALSCALE:GREGORIAN
METHOD:PUBLISH
X-WR-CALNAME:Friends of Mt Tam
X-ORIGINAL-URL:https://www.friendsofmttam.org
X-WR-CALDESC:Events for Friends of Mt Tam
REFRESH-INTERVAL;VALUE=DURATION:PT1H
X-Robots-Tag:noindex
X-PUBLISHED-TTL:PT1H
BEGIN:VTIMEZONE
TZID:America/Los_Angeles
BEGIN:DAYLIGHT
TZOFFSETFROM:-0800
TZOFFSETTO:-0700
TZNAME:PDT
DTSTART:20160313T100000
END:DAYLIGHT
BEGIN:STANDARD
TZOFFSETFROM:-0700
TZOFFSETTO:-0800
TZNAME:PST
DTSTART:20161106T090000
END:STANDARD
BEGIN:DAYLIGHT
TZOFFSETFROM:-0800
TZOFFSETTO:-0700
TZNAME:PDT
DTSTART:20170312T100000
END:DAYLIGHT
BEGIN:STANDARD
TZOFFSETFROM:-0700
TZOFFSETTO:-0800
TZNAME:PST
DTSTART:20171105T090000
END:STANDARD
BEGIN:DAYLIGHT
TZOFFSETFROM:-0800
TZOFFSETTO:-0700
TZNAME:PDT
DTSTART:20180311T100000
END:DAYLIGHT
BEGIN:STANDARD
TZOFFSETFROM:-0700
TZOFFSETTO:-0800
TZNAME:PST
DTSTART:20181104T090000
END:STANDARD
END:VTIMEZONE
BEGIN:VEVENT
DTSTART;VALUE=DATE:20170923
DTEND;VALUE=DATE:20170924
DTSTAMP:20260423T201331
CREATED:20170811T145037Z
LAST-MODIFIED:20190510T191522Z
UID:8469-1506124800-1506211199@www.friendsofmttam.org
SUMMARY:12-4 Gravity Car Barn Open
DESCRIPTION:
URL:https://www.friendsofmttam.org/event/12-4-gravity-car-barn-open-23/
LOCATION:East Peak\, Mt Tamalpais
CATEGORIES:Gravity Car Barn
END:VEVENT
BEGIN:VEVENT
DTSTART;VALUE=DATE:20170923
DTEND;VALUE=DATE:20170924
DTSTAMP:20260423T201331
CREATED:20170813T215430Z
LAST-MODIFIED:20190510T194338Z
UID:8996-1506124800-1506211199@www.friendsofmttam.org
SUMMARY:11-4 Visitor Center: Cate Zovod
DESCRIPTION:
URL:https://www.friendsofmttam.org/event/11-4-visitor-center-cate-zovod-4/
LOCATION:East Peak\, Mt. Tam
CATEGORIES:Visitor Center
END:VEVENT
BEGIN:VEVENT
DTSTART;TZID=America/Los_Angeles:20170923T200000
DTEND;TZID=America/Los_Angeles:20170923T223000
DTSTAMP:20260423T201331
CREATED:20170814T044542Z
LAST-MODIFIED:20190516T001919Z
UID:9024-1506196800-1506205800@www.friendsofmttam.org
SUMMARY:Astronomy Night - Natalie Batalha
DESCRIPTION:Natalie Batalha\, Research Astronomer\, NASA Ames Research Center        \n*** Life in the Goldilocks Zone ***\nDiscoveries by NASA’s Kepler Mission suggest there are billions of potentially habitable worlds in the Milky Way galaxy. What has the study of planets within and beyond the Solar System taught us about our own planet Earth? And what’s next in the search for life beyond the Solar System? \nStar Viewing after the program with the San Francisco Amature Astronomers
URL:https://www.friendsofmttam.org/event/astronomy-night-natalie-batalha/
LOCATION:Cushing Memorial Amphitheater\, Mill Valley\, CA 94941\, USA\, 2 Cushing Dr\, United States
CATEGORIES:Astronomy
END:VEVENT
END:VCALENDAR