BEGIN:VCALENDAR
VERSION:2.0
PRODID:-//Friends of Mt Tam - ECPv6.15.18//NONSGML v1.0//EN
CALSCALE:GREGORIAN
METHOD:PUBLISH
X-WR-CALNAME:Friends of Mt Tam
X-ORIGINAL-URL:https://www.friendsofmttam.org
X-WR-CALDESC:Events for Friends of Mt Tam
REFRESH-INTERVAL;VALUE=DURATION:PT1H
X-Robots-Tag:noindex
X-PUBLISHED-TTL:PT1H
BEGIN:VTIMEZONE
TZID:America/Los_Angeles
BEGIN:DAYLIGHT
TZOFFSETFROM:-0800
TZOFFSETTO:-0700
TZNAME:PDT
DTSTART:20170312T100000
END:DAYLIGHT
BEGIN:STANDARD
TZOFFSETFROM:-0700
TZOFFSETTO:-0800
TZNAME:PST
DTSTART:20171105T090000
END:STANDARD
BEGIN:DAYLIGHT
TZOFFSETFROM:-0800
TZOFFSETTO:-0700
TZNAME:PDT
DTSTART:20180311T100000
END:DAYLIGHT
BEGIN:STANDARD
TZOFFSETFROM:-0700
TZOFFSETTO:-0800
TZNAME:PST
DTSTART:20181104T090000
END:STANDARD
BEGIN:DAYLIGHT
TZOFFSETFROM:-0800
TZOFFSETTO:-0700
TZNAME:PDT
DTSTART:20190310T100000
END:DAYLIGHT
BEGIN:STANDARD
TZOFFSETFROM:-0700
TZOFFSETTO:-0800
TZNAME:PST
DTSTART:20191103T090000
END:STANDARD
END:VTIMEZONE
BEGIN:VEVENT
DTSTART;VALUE=DATE:20180127
DTEND;VALUE=DATE:20180128
DTSTAMP:20260423T144315
CREATED:20171216T213212Z
LAST-MODIFIED:20191202T164120Z
UID:9697-1517011200-1517097599@www.friendsofmttam.org
SUMMARY:9:30am Hike led by Santiago Abascal: "A Special Place Called Mt Tam"\, meet at Mt Home
DESCRIPTION:Topic “A Special Place Called Mt Tam” / Rating= R\n See website for Rating Descriptions.
URL:https://www.friendsofmttam.org/event/930am-hike-led-by-santiago-abascal-topic-tbd/
LOCATION:Mt Home\, Mt Tamalpais
CATEGORIES:Hike
END:VEVENT
BEGIN:VEVENT
DTSTART;VALUE=DATE:20180127
DTEND;VALUE=DATE:20180128
DTSTAMP:20260423T144315
CREATED:20180104T184435Z
LAST-MODIFIED:20190510T194340Z
UID:10129-1517011200-1517097599@www.friendsofmttam.org
SUMMARY:VC 11-4 ALBERT WALD  / Dan Zahren
DESCRIPTION:
URL:https://www.friendsofmttam.org/event/albert-wald-vc/
CATEGORIES:Visitor Center
END:VEVENT
BEGIN:VEVENT
DTSTART;VALUE=DATE:20180127
DTEND;VALUE=DATE:20180128
DTSTAMP:20260423T144315
CREATED:20180111T041048Z
LAST-MODIFIED:20190510T191525Z
UID:10288-1517011200-1517097599@www.friendsofmttam.org
SUMMARY:12-4 Gravity Car Barn - Fred Runner
DESCRIPTION:Gravity Car Barn Museum – East Peak
URL:https://www.friendsofmttam.org/event/12-4-gravity-car-barn-fred-runner/
LOCATION:East Peak\, Mt Tamalpais
CATEGORIES:Gravity Car Barn
END:VEVENT
END:VCALENDAR