BEGIN:VCALENDAR
VERSION:2.0
PRODID:-//Friends of Mt Tam - ECPv6.15.18//NONSGML v1.0//EN
CALSCALE:GREGORIAN
METHOD:PUBLISH
X-WR-CALNAME:Friends of Mt Tam
X-ORIGINAL-URL:https://www.friendsofmttam.org
X-WR-CALDESC:Events for Friends of Mt Tam
REFRESH-INTERVAL;VALUE=DURATION:PT1H
X-Robots-Tag:noindex
X-PUBLISHED-TTL:PT1H
BEGIN:VTIMEZONE
TZID:America/Los_Angeles
BEGIN:DAYLIGHT
TZOFFSETFROM:-0800
TZOFFSETTO:-0700
TZNAME:PDT
DTSTART:20170312T100000
END:DAYLIGHT
BEGIN:STANDARD
TZOFFSETFROM:-0700
TZOFFSETTO:-0800
TZNAME:PST
DTSTART:20171105T090000
END:STANDARD
BEGIN:DAYLIGHT
TZOFFSETFROM:-0800
TZOFFSETTO:-0700
TZNAME:PDT
DTSTART:20180311T100000
END:DAYLIGHT
BEGIN:STANDARD
TZOFFSETFROM:-0700
TZOFFSETTO:-0800
TZNAME:PST
DTSTART:20181104T090000
END:STANDARD
BEGIN:DAYLIGHT
TZOFFSETFROM:-0800
TZOFFSETTO:-0700
TZNAME:PDT
DTSTART:20190310T100000
END:DAYLIGHT
BEGIN:STANDARD
TZOFFSETFROM:-0700
TZOFFSETTO:-0800
TZNAME:PST
DTSTART:20191103T090000
END:STANDARD
END:VTIMEZONE
BEGIN:VEVENT
DTSTART;VALUE=DATE:20180218
DTEND;VALUE=DATE:20180219
DTSTAMP:20260423T133536
CREATED:20170905T213610Z
LAST-MODIFIED:20190510T194340Z
UID:9205-1518912000-1518998399@www.friendsofmttam.org
SUMMARY:11-4 Visitor Ctr-Tom Brookshire
DESCRIPTION:
URL:https://www.friendsofmttam.org/event/11-4-visitor-ctr-tom-brookshire-2/
CATEGORIES:Visitor Center
END:VEVENT
BEGIN:VEVENT
DTSTART;VALUE=DATE:20180218
DTEND;VALUE=DATE:20180219
DTSTAMP:20260423T133536
CREATED:20171216T213216Z
LAST-MODIFIED:20191202T164122Z
UID:9708-1518912000-1518998399@www.friendsofmttam.org
SUMMARY:9:30am Hike led by Franklin Young: "West Peak" from Rock Spring
DESCRIPTION:West Peak / Rating= M   See website for Rating Descriptions.
URL:https://www.friendsofmttam.org/event/930am-hike-led-by-franklin-young-west-peak-2/
LOCATION:Rock Spring\, Mt Tamalpais
CATEGORIES:Hike
END:VEVENT
BEGIN:VEVENT
DTSTART;VALUE=DATE:20180218
DTEND;VALUE=DATE:20180219
DTSTAMP:20260423T133536
CREATED:20180111T041052Z
LAST-MODIFIED:20190420T170019Z
UID:10295-1518912000-1518998399@www.friendsofmttam.org
SUMMARY:12-4 Gravity Car Barn - Fred Runner
DESCRIPTION:Gravity Car Barn Museum – East Peak
URL:https://www.friendsofmttam.org/event/12-4-gravity-car-barn-fred-runner-2/
LOCATION:East Peak\, Mt Tamalpais
CATEGORIES:Gravity Car Barn
END:VEVENT
BEGIN:VEVENT
DTSTART;VALUE=DATE:20180218
DTEND;VALUE=DATE:20180219
DTSTAMP:20260423T133536
CREATED:20180124T102312Z
LAST-MODIFIED:20191202T164122Z
UID:10689-1518912000-1518998399@www.friendsofmttam.org
SUMMARY:11am Hike led by Shahryar Shahsavari "Water" from Rock Spring
DESCRIPTION:Topic: “Water”Difficulty: “Regular” (between 5 and 7 miles)  — At times speedy with a cardio aspect to it\, andat times into breathing meditation\, this is a fast paced hike and the need for some good formon the participant side.  Meeting at Rock Spring Parking Lotat 11AM
URL:https://www.friendsofmttam.org/event/11am-hike-led-by-shahryar-shahsavari-water-from-rock-spring/
CATEGORIES:Hike
END:VEVENT
END:VCALENDAR