BEGIN:VCALENDAR
VERSION:2.0
PRODID:-//Friends of Mt Tam - ECPv6.15.18//NONSGML v1.0//EN
CALSCALE:GREGORIAN
METHOD:PUBLISH
X-WR-CALNAME:Friends of Mt Tam
X-ORIGINAL-URL:https://www.friendsofmttam.org
X-WR-CALDESC:Events for Friends of Mt Tam
REFRESH-INTERVAL;VALUE=DURATION:PT1H
X-Robots-Tag:noindex
X-PUBLISHED-TTL:PT1H
BEGIN:VTIMEZONE
TZID:America/Los_Angeles
BEGIN:DAYLIGHT
TZOFFSETFROM:-0800
TZOFFSETTO:-0700
TZNAME:PDT
DTSTART:20170312T100000
END:DAYLIGHT
BEGIN:STANDARD
TZOFFSETFROM:-0700
TZOFFSETTO:-0800
TZNAME:PST
DTSTART:20171105T090000
END:STANDARD
BEGIN:DAYLIGHT
TZOFFSETFROM:-0800
TZOFFSETTO:-0700
TZNAME:PDT
DTSTART:20180311T100000
END:DAYLIGHT
BEGIN:STANDARD
TZOFFSETFROM:-0700
TZOFFSETTO:-0800
TZNAME:PST
DTSTART:20181104T090000
END:STANDARD
BEGIN:DAYLIGHT
TZOFFSETFROM:-0800
TZOFFSETTO:-0700
TZNAME:PDT
DTSTART:20190310T100000
END:DAYLIGHT
BEGIN:STANDARD
TZOFFSETFROM:-0700
TZOFFSETTO:-0800
TZNAME:PST
DTSTART:20191103T090000
END:STANDARD
END:VTIMEZONE
BEGIN:VEVENT
DTSTART;VALUE=DATE:20180318
DTEND;VALUE=DATE:20180319
DTSTAMP:20260423T121046
CREATED:20170905T213611Z
LAST-MODIFIED:20190510T194340Z
UID:9206-1521331200-1521417599@www.friendsofmttam.org
SUMMARY:11-4 Visitor Ctr-Tom Brookshire
DESCRIPTION:
URL:https://www.friendsofmttam.org/event/11-4-visitor-ctr-tom-brookshire-3/
CATEGORIES:Visitor Center
END:VEVENT
BEGIN:VEVENT
DTSTART;VALUE=DATE:20180318
DTEND;VALUE=DATE:20180319
DTSTAMP:20260423T121046
CREATED:20171216T213220Z
LAST-MODIFIED:20191202T164124Z
UID:9720-1521331200-1521417599@www.friendsofmttam.org
SUMMARY:9:30am Hike led by Madelyn Misite: "Redwoods" from White Gate
DESCRIPTION:Redwoods / Rating= M   See website for Rating Descriptions.
URL:https://www.friendsofmttam.org/event/930am-hike-led-by-madelyn-misite-redwoods/
LOCATION:White Gate\, Mt Tamalpais
CATEGORIES:Hike
END:VEVENT
BEGIN:VEVENT
DTSTART;VALUE=DATE:20180318
DTEND;VALUE=DATE:20180319
DTSTAMP:20260423T121046
CREATED:20180111T041128Z
LAST-MODIFIED:20190420T170020Z
UID:10303-1521331200-1521417599@www.friendsofmttam.org
SUMMARY:12-4 Gravity Car Barn - Fred Runner
DESCRIPTION:Gravity Car Barn Museum – East Peak
URL:https://www.friendsofmttam.org/event/12-4-gravity-car-barn-fred-runner-3/
LOCATION:East Peak\, Mt Tamalpais
CATEGORIES:Gravity Car Barn
END:VEVENT
BEGIN:VEVENT
DTSTART;VALUE=DATE:20180318
DTEND;VALUE=DATE:20180319
DTSTAMP:20260423T121046
CREATED:20180124T015419Z
LAST-MODIFIED:20191202T164125Z
UID:10682-1521331200-1521417599@www.friendsofmttam.org
SUMMARY:11am Hike led by Shahryar Shasavari "Water" from Rock Spring
DESCRIPTION:Topic: “Water“Difficulty:”Regular Hike between 5 and 7 miles” — At times speedy with a cardio aspect to it\, andat times into breathing meditation\, this is a fast paced hike and the need for some good formon the participant side.Meeting Point: Rock Spring Parking LotTime: 11AM
URL:https://www.friendsofmttam.org/event/11am-hike-shahryar-shasavari-water-from-rock-spring/
LOCATION:Rock Spring Parking Lot
CATEGORIES:Hike
END:VEVENT
END:VCALENDAR