BEGIN:VCALENDAR
VERSION:2.0
PRODID:-//Friends of Mt Tam - ECPv6.15.18//NONSGML v1.0//EN
CALSCALE:GREGORIAN
METHOD:PUBLISH
X-WR-CALNAME:Friends of Mt Tam
X-ORIGINAL-URL:https://www.friendsofmttam.org
X-WR-CALDESC:Events for Friends of Mt Tam
REFRESH-INTERVAL;VALUE=DURATION:PT1H
X-Robots-Tag:noindex
X-PUBLISHED-TTL:PT1H
BEGIN:VTIMEZONE
TZID:America/Los_Angeles
BEGIN:DAYLIGHT
TZOFFSETFROM:-0800
TZOFFSETTO:-0700
TZNAME:PDT
DTSTART:20170312T100000
END:DAYLIGHT
BEGIN:STANDARD
TZOFFSETFROM:-0700
TZOFFSETTO:-0800
TZNAME:PST
DTSTART:20171105T090000
END:STANDARD
BEGIN:DAYLIGHT
TZOFFSETFROM:-0800
TZOFFSETTO:-0700
TZNAME:PDT
DTSTART:20180311T100000
END:DAYLIGHT
BEGIN:STANDARD
TZOFFSETFROM:-0700
TZOFFSETTO:-0800
TZNAME:PST
DTSTART:20181104T090000
END:STANDARD
BEGIN:DAYLIGHT
TZOFFSETFROM:-0800
TZOFFSETTO:-0700
TZNAME:PDT
DTSTART:20190310T100000
END:DAYLIGHT
BEGIN:STANDARD
TZOFFSETFROM:-0700
TZOFFSETTO:-0800
TZNAME:PST
DTSTART:20191103T090000
END:STANDARD
END:VTIMEZONE
BEGIN:VEVENT
DTSTART;VALUE=DATE:20180421
DTEND;VALUE=DATE:20180422
DTSTAMP:20260423T104717
CREATED:20180317T025351Z
LAST-MODIFIED:20191202T164126Z
UID:11524-1524268800-1524355199@www.friendsofmttam.org
SUMMARY:9:30 Hike "Mindfullness in Nature" led by docent Alexandra Jurasin\, from Rock Spring parking lot.
DESCRIPTION:Saturday April 21 at 9:30am from Rock Spring parking lot. “Mindfullness in Nature” led by docent Alexandra Jurasin Experience all of your senses in nature\, while being guided through mindfulness practices\, and finish the hike feeling like you’ve just had a shower for your mind. Regular.
URL:https://www.friendsofmttam.org/event/930-hike-mindfullness-in-nature-led-by-docent-alexandra-jurasin-from-rock-spring-parking-lot/
CATEGORIES:Hike
END:VEVENT
BEGIN:VEVENT
DTSTART;TZID=America/Los_Angeles:20180421T200000
DTEND;TZID=America/Los_Angeles:20180421T221500
DTSTAMP:20260423T104717
CREATED:20180408T005106Z
LAST-MODIFIED:20190516T001919Z
UID:11981-1524340800-1524348900@www.friendsofmttam.org
SUMMARY:Astronomy Night - A Universe of Universes?  Alex Filippenko
DESCRIPTION:Apr 21\, 8:00pm — A Universe of Universes?  AlexFilippenko\, Professor of Astronomy\, UC BerkeleyMany scientists now think that there might be more than a single universe.Our universe may be just one example in a farlarger “multiverse\,” but an unusually complex one that is conduciveto the existence of life. Come learn about the relevant linesof reasoning and their profound implications.Parking Pass Required! Visit   http://www.friendsofmttam.org/astronomy.htmlfor directions\, parking and parking passes.
URL:https://www.friendsofmttam.org/event/astronomy-night-a-universe-of-universes-alex-filippenko/
LOCATION:Cushing Memorial Amphitheater\, Mill Valley\, CA 94941\, USA\, 2 Cushing Dr\, United States
CATEGORIES:Astronomy
END:VEVENT
END:VCALENDAR