BEGIN:VCALENDAR
VERSION:2.0
PRODID:-//Friends of Mt Tam - ECPv6.15.18//NONSGML v1.0//EN
CALSCALE:GREGORIAN
METHOD:PUBLISH
X-ORIGINAL-URL:https://www.friendsofmttam.org
X-WR-CALDESC:Events for Friends of Mt Tam
REFRESH-INTERVAL;VALUE=DURATION:PT1H
X-Robots-Tag:noindex
X-PUBLISHED-TTL:PT1H
BEGIN:VTIMEZONE
TZID:America/Los_Angeles
BEGIN:DAYLIGHT
TZOFFSETFROM:-0800
TZOFFSETTO:-0700
TZNAME:PDT
DTSTART:20170312T100000
END:DAYLIGHT
BEGIN:STANDARD
TZOFFSETFROM:-0700
TZOFFSETTO:-0800
TZNAME:PST
DTSTART:20171105T090000
END:STANDARD
BEGIN:DAYLIGHT
TZOFFSETFROM:-0800
TZOFFSETTO:-0700
TZNAME:PDT
DTSTART:20180311T100000
END:DAYLIGHT
BEGIN:STANDARD
TZOFFSETFROM:-0700
TZOFFSETTO:-0800
TZNAME:PST
DTSTART:20181104T090000
END:STANDARD
BEGIN:DAYLIGHT
TZOFFSETFROM:-0800
TZOFFSETTO:-0700
TZNAME:PDT
DTSTART:20190310T100000
END:DAYLIGHT
BEGIN:STANDARD
TZOFFSETFROM:-0700
TZOFFSETTO:-0800
TZNAME:PST
DTSTART:20191103T090000
END:STANDARD
END:VTIMEZONE
BEGIN:VEVENT
DTSTART;VALUE=DATE:20180422
DTEND;VALUE=DATE:20180423
DTSTAMP:20260423T104840
CREATED:20180317T025351Z
LAST-MODIFIED:20191202T164126Z
UID:11526-1524355200-1524441599@www.friendsofmttam.org
SUMMARY:9:30 Hike "Colors and Patterns of Nature" led by docent Deborah Coburn\, from Rock Spring parking lot.
DESCRIPTION:Sunday April 22 @9:30am from Rock Spring parking lot. “Colors and Patterns of Nature” led by docent Deborah Coburn.  –We are surrounded by genius! After 3.8 billion years of R&D\, Nature has figured out what works\, what lasts. Walking along\, we will look carefully to see some of Nature’s color and design strategies in action. We will discuss how these strategies accomplish what they have evolved to do. Easy.
URL:https://www.friendsofmttam.org/event/930-hike-colors-and-patterns-of-nature-led-by-docent-deborah-coburn-from-rock-spring-parking-lot/
CATEGORIES:Hike
END:VEVENT
BEGIN:VEVENT
DTSTART;VALUE=DATE:20180422
DTEND;VALUE=DATE:20180423
DTSTAMP:20260423T104840
CREATED:20180317T025351Z
LAST-MODIFIED:20191202T164126Z
UID:11525-1524355200-1524441599@www.friendsofmttam.org
SUMMARY:11:00 Hike "Mt Tam Artists and Visionaries" led by docent Cate Zovod\, from Pantoll trailhead.
DESCRIPTION:Sunday April 22 @11am from Pantoll trailhead. “Mt Tam Artists and Visionaries” led by docent Cate Zovod. — Since the early days of travel to Mt. Tam\, the area has inspired artists. It is a wellspring of creative and spiritual renewal. This session will introduce you to the communities of artists and visionaries who have drawn inspiration from its slopes\, and whose work comprises Mt. Tam’s cultural legacy. Guided exercises will help you tap into your own creative side – and research shows hiking gets your creative juices flowing. No artistic background or skill required. Open your mind on this Earth Day and let mountain speak to you and guide your hand as it has for so many before you. Easy.
URL:https://www.friendsofmttam.org/event/1100-hike-mt-tam-artists-and-visionaries-led-by-docent-cate-zovod-from-pantoll-trailhead/
CATEGORIES:Hike
END:VEVENT
BEGIN:VEVENT
DTSTART;VALUE=DATE:20180422
DTEND;VALUE=DATE:20180423
DTSTAMP:20260423T104840
CREATED:20190504T053531Z
LAST-MODIFIED:20190510T194341Z
UID:37291-1524355200-1524441599@www.friendsofmttam.org
SUMMARY:VC - Janet Friedman
DESCRIPTION:
URL:https://www.friendsofmttam.org/event/vc-janet-friedman-2/
CATEGORIES:Visitor Center
END:VEVENT
END:VCALENDAR