BEGIN:VCALENDAR
VERSION:2.0
PRODID:-//Friends of Mt Tam - ECPv6.15.18//NONSGML v1.0//EN
CALSCALE:GREGORIAN
METHOD:PUBLISH
X-WR-CALNAME:Friends of Mt Tam
X-ORIGINAL-URL:https://www.friendsofmttam.org
X-WR-CALDESC:Events for Friends of Mt Tam
REFRESH-INTERVAL;VALUE=DURATION:PT1H
X-Robots-Tag:noindex
X-PUBLISHED-TTL:PT1H
BEGIN:VTIMEZONE
TZID:America/Los_Angeles
BEGIN:DAYLIGHT
TZOFFSETFROM:-0800
TZOFFSETTO:-0700
TZNAME:PDT
DTSTART:20170312T100000
END:DAYLIGHT
BEGIN:STANDARD
TZOFFSETFROM:-0700
TZOFFSETTO:-0800
TZNAME:PST
DTSTART:20171105T090000
END:STANDARD
BEGIN:DAYLIGHT
TZOFFSETFROM:-0800
TZOFFSETTO:-0700
TZNAME:PDT
DTSTART:20180311T100000
END:DAYLIGHT
BEGIN:STANDARD
TZOFFSETFROM:-0700
TZOFFSETTO:-0800
TZNAME:PST
DTSTART:20181104T090000
END:STANDARD
BEGIN:DAYLIGHT
TZOFFSETFROM:-0800
TZOFFSETTO:-0700
TZNAME:PDT
DTSTART:20190310T100000
END:DAYLIGHT
BEGIN:STANDARD
TZOFFSETFROM:-0700
TZOFFSETTO:-0800
TZNAME:PST
DTSTART:20191103T090000
END:STANDARD
END:VTIMEZONE
BEGIN:VEVENT
DTSTART;VALUE=DATE:20180506
DTEND;VALUE=DATE:20180507
DTSTAMP:20260423T092153
CREATED:20170813T215639Z
LAST-MODIFIED:20180131T225136Z
UID:9011-1525564800-1525651199@www.friendsofmttam.org
SUMMARY:11-4 Visitor Center Shirley Beers/Lillian Lessler
DESCRIPTION:
URL:https://www.friendsofmttam.org/event/11-4-visitor-center-shirley-beerslillian-lessler-13/
CATEGORIES:Visitor Center
END:VEVENT
BEGIN:VEVENT
DTSTART;VALUE=DATE:20180506
DTEND;VALUE=DATE:20180507
DTSTAMP:20260423T092153
CREATED:20180301T212546Z
LAST-MODIFIED:20190510T194341Z
UID:11255-1525564800-1525651199@www.friendsofmttam.org
SUMMARY:11-4 VC: Shirley Beers/Lillian Lessler
DESCRIPTION:
URL:https://www.friendsofmttam.org/event/11-4-vc-shirley-beers-lillian-lessler-13/
CATEGORIES:Visitor Center
END:VEVENT
BEGIN:VEVENT
DTSTART;VALUE=DATE:20180506
DTEND;VALUE=DATE:20180507
DTSTAMP:20260423T092153
CREATED:20180317T025447Z
LAST-MODIFIED:20191202T164127Z
UID:11534-1525564800-1525651199@www.friendsofmttam.org
SUMMARY:11am Hike "Spirit and Nature" with docent Tina Menig. from Rock Spring trailhead.
DESCRIPTION:Sunday\, May 6 @11am from Rock Spring trailhead. “Spirit and Nature“ with docent Tina Menig. —Nature provides many spiritual benefits that can help us in today’s frantic world. Discover the mystery of nature…how it can awaken our senses\, quiet our minds and open our hearts. Explore the sacredness of MT. Tam as the Miwok Indians did centuries ago and as the animals do today. Easy
URL:https://www.friendsofmttam.org/event/11am-hike-spirit-and-nature-with-docent-tina-menig-from-rock-spring-trailhead/
CATEGORIES:Hike
END:VEVENT
BEGIN:VEVENT
DTSTART;VALUE=DATE:20180506
DTEND;VALUE=DATE:20180507
DTSTAMP:20260423T092153
CREATED:20180317T025447Z
LAST-MODIFIED:20191202T164127Z
UID:11535-1525564800-1525651199@www.friendsofmttam.org
SUMMARY:9:30 Hike "Health and Happiness" with docent Tracy Stuart\, from Rock Spring trailhead
DESCRIPTION:Sunday\, May 6 @9:30am from Rock Spring trailhead\, “Health and Happiness“ with docent Tracy Stuart —Enjoy your endorphin high and share it with other hikers while exploring a landscape of Ferns\, Sargent cypress trees\, Serpentine Rock\, Douglas Fir and free flowing creeks. Meet New Friends! Dog friendly hike. Dog permit required. Email park staff for a permit: Rosanna.Petralia@parks.ca.gov Difficulty: Regular
URL:https://www.friendsofmttam.org/event/930-hike-health-and-happiness-with-docent-tracy-stuart-from-rock-spring-trailhead/
CATEGORIES:Hike
END:VEVENT
END:VCALENDAR