BEGIN:VCALENDAR
VERSION:2.0
PRODID:-//Friends of Mt Tam - ECPv6.15.18//NONSGML v1.0//EN
CALSCALE:GREGORIAN
METHOD:PUBLISH
X-ORIGINAL-URL:https://www.friendsofmttam.org
X-WR-CALDESC:Events for Friends of Mt Tam
REFRESH-INTERVAL;VALUE=DURATION:PT1H
X-Robots-Tag:noindex
X-PUBLISHED-TTL:PT1H
BEGIN:VTIMEZONE
TZID:America/Los_Angeles
BEGIN:DAYLIGHT
TZOFFSETFROM:-0800
TZOFFSETTO:-0700
TZNAME:PDT
DTSTART:20170312T100000
END:DAYLIGHT
BEGIN:STANDARD
TZOFFSETFROM:-0700
TZOFFSETTO:-0800
TZNAME:PST
DTSTART:20171105T090000
END:STANDARD
BEGIN:DAYLIGHT
TZOFFSETFROM:-0800
TZOFFSETTO:-0700
TZNAME:PDT
DTSTART:20180311T100000
END:DAYLIGHT
BEGIN:STANDARD
TZOFFSETFROM:-0700
TZOFFSETTO:-0800
TZNAME:PST
DTSTART:20181104T090000
END:STANDARD
BEGIN:DAYLIGHT
TZOFFSETFROM:-0800
TZOFFSETTO:-0700
TZNAME:PDT
DTSTART:20190310T100000
END:DAYLIGHT
BEGIN:STANDARD
TZOFFSETFROM:-0700
TZOFFSETTO:-0800
TZNAME:PST
DTSTART:20191103T090000
END:STANDARD
END:VTIMEZONE
BEGIN:VEVENT
DTSTART;VALUE=DATE:20180527
DTEND;VALUE=DATE:20180528
DTSTAMP:20260423T092225
CREATED:20180201T074034Z
LAST-MODIFIED:20190510T194341Z
UID:10816-1527379200-1527465599@www.friendsofmttam.org
SUMMARY:11-4 VC Shirley Beers/Lillian Lessler
DESCRIPTION:
URL:https://www.friendsofmttam.org/event/11-4-vc-shirley-beers-lillian-lessler/
CATEGORIES:Visitor Center
END:VEVENT
BEGIN:VEVENT
DTSTART;VALUE=DATE:20180527
DTEND;VALUE=DATE:20180528
DTSTAMP:20260423T092225
CREATED:20180317T025455Z
LAST-MODIFIED:20191202T164128Z
UID:11545-1527379200-1527465599@www.friendsofmttam.org
SUMMARY:9:30 Hike "Muir Woods History" with docent Madelyn Misite from Mt Home parking lot
DESCRIPTION:Sunday\, May 27 @9:30am from Mt Home parking lot. “Muir Woods History“ with docent Madelyn Misite —Hike through Muir Woods and learn about William Kent and the preservation of this National Monument. Moderate
URL:https://www.friendsofmttam.org/event/930-hike-muir-woods-history-with-docent-madelyn-misite-from-mt-home-parking-lot/
CATEGORIES:Hike
END:VEVENT
END:VCALENDAR