BEGIN:VCALENDAR
VERSION:2.0
PRODID:-//Friends of Mt Tam - ECPv6.15.18//NONSGML v1.0//EN
CALSCALE:GREGORIAN
METHOD:PUBLISH
X-ORIGINAL-URL:https://www.friendsofmttam.org
X-WR-CALDESC:Events for Friends of Mt Tam
REFRESH-INTERVAL;VALUE=DURATION:PT1H
X-Robots-Tag:noindex
X-PUBLISHED-TTL:PT1H
BEGIN:VTIMEZONE
TZID:America/Los_Angeles
BEGIN:DAYLIGHT
TZOFFSETFROM:-0800
TZOFFSETTO:-0700
TZNAME:PDT
DTSTART:20170312T100000
END:DAYLIGHT
BEGIN:STANDARD
TZOFFSETFROM:-0700
TZOFFSETTO:-0800
TZNAME:PST
DTSTART:20171105T090000
END:STANDARD
BEGIN:DAYLIGHT
TZOFFSETFROM:-0800
TZOFFSETTO:-0700
TZNAME:PDT
DTSTART:20180311T100000
END:DAYLIGHT
BEGIN:STANDARD
TZOFFSETFROM:-0700
TZOFFSETTO:-0800
TZNAME:PST
DTSTART:20181104T090000
END:STANDARD
BEGIN:DAYLIGHT
TZOFFSETFROM:-0800
TZOFFSETTO:-0700
TZNAME:PDT
DTSTART:20190310T100000
END:DAYLIGHT
BEGIN:STANDARD
TZOFFSETFROM:-0700
TZOFFSETTO:-0800
TZNAME:PST
DTSTART:20191103T090000
END:STANDARD
END:VTIMEZONE
BEGIN:VEVENT
DTSTART;VALUE=DATE:20180602
DTEND;VALUE=DATE:20180603
DTSTAMP:20260423T092220
CREATED:20180317T030830Z
LAST-MODIFIED:20191202T164128Z
UID:11548-1527897600-1527983999@www.friendsofmttam.org
SUMMARY:9:30 Hike from Rock Spring parking lot.  "West Point Inn and California State Rock" with docent Pat Ernsberger
DESCRIPTION:Saturday\, June 2 @9:30am from Rock Spring parking lot. “West Point Inn and California State Rock“ with docent Pat Ernsberger —We will have a loop hike along Rock Spring trail\, Old Stage\,and Bootjack or Easy Grade back. We will show and talk about our state rock – the lovely serpentine rock featured in some of the most dramatic landscapes on the mountain. Regular
URL:https://www.friendsofmttam.org/event/930-hike-from-rock-spring-parking-lot-west-point-inn-and-california-state-rock-with-docent-pat-ernsberger/
CATEGORIES:Hike
END:VEVENT
BEGIN:VEVENT
DTSTART;VALUE=DATE:20180602
DTEND;VALUE=DATE:20180603
DTSTAMP:20260423T092220
CREATED:20180317T030831Z
LAST-MODIFIED:20191202T164128Z
UID:11549-1527897600-1527983999@www.friendsofmttam.org
SUMMARY:9:30am Hike from Pantoll:  "Shinrin-Yoku" with docent Nancy Benjamin
DESCRIPTION:Saturday\, June 2 @9:30am from Pantoll trailhead. “Shinrin-Yoku “ with docent Nancy Benjamin —What is Shinrin-Yoku? First developed in Japan\, learn more about the practice and healing benefits of “forest bathing” to engage your senses with a gentle\, guided hike to the Mountain Theatre. Please pack a brimmed hat\, a small towel or mat for sitting\, and water. This walk is offered in collaboration with the Healthy Parks Healthy People Bay Area program. Easy
URL:https://www.friendsofmttam.org/event/930am-hike-from-pantoll-shinrin-yoku-with-docent-nancy-benjamin/
CATEGORIES:Hike
END:VEVENT
END:VCALENDAR