BEGIN:VCALENDAR
VERSION:2.0
PRODID:-//Friends of Mt Tam - ECPv6.15.18//NONSGML v1.0//EN
CALSCALE:GREGORIAN
METHOD:PUBLISH
X-WR-CALNAME:Friends of Mt Tam
X-ORIGINAL-URL:https://www.friendsofmttam.org
X-WR-CALDESC:Events for Friends of Mt Tam
REFRESH-INTERVAL;VALUE=DURATION:PT1H
X-Robots-Tag:noindex
X-PUBLISHED-TTL:PT1H
BEGIN:VTIMEZONE
TZID:America/Los_Angeles
BEGIN:DAYLIGHT
TZOFFSETFROM:-0800
TZOFFSETTO:-0700
TZNAME:PDT
DTSTART:20170312T100000
END:DAYLIGHT
BEGIN:STANDARD
TZOFFSETFROM:-0700
TZOFFSETTO:-0800
TZNAME:PST
DTSTART:20171105T090000
END:STANDARD
BEGIN:DAYLIGHT
TZOFFSETFROM:-0800
TZOFFSETTO:-0700
TZNAME:PDT
DTSTART:20180311T100000
END:DAYLIGHT
BEGIN:STANDARD
TZOFFSETFROM:-0700
TZOFFSETTO:-0800
TZNAME:PST
DTSTART:20181104T090000
END:STANDARD
BEGIN:DAYLIGHT
TZOFFSETFROM:-0800
TZOFFSETTO:-0700
TZNAME:PDT
DTSTART:20190310T100000
END:DAYLIGHT
BEGIN:STANDARD
TZOFFSETFROM:-0700
TZOFFSETTO:-0800
TZNAME:PST
DTSTART:20191103T090000
END:STANDARD
END:VTIMEZONE
BEGIN:VEVENT
DTSTART;VALUE=DATE:20180613
DTEND;VALUE=DATE:20180614
DTSTAMP:20260423T104820
CREATED:20180317T032440Z
LAST-MODIFIED:20191202T164129Z
UID:11556-1528848000-1528934399@www.friendsofmttam.org
SUMMARY:6pm Hike from Mt Home parking lot.  "West Point Inn" with docent Franklin Young
DESCRIPTION:Evening Hike! Wednesday\, June 13 @6pm from Mt Home parking lot. “West Point Inn“ with docent Franklin Young —Hike up to West Point Inn and talk about its name and its history. We’ll take the Railroad grade back to Mt Home Regular
URL:https://www.friendsofmttam.org/event/6pm-hike-from-mt-home-parking-lot-west-point-inn-with-docent-franklin-young/
CATEGORIES:Hike
END:VEVENT
END:VCALENDAR