BEGIN:VCALENDAR
VERSION:2.0
PRODID:-//Friends of Mt Tam - ECPv6.15.18//NONSGML v1.0//EN
CALSCALE:GREGORIAN
METHOD:PUBLISH
X-WR-CALNAME:Friends of Mt Tam
X-ORIGINAL-URL:https://www.friendsofmttam.org
X-WR-CALDESC:Events for Friends of Mt Tam
REFRESH-INTERVAL;VALUE=DURATION:PT1H
X-Robots-Tag:noindex
X-PUBLISHED-TTL:PT1H
BEGIN:VTIMEZONE
TZID:America/Los_Angeles
BEGIN:DAYLIGHT
TZOFFSETFROM:-0800
TZOFFSETTO:-0700
TZNAME:PDT
DTSTART:20170312T100000
END:DAYLIGHT
BEGIN:STANDARD
TZOFFSETFROM:-0700
TZOFFSETTO:-0800
TZNAME:PST
DTSTART:20171105T090000
END:STANDARD
BEGIN:DAYLIGHT
TZOFFSETFROM:-0800
TZOFFSETTO:-0700
TZNAME:PDT
DTSTART:20180311T100000
END:DAYLIGHT
BEGIN:STANDARD
TZOFFSETFROM:-0700
TZOFFSETTO:-0800
TZNAME:PST
DTSTART:20181104T090000
END:STANDARD
BEGIN:DAYLIGHT
TZOFFSETFROM:-0800
TZOFFSETTO:-0700
TZNAME:PDT
DTSTART:20190310T100000
END:DAYLIGHT
BEGIN:STANDARD
TZOFFSETFROM:-0700
TZOFFSETTO:-0800
TZNAME:PST
DTSTART:20191103T090000
END:STANDARD
END:VTIMEZONE
BEGIN:VEVENT
DTSTART;VALUE=DATE:20180616
DTEND;VALUE=DATE:20180617
DTSTAMP:20260423T104813
CREATED:20180317T032441Z
LAST-MODIFIED:20191202T164129Z
UID:11557-1529107200-1529193599@www.friendsofmttam.org
SUMMARY:9:30am Hike from Bootjack trailhead.  "Muir Woods" with docent Franklin Young
DESCRIPTION:Saturday\, June 16 @9:30am from Bootjack trailhead. “Muir Woods“ with docent Franklin Young —Hike down to Muir Woods and talk about historical events that have occurred in this special setting. Moderate
URL:https://www.friendsofmttam.org/event/930am-hike-from-bootjack-trailhead-muir-woods-with-docent-franklin-young/
CATEGORIES:Hike
END:VEVENT
BEGIN:VEVENT
DTSTART;TZID=America/Los_Angeles:20180616T200000
DTEND;TZID=America/Los_Angeles:20180616T223000
DTSTAMP:20260423T104813
CREATED:20180408T005107Z
LAST-MODIFIED:20190516T001919Z
UID:11983-1529179200-1529188200@www.friendsofmttam.org
SUMMARY:CANCELLED - Astronomy Night - MISSION: MARS - Pascal Lee
DESCRIPTION:Jun 16\, 8:00pm — MISSION: MARS \nPascal Lee\, Planetary Scientist\, Mars& SETI InstitutesWe are making progress globally — from the Arctic to Antarctica\, from basementlabs to the International Space Station — to achieve the first humanvoyage to Mars. Come explore the what\, why\, how\, when\, and who of ourfirst journey to the Red Planet. \nParking Pass Required! Visit   http://www.friendsofmttam.org/astronomy.htmlfor directions\, parking and parking passes.
URL:https://www.friendsofmttam.org/event/astronomy-night-mission-mars-pascal-lee/
LOCATION:Cushing Memorial Amphitheater\, Mill Valley\, CA 94941\, USA\, 2 Cushing Dr\, United States
CATEGORIES:Astronomy
END:VEVENT
END:VCALENDAR