BEGIN:VCALENDAR
VERSION:2.0
PRODID:-//Friends of Mt Tam - ECPv6.15.18//NONSGML v1.0//EN
CALSCALE:GREGORIAN
METHOD:PUBLISH
X-ORIGINAL-URL:https://www.friendsofmttam.org
X-WR-CALDESC:Events for Friends of Mt Tam
REFRESH-INTERVAL;VALUE=DURATION:PT1H
X-Robots-Tag:noindex
X-PUBLISHED-TTL:PT1H
BEGIN:VTIMEZONE
TZID:America/Los_Angeles
BEGIN:DAYLIGHT
TZOFFSETFROM:-0800
TZOFFSETTO:-0700
TZNAME:PDT
DTSTART:20170312T100000
END:DAYLIGHT
BEGIN:STANDARD
TZOFFSETFROM:-0700
TZOFFSETTO:-0800
TZNAME:PST
DTSTART:20171105T090000
END:STANDARD
BEGIN:DAYLIGHT
TZOFFSETFROM:-0800
TZOFFSETTO:-0700
TZNAME:PDT
DTSTART:20180311T100000
END:DAYLIGHT
BEGIN:STANDARD
TZOFFSETFROM:-0700
TZOFFSETTO:-0800
TZNAME:PST
DTSTART:20181104T090000
END:STANDARD
BEGIN:DAYLIGHT
TZOFFSETFROM:-0800
TZOFFSETTO:-0700
TZNAME:PDT
DTSTART:20190310T100000
END:DAYLIGHT
BEGIN:STANDARD
TZOFFSETFROM:-0700
TZOFFSETTO:-0800
TZNAME:PST
DTSTART:20191103T090000
END:STANDARD
END:VTIMEZONE
BEGIN:VEVENT
DTSTART;VALUE=DATE:20180617
DTEND;VALUE=DATE:20180618
DTSTAMP:20260423T104841
CREATED:20180317T032441Z
LAST-MODIFIED:20191202T164129Z
UID:11558-1529193600-1529279999@www.friendsofmttam.org
SUMMARY:9:30am Hike from Mt Home parking lot.  "Mountain Views" with docent Tom Dewey
DESCRIPTION:Sunday\, June 17 @9:30am from Mt Home parking lot. “Mountain Views“ with docent Tom Dewey —Hike to the top of Mt Tam with views of San Francisco\, Mt Diablo and the Pacific Ocean along the way Moderate
URL:https://www.friendsofmttam.org/event/930am-hike-from-mt-home-parking-lot-mountain-views-with-docent-tom-dewey/
CATEGORIES:Hike
END:VEVENT
BEGIN:VEVENT
DTSTART;VALUE=DATE:20180617
DTEND;VALUE=DATE:20180618
DTSTAMP:20260423T104841
CREATED:20190504T053531Z
LAST-MODIFIED:20190510T194342Z
UID:37297-1529193600-1529279999@www.friendsofmttam.org
SUMMARY:VC - Tom Brookshire
DESCRIPTION:
URL:https://www.friendsofmttam.org/event/vc-tom-brookshire-2/
CATEGORIES:Visitor Center
END:VEVENT
END:VCALENDAR