BEGIN:VCALENDAR
VERSION:2.0
PRODID:-//Friends of Mt Tam - ECPv6.15.18//NONSGML v1.0//EN
CALSCALE:GREGORIAN
METHOD:PUBLISH
X-ORIGINAL-URL:https://www.friendsofmttam.org
X-WR-CALDESC:Events for Friends of Mt Tam
REFRESH-INTERVAL;VALUE=DURATION:PT1H
X-Robots-Tag:noindex
X-PUBLISHED-TTL:PT1H
BEGIN:VTIMEZONE
TZID:America/Los_Angeles
BEGIN:DAYLIGHT
TZOFFSETFROM:-0800
TZOFFSETTO:-0700
TZNAME:PDT
DTSTART:20170312T100000
END:DAYLIGHT
BEGIN:STANDARD
TZOFFSETFROM:-0700
TZOFFSETTO:-0800
TZNAME:PST
DTSTART:20171105T090000
END:STANDARD
BEGIN:DAYLIGHT
TZOFFSETFROM:-0800
TZOFFSETTO:-0700
TZNAME:PDT
DTSTART:20180311T100000
END:DAYLIGHT
BEGIN:STANDARD
TZOFFSETFROM:-0700
TZOFFSETTO:-0800
TZNAME:PST
DTSTART:20181104T090000
END:STANDARD
BEGIN:DAYLIGHT
TZOFFSETFROM:-0800
TZOFFSETTO:-0700
TZNAME:PDT
DTSTART:20190310T100000
END:DAYLIGHT
BEGIN:STANDARD
TZOFFSETFROM:-0700
TZOFFSETTO:-0800
TZNAME:PST
DTSTART:20191103T090000
END:STANDARD
END:VTIMEZONE
BEGIN:VEVENT
DTSTART;VALUE=DATE:20180704
DTEND;VALUE=DATE:20180705
DTSTAMP:20260423T121122
CREATED:20180627T000027Z
LAST-MODIFIED:20191202T164130Z
UID:14488-1530662400-1530748799@www.friendsofmttam.org
SUMMARY:6:00 PM Evening Hike -Easy-Pantoll #9 - Mindfulness in Nature Led by Alexandra Jurasin
DESCRIPTION:Explore your senses in nature while being guided through mindfulness practices. Finish the hike feeling like you’ve just had a cleansing shower for your mind. Wednesday evening hikes last 2 to 3 hours with a 15 minute break.
URL:https://www.friendsofmttam.org/event/600-pm-evening-hike-easy-pantoll-9-mindfulness-in-nature-led-by-alexandra-jurasin/
LOCATION:Pantoll #9\, Mt Tamalpais
CATEGORIES:Hike
END:VEVENT
BEGIN:VEVENT
DTSTART;VALUE=DATE:20180704
DTEND;VALUE=DATE:20180705
DTSTAMP:20260423T121122
CREATED:20180627T000027Z
LAST-MODIFIED:20191202T164130Z
UID:14489-1530662400-1530748799@www.friendsofmttam.org
SUMMARY:9:30 AM Holiday Hike -Easy-Pantoll #9 - Birds Led by Joan Lamphier
DESCRIPTION:We will look at how birds use different habitats in different ways
URL:https://www.friendsofmttam.org/event/930-am-holiday-hike-easy-pantoll-9-birds-led-by-joan-lamphier/
LOCATION:Pantoll #9\, Mt Tamalpais
CATEGORIES:Hike
END:VEVENT
BEGIN:VEVENT
DTSTART;VALUE=DATE:20180704
DTEND;VALUE=DATE:20180705
DTSTAMP:20260423T121122
CREATED:20190504T053532Z
LAST-MODIFIED:20190510T194342Z
UID:37301-1530662400-1530748799@www.friendsofmttam.org
SUMMARY:VC  Rosanna Petralia
DESCRIPTION:
URL:https://www.friendsofmttam.org/event/vc-rosanna-petralia/
CATEGORIES:Visitor Center
END:VEVENT
END:VCALENDAR