BEGIN:VCALENDAR
VERSION:2.0
PRODID:-//Friends of Mt Tam - ECPv6.15.18//NONSGML v1.0//EN
CALSCALE:GREGORIAN
METHOD:PUBLISH
X-ORIGINAL-URL:https://www.friendsofmttam.org
X-WR-CALDESC:Events for Friends of Mt Tam
REFRESH-INTERVAL;VALUE=DURATION:PT1H
X-Robots-Tag:noindex
X-PUBLISHED-TTL:PT1H
BEGIN:VTIMEZONE
TZID:America/Los_Angeles
BEGIN:DAYLIGHT
TZOFFSETFROM:-0800
TZOFFSETTO:-0700
TZNAME:PDT
DTSTART:20170312T100000
END:DAYLIGHT
BEGIN:STANDARD
TZOFFSETFROM:-0700
TZOFFSETTO:-0800
TZNAME:PST
DTSTART:20171105T090000
END:STANDARD
BEGIN:DAYLIGHT
TZOFFSETFROM:-0800
TZOFFSETTO:-0700
TZNAME:PDT
DTSTART:20180311T100000
END:DAYLIGHT
BEGIN:STANDARD
TZOFFSETFROM:-0700
TZOFFSETTO:-0800
TZNAME:PST
DTSTART:20181104T090000
END:STANDARD
BEGIN:DAYLIGHT
TZOFFSETFROM:-0800
TZOFFSETTO:-0700
TZNAME:PDT
DTSTART:20190310T100000
END:DAYLIGHT
BEGIN:STANDARD
TZOFFSETFROM:-0700
TZOFFSETTO:-0800
TZNAME:PST
DTSTART:20191103T090000
END:STANDARD
END:VTIMEZONE
BEGIN:VEVENT
DTSTART;VALUE=DATE:20180711
DTEND;VALUE=DATE:20180712
DTSTAMP:20260423T121205
CREATED:20180627T000030Z
LAST-MODIFIED:20191202T164131Z
UID:14491-1531267200-1531353599@www.friendsofmttam.org
SUMMARY:6:00 PM Evening Hike -Regular-Mt Home #11 - Redwoods Led by Sue Karp
DESCRIPTION:Enjoy beautiful views from the Sun Trail. Descend into Muir Woods.  Immerse yourself in the quiet of the evening as we stroll through the magnificent giants. Wednesday evening hikes last 2 to 3 hours with a 15 minute break.
URL:https://www.friendsofmttam.org/event/600-pm-evening-hike-regular-mt-home-11-redwoods-led-by-sue-karp/
LOCATION:Mt Home #11\, Mt Tamalpais
CATEGORIES:Hike
END:VEVENT
END:VCALENDAR