BEGIN:VCALENDAR
VERSION:2.0
PRODID:-//Friends of Mt Tam - ECPv6.15.18//NONSGML v1.0//EN
CALSCALE:GREGORIAN
METHOD:PUBLISH
X-ORIGINAL-URL:https://www.friendsofmttam.org
X-WR-CALDESC:Events for Friends of Mt Tam
REFRESH-INTERVAL;VALUE=DURATION:PT1H
X-Robots-Tag:noindex
X-PUBLISHED-TTL:PT1H
BEGIN:VTIMEZONE
TZID:America/Los_Angeles
BEGIN:DAYLIGHT
TZOFFSETFROM:-0800
TZOFFSETTO:-0700
TZNAME:PDT
DTSTART:20170312T100000
END:DAYLIGHT
BEGIN:STANDARD
TZOFFSETFROM:-0700
TZOFFSETTO:-0800
TZNAME:PST
DTSTART:20171105T090000
END:STANDARD
BEGIN:DAYLIGHT
TZOFFSETFROM:-0800
TZOFFSETTO:-0700
TZNAME:PDT
DTSTART:20180311T100000
END:DAYLIGHT
BEGIN:STANDARD
TZOFFSETFROM:-0700
TZOFFSETTO:-0800
TZNAME:PST
DTSTART:20181104T090000
END:STANDARD
BEGIN:DAYLIGHT
TZOFFSETFROM:-0800
TZOFFSETTO:-0700
TZNAME:PDT
DTSTART:20190310T100000
END:DAYLIGHT
BEGIN:STANDARD
TZOFFSETFROM:-0700
TZOFFSETTO:-0800
TZNAME:PST
DTSTART:20191103T090000
END:STANDARD
END:VTIMEZONE
BEGIN:VEVENT
DTSTART;TZID=America/Los_Angeles:20180714T200000
DTEND;TZID=America/Los_Angeles:20180714T223000
DTSTAMP:20260423T121206
CREATED:20180408T005107Z
LAST-MODIFIED:20190516T001919Z
UID:11984-1531598400-1531607400@www.friendsofmttam.org
SUMMARY:Astronomy Night - Search for a Second Genesis of Life: Motive\, Means\, and Opportunity - Alfonso Davila
DESCRIPTION:Jul 14\, 8:00pm — Search for a Second Genesis of Life: Motive\, Means\, and Opportunity \nAlfonso Davila\,  Research Astronomer\, NASA Ames Research Center \nUnderstanding the concept of a second genesis and how to search for it. With the recent discovery of habitable environments beyond Earth\, including the subsurface oceans of icy moons in the outer Solar System\, the existence of a second genesis of life appears now both possible and realistic.  \n \n \nParking Pass Required! Visit  http://www.friendsofmttam.org/astronomy.htmlfor directions\, parking and parking passes.
URL:https://www.friendsofmttam.org/event/astronomy-night-life-in-the-goldilocks-zone-natalie-batalha/
LOCATION:Cushing Memorial Amphitheater\, Mill Valley\, CA 94941\, USA\, 2 Cushing Dr\, United States
CATEGORIES:Astronomy
END:VEVENT
END:VCALENDAR