BEGIN:VCALENDAR
VERSION:2.0
PRODID:-//Friends of Mt Tam - ECPv6.15.18//NONSGML v1.0//EN
CALSCALE:GREGORIAN
METHOD:PUBLISH
X-ORIGINAL-URL:https://www.friendsofmttam.org
X-WR-CALDESC:Events for Friends of Mt Tam
REFRESH-INTERVAL;VALUE=DURATION:PT1H
X-Robots-Tag:noindex
X-PUBLISHED-TTL:PT1H
BEGIN:VTIMEZONE
TZID:America/Los_Angeles
BEGIN:DAYLIGHT
TZOFFSETFROM:-0800
TZOFFSETTO:-0700
TZNAME:PDT
DTSTART:20170312T100000
END:DAYLIGHT
BEGIN:STANDARD
TZOFFSETFROM:-0700
TZOFFSETTO:-0800
TZNAME:PST
DTSTART:20171105T090000
END:STANDARD
BEGIN:DAYLIGHT
TZOFFSETFROM:-0800
TZOFFSETTO:-0700
TZNAME:PDT
DTSTART:20180311T100000
END:DAYLIGHT
BEGIN:STANDARD
TZOFFSETFROM:-0700
TZOFFSETTO:-0800
TZNAME:PST
DTSTART:20181104T090000
END:STANDARD
BEGIN:DAYLIGHT
TZOFFSETFROM:-0800
TZOFFSETTO:-0700
TZNAME:PDT
DTSTART:20190310T100000
END:DAYLIGHT
BEGIN:STANDARD
TZOFFSETFROM:-0700
TZOFFSETTO:-0800
TZNAME:PST
DTSTART:20191103T090000
END:STANDARD
END:VTIMEZONE
BEGIN:VEVENT
DTSTART;VALUE=DATE:20180805
DTEND;VALUE=DATE:20180806
DTSTAMP:20260423T133623
CREATED:20170813T215642Z
LAST-MODIFIED:20190510T194342Z
UID:9014-1533427200-1533513599@www.friendsofmttam.org
SUMMARY:11-4 Visitor Center Shirley Beers/Lillian Lessler
DESCRIPTION:
URL:https://www.friendsofmttam.org/event/11-4-visitor-center-shirley-beerslillian-lessler-16/
CATEGORIES:Visitor Center
END:VEVENT
BEGIN:VEVENT
DTSTART;TZID=America/Los_Angeles:20180805T103900
DTEND;TZID=America/Los_Angeles:20180805T115600
DTSTAMP:20260423T133623
CREATED:20180726T200459Z
LAST-MODIFIED:20190516T001920Z
UID:15508-1533465540-1533470160@www.friendsofmttam.org
SUMMARY:Flight
DESCRIPTION:Confirmation Code: OMRDLO \nAnne Elisabeth Komer\nSeat: 17A\nTicket: 2792102115734\nFrequent Flyer: B6 2042461806 \nLars Drew Jensen\nSeat: 17B\nTicket: 2792102115735\nFrequent Flyer: B6 2043238045
URL:https://www.friendsofmttam.org/event/flight/
CATEGORIES:Astronomy
END:VEVENT
BEGIN:VEVENT
DTSTART;TZID=America/Los_Angeles:20180805T131500
DTEND;TZID=America/Los_Angeles:20180805T200000
DTSTAMP:20260423T133623
CREATED:20180726T200502Z
LAST-MODIFIED:20190516T001920Z
UID:15510-1533474900-1533499200@www.friendsofmttam.org
SUMMARY:Flight
DESCRIPTION:Confirmation Code: OMRDLO \nAnne Elisabeth Komer\nSeat: 16D\nTicket: 2792102115734\nFrequent Flyer: B6 2042461806 \nLars Drew Jensen\nSeat: 16F\nTicket: 2792102115735\nFrequent Flyer: B6 2043238045
URL:https://www.friendsofmttam.org/event/flight-2/
CATEGORIES:Astronomy
END:VEVENT
END:VCALENDAR