BEGIN:VCALENDAR
VERSION:2.0
PRODID:-//Friends of Mt Tam - ECPv6.15.18//NONSGML v1.0//EN
CALSCALE:GREGORIAN
METHOD:PUBLISH
X-WR-CALNAME:Friends of Mt Tam
X-ORIGINAL-URL:https://www.friendsofmttam.org
X-WR-CALDESC:Events for Friends of Mt Tam
REFRESH-INTERVAL;VALUE=DURATION:PT1H
X-Robots-Tag:noindex
X-PUBLISHED-TTL:PT1H
BEGIN:VTIMEZONE
TZID:America/Los_Angeles
BEGIN:DAYLIGHT
TZOFFSETFROM:-0800
TZOFFSETTO:-0700
TZNAME:PDT
DTSTART:20170312T100000
END:DAYLIGHT
BEGIN:STANDARD
TZOFFSETFROM:-0700
TZOFFSETTO:-0800
TZNAME:PST
DTSTART:20171105T090000
END:STANDARD
BEGIN:DAYLIGHT
TZOFFSETFROM:-0800
TZOFFSETTO:-0700
TZNAME:PDT
DTSTART:20180311T100000
END:DAYLIGHT
BEGIN:STANDARD
TZOFFSETFROM:-0700
TZOFFSETTO:-0800
TZNAME:PST
DTSTART:20181104T090000
END:STANDARD
BEGIN:DAYLIGHT
TZOFFSETFROM:-0800
TZOFFSETTO:-0700
TZNAME:PDT
DTSTART:20190310T100000
END:DAYLIGHT
BEGIN:STANDARD
TZOFFSETFROM:-0700
TZOFFSETTO:-0800
TZNAME:PST
DTSTART:20191103T090000
END:STANDARD
END:VTIMEZONE
BEGIN:VEVENT
DTSTART;VALUE=DATE:20180819
DTEND;VALUE=DATE:20180820
DTSTAMP:20260423T133536
CREATED:20180627T000118Z
LAST-MODIFIED:20191202T164133Z
UID:14505-1534636800-1534723199@www.friendsofmttam.org
SUMMARY:9:30 AM Sunday Hike -Moderate-Pantoll #9 - Bolinas Ridge View Led by Lori Febbo
DESCRIPTION:Enjoy some of the most beautiful views on Mt Tam\, on a hike inspired by the landscapes of local artist Tom Killion. The hike will be regular moderately paced\, about 5 to 7 miles with up to 1\,500 feet elevation gain.
URL:https://www.friendsofmttam.org/event/930-am-sunday-hike-moderate-pantoll-9-bolinas-ridge-view-led-by-lori-febbo/
LOCATION:Pantoll #9\, Mt Tamalpais
CATEGORIES:Hike
END:VEVENT
BEGIN:VEVENT
DTSTART;VALUE=DATE:20180819
DTEND;VALUE=DATE:20180820
DTSTAMP:20260423T133536
CREATED:20190504T053532Z
LAST-MODIFIED:20190510T194342Z
UID:37303-1534636800-1534723199@www.friendsofmttam.org
SUMMARY:VC - Tom Brookshire
DESCRIPTION:
URL:https://www.friendsofmttam.org/event/vc-tom-brookshire-4/
CATEGORIES:Visitor Center
END:VEVENT
END:VCALENDAR