BEGIN:VCALENDAR
VERSION:2.0
PRODID:-//Friends of Mt Tam - ECPv6.15.18//NONSGML v1.0//EN
CALSCALE:GREGORIAN
METHOD:PUBLISH
X-WR-CALNAME:Friends of Mt Tam
X-ORIGINAL-URL:https://www.friendsofmttam.org
X-WR-CALDESC:Events for Friends of Mt Tam
REFRESH-INTERVAL;VALUE=DURATION:PT1H
X-Robots-Tag:noindex
X-PUBLISHED-TTL:PT1H
BEGIN:VTIMEZONE
TZID:America/Los_Angeles
BEGIN:DAYLIGHT
TZOFFSETFROM:-0800
TZOFFSETTO:-0700
TZNAME:PDT
DTSTART:20170312T100000
END:DAYLIGHT
BEGIN:STANDARD
TZOFFSETFROM:-0700
TZOFFSETTO:-0800
TZNAME:PST
DTSTART:20171105T090000
END:STANDARD
BEGIN:DAYLIGHT
TZOFFSETFROM:-0800
TZOFFSETTO:-0700
TZNAME:PDT
DTSTART:20180311T100000
END:DAYLIGHT
BEGIN:STANDARD
TZOFFSETFROM:-0700
TZOFFSETTO:-0800
TZNAME:PST
DTSTART:20181104T090000
END:STANDARD
BEGIN:DAYLIGHT
TZOFFSETFROM:-0800
TZOFFSETTO:-0700
TZNAME:PDT
DTSTART:20190310T100000
END:DAYLIGHT
BEGIN:STANDARD
TZOFFSETFROM:-0700
TZOFFSETTO:-0800
TZNAME:PST
DTSTART:20191103T090000
END:STANDARD
END:VTIMEZONE
BEGIN:VEVENT
DTSTART;VALUE=DATE:20180902
DTEND;VALUE=DATE:20180903
DTSTAMP:20260423T144403
CREATED:20170813T215642Z
LAST-MODIFIED:20190510T194342Z
UID:9015-1535846400-1535932799@www.friendsofmttam.org
SUMMARY:11-4 Visitor Center Shirley Beers/Lillian Lessler
DESCRIPTION:
URL:https://www.friendsofmttam.org/event/11-4-visitor-center-shirley-beerslillian-lessler-17/
CATEGORIES:Visitor Center
END:VEVENT
BEGIN:VEVENT
DTSTART;VALUE=DATE:20180902
DTEND;VALUE=DATE:20180903
DTSTAMP:20260423T144403
CREATED:20180802T203142Z
LAST-MODIFIED:20191202T164134Z
UID:15646-1535846400-1535932799@www.friendsofmttam.org
SUMMARY:HIKE: Rosalind Gottfried
DESCRIPTION:Sunday\, Sept 2 @9:30am “Sounds and Silence in Nature” from Stinson Beach with docent Rosalind Gottfried.\nMeeting point: Stinson Beach parking lot. Leading docent will have a sign on the roof of her car that say “Hike open to the public.”\nGreat workout and opportunity to see different habitats on Mt Tam\, from redwoods to oak woodland\, coastal scrub and grassland. There will be the opportunity to meditate on nature and practice walk for five minutes in silence among the redwoods.  \nDistance: 6.9 miles\nElevation Gain: 1\,788ft.\nModerate to strenuous hike. No pets allowed.
URL:https://www.friendsofmttam.org/event/hike-rosalind-gottfried/
CATEGORIES:Hike
END:VEVENT
END:VCALENDAR