BEGIN:VCALENDAR
VERSION:2.0
PRODID:-//Friends of Mt Tam - ECPv6.15.18//NONSGML v1.0//EN
CALSCALE:GREGORIAN
METHOD:PUBLISH
X-WR-CALNAME:Friends of Mt Tam
X-ORIGINAL-URL:https://www.friendsofmttam.org
X-WR-CALDESC:Events for Friends of Mt Tam
REFRESH-INTERVAL;VALUE=DURATION:PT1H
X-Robots-Tag:noindex
X-PUBLISHED-TTL:PT1H
BEGIN:VTIMEZONE
TZID:America/Los_Angeles
BEGIN:DAYLIGHT
TZOFFSETFROM:-0800
TZOFFSETTO:-0700
TZNAME:PDT
DTSTART:20170312T100000
END:DAYLIGHT
BEGIN:STANDARD
TZOFFSETFROM:-0700
TZOFFSETTO:-0800
TZNAME:PST
DTSTART:20171105T090000
END:STANDARD
BEGIN:DAYLIGHT
TZOFFSETFROM:-0800
TZOFFSETTO:-0700
TZNAME:PDT
DTSTART:20180311T100000
END:DAYLIGHT
BEGIN:STANDARD
TZOFFSETFROM:-0700
TZOFFSETTO:-0800
TZNAME:PST
DTSTART:20181104T090000
END:STANDARD
BEGIN:DAYLIGHT
TZOFFSETFROM:-0800
TZOFFSETTO:-0700
TZNAME:PDT
DTSTART:20190310T100000
END:DAYLIGHT
BEGIN:STANDARD
TZOFFSETFROM:-0700
TZOFFSETTO:-0800
TZNAME:PST
DTSTART:20191103T090000
END:STANDARD
END:VTIMEZONE
BEGIN:VEVENT
DTSTART;VALUE=DATE:20180915
DTEND;VALUE=DATE:20180916
DTSTAMP:20260423T144953
CREATED:20180627T000202Z
LAST-MODIFIED:20191202T164135Z
UID:14512-1536969600-1537055999@www.friendsofmttam.org
SUMMARY:9:30 AM Saturday Hike -Challenging-Stinson Beach #17 - Surf to Summit Led by Park Interperter Rosanna Petralia; Maria De La Fuente
DESCRIPTION:Hike Challenge – SAVE THE DATE–More info SOON!
URL:https://www.friendsofmttam.org/event/930-am-saturday-hike-challenging-stinson-beach-17-surf-to-summit-led-by-park-interperter-rosanna-petralia-maria-de-la-fuente/
LOCATION:Stinson Beach #17\, Mt Tamalpais
CATEGORIES:Hike
END:VEVENT
BEGIN:VEVENT
DTSTART;VALUE=DATE:20180915
DTEND;VALUE=DATE:20180916
DTSTAMP:20260423T144953
CREATED:20190504T053532Z
LAST-MODIFIED:20190510T194343Z
UID:37304-1536969600-1537055999@www.friendsofmttam.org
SUMMARY:VC - Janet Friedman
DESCRIPTION:
URL:https://www.friendsofmttam.org/event/vc-janet-friedman-5/
CATEGORIES:Visitor Center
END:VEVENT
BEGIN:VEVENT
DTSTART;TZID=America/Los_Angeles:20180915T193000
DTEND;TZID=America/Los_Angeles:20180915T221500
DTSTAMP:20260423T144953
CREATED:20180408T005112Z
LAST-MODIFIED:20190516T001920Z
UID:11987-1537039800-1537049700@www.friendsofmttam.org
SUMMARY:Astronomy Night - Searching for Aliens\, Finding Ourselves - Jill Tarter
DESCRIPTION:Sep 15\, 7:30pm — Searching for Aliens\, Finding Ourselves \nJill Tarter\, Research Chair\, SETIInstituteAre we alone? Humans have been asking this question throughout history. Sincethe middle of the 20th century\, we have had tools that permit us to explorethis question scientifically. As we look up and look out\, we are forced to seeourselves from a cosmic perspective. This perspective is fundamental to findinga way to sustain life on Earth for the long future. \n \nParkingPass Required! Visit   http://www.friendsofmttam.org/astronomy.htmlfor directions\, parking and parking passes.
URL:https://www.friendsofmttam.org/event/astronomy-night-searching-for-aliens-finding-ourselves-jill-tarter/
LOCATION:Cushing Memorial Amphitheater\, Mill Valley\, CA 94941\, USA\, 2 Cushing Dr\, United States
CATEGORIES:Astronomy
END:VEVENT
END:VCALENDAR