BEGIN:VCALENDAR
VERSION:2.0
PRODID:-//Friends of Mt Tam - ECPv6.15.18//NONSGML v1.0//EN
CALSCALE:GREGORIAN
METHOD:PUBLISH
X-WR-CALNAME:Friends of Mt Tam
X-ORIGINAL-URL:https://www.friendsofmttam.org
X-WR-CALDESC:Events for Friends of Mt Tam
REFRESH-INTERVAL;VALUE=DURATION:PT1H
X-Robots-Tag:noindex
X-PUBLISHED-TTL:PT1H
BEGIN:VTIMEZONE
TZID:America/Los_Angeles
BEGIN:DAYLIGHT
TZOFFSETFROM:-0800
TZOFFSETTO:-0700
TZNAME:PDT
DTSTART:20170312T100000
END:DAYLIGHT
BEGIN:STANDARD
TZOFFSETFROM:-0700
TZOFFSETTO:-0800
TZNAME:PST
DTSTART:20171105T090000
END:STANDARD
BEGIN:DAYLIGHT
TZOFFSETFROM:-0800
TZOFFSETTO:-0700
TZNAME:PDT
DTSTART:20180311T100000
END:DAYLIGHT
BEGIN:STANDARD
TZOFFSETFROM:-0700
TZOFFSETTO:-0800
TZNAME:PST
DTSTART:20181104T090000
END:STANDARD
BEGIN:DAYLIGHT
TZOFFSETFROM:-0800
TZOFFSETTO:-0700
TZNAME:PDT
DTSTART:20190310T100000
END:DAYLIGHT
BEGIN:STANDARD
TZOFFSETFROM:-0700
TZOFFSETTO:-0800
TZNAME:PST
DTSTART:20191103T090000
END:STANDARD
END:VTIMEZONE
BEGIN:VEVENT
DTSTART;VALUE=DATE:20181007
DTEND;VALUE=DATE:20181008
DTSTAMP:20260423T160336
CREATED:20170813T215642Z
LAST-MODIFIED:20180131T225143Z
UID:9016-1538870400-1538956799@www.friendsofmttam.org
SUMMARY:11-4 Visitor Center Shirley Beers/Lillian Lessler
DESCRIPTION:
URL:https://www.friendsofmttam.org/event/11-4-visitor-center-shirley-beerslillian-lessler-18/
CATEGORIES:Visitor Center
END:VEVENT
BEGIN:VEVENT
DTSTART;VALUE=DATE:20181007
DTEND;VALUE=DATE:20181008
DTSTAMP:20260423T160336
CREATED:20181008T235130Z
LAST-MODIFIED:20191202T164137Z
UID:29203-1538870400-1538956799@www.friendsofmttam.org
SUMMARY:CANCELLED - 9:30AM Hike -Moderate-Rock Spring #4 - "Health and Happiness " Led by Tracy Stuart
DESCRIPTION:Enjoy your endorphin high and share it with other hikers while exploring a landscape of Ferns\, Sargent cypress trees\, Serpentine Rock\, Douglas Fir and Free flowing creeks. Two dogs per hike\, allowed with permits. Email to obtain a permit. Distance: 5.8 miles. Elevation gain: 1\,044 ft. This will be a moderate hike and will take about 4 1/2 hours. Moderate.
URL:https://www.friendsofmttam.org/event/cancelled-930am-hike-moderate-rock-spring-4-health-and-happiness-led-by-tracy-stuart/
LOCATION:Rock Spring #4\, Mt Tamalpais
CATEGORIES:Hike
END:VEVENT
END:VCALENDAR