BEGIN:VCALENDAR
VERSION:2.0
PRODID:-//Friends of Mt Tam - ECPv6.15.18//NONSGML v1.0//EN
CALSCALE:GREGORIAN
METHOD:PUBLISH
X-WR-CALNAME:Friends of Mt Tam
X-ORIGINAL-URL:https://www.friendsofmttam.org
X-WR-CALDESC:Events for Friends of Mt Tam
REFRESH-INTERVAL;VALUE=DURATION:PT1H
X-Robots-Tag:noindex
X-PUBLISHED-TTL:PT1H
BEGIN:VTIMEZONE
TZID:America/Los_Angeles
BEGIN:DAYLIGHT
TZOFFSETFROM:-0800
TZOFFSETTO:-0700
TZNAME:PDT
DTSTART:20170312T100000
END:DAYLIGHT
BEGIN:STANDARD
TZOFFSETFROM:-0700
TZOFFSETTO:-0800
TZNAME:PST
DTSTART:20171105T090000
END:STANDARD
BEGIN:DAYLIGHT
TZOFFSETFROM:-0800
TZOFFSETTO:-0700
TZNAME:PDT
DTSTART:20180311T100000
END:DAYLIGHT
BEGIN:STANDARD
TZOFFSETFROM:-0700
TZOFFSETTO:-0800
TZNAME:PST
DTSTART:20181104T090000
END:STANDARD
BEGIN:DAYLIGHT
TZOFFSETFROM:-0800
TZOFFSETTO:-0700
TZNAME:PDT
DTSTART:20190310T100000
END:DAYLIGHT
BEGIN:STANDARD
TZOFFSETFROM:-0700
TZOFFSETTO:-0800
TZNAME:PST
DTSTART:20191103T090000
END:STANDARD
END:VTIMEZONE
BEGIN:VEVENT
DTSTART;VALUE=DATE:20181013
DTEND;VALUE=DATE:20181014
DTSTAMP:20260423T160335
CREATED:20181008T235130Z
LAST-MODIFIED:20191202T164137Z
UID:29204-1539388800-1539475199@www.friendsofmttam.org
SUMMARY:9:30 AM Saturday Hike -Moderate-Redwoods Led by Karen Ulring
DESCRIPTION:You will learn how Mt Tam State Park came to be and William Kent’s role in saving the towering redwoods in Muir Woods. Distance: 5.8 miles. Elevation gain: 1\,037 ft.ÿModerate.
URL:https://www.friendsofmttam.org/event/930-am-saturday-hike-moderate-redwoods-led-by-karen-ulring/
LOCATION:Mt Home #11\, Mt Tamalpais
CATEGORIES:Hike
END:VEVENT
BEGIN:VEVENT
DTSTART;TZID=America/Los_Angeles:20181013T190000
DTEND;TZID=America/Los_Angeles:20181013T221500
DTSTAMP:20260423T160335
CREATED:20180408T005112Z
LAST-MODIFIED:20190516T001921Z
UID:11988-1539457200-1539468900@www.friendsofmttam.org
SUMMARY:Astronomy Night - Gravitational Waves and the Glow of Cosmic Gold - Daniel Kasen
DESCRIPTION:Oct 13\, 7:00pm — Gravitational Waves and the Glow ofCosmic Gold \nDaniel Kasen\, Assoc. Professor ofAstronomy\, UC BerkeleyIn October 2017\, Earthlings detected gravitational waves — ripples in thefabric of space-time — from the violent merger of two ultra-dense neutronstars. The signals showed that collision debris self-assembled into heavyelements\, such as gold and platinum\, providing an explanation for the cosmicorigin of these special materials. \n \nParking Pass Required! Visit  http://www.friendsofmttam.org/astronomy.htmlfor directions\, parking and parking passes.
URL:https://www.friendsofmttam.org/event/astronomy-night-gravitational-waves-and-the-glow-of-cosmic-gold-daniel-kasen/
LOCATION:Cushing Memorial Amphitheater\, Mill Valley\, CA 94941\, USA\, 2 Cushing Dr\, United States
CATEGORIES:Astronomy
END:VEVENT
END:VCALENDAR