BEGIN:VCALENDAR
VERSION:2.0
PRODID:-//Friends of Mt Tam - ECPv6.15.18//NONSGML v1.0//EN
CALSCALE:GREGORIAN
METHOD:PUBLISH
X-WR-CALNAME:Friends of Mt Tam
X-ORIGINAL-URL:https://www.friendsofmttam.org
X-WR-CALDESC:Events for Friends of Mt Tam
REFRESH-INTERVAL;VALUE=DURATION:PT1H
X-Robots-Tag:noindex
X-PUBLISHED-TTL:PT1H
BEGIN:VTIMEZONE
TZID:America/Los_Angeles
BEGIN:DAYLIGHT
TZOFFSETFROM:-0800
TZOFFSETTO:-0700
TZNAME:PDT
DTSTART:20170312T100000
END:DAYLIGHT
BEGIN:STANDARD
TZOFFSETFROM:-0700
TZOFFSETTO:-0800
TZNAME:PST
DTSTART:20171105T090000
END:STANDARD
BEGIN:DAYLIGHT
TZOFFSETFROM:-0800
TZOFFSETTO:-0700
TZNAME:PDT
DTSTART:20180311T100000
END:DAYLIGHT
BEGIN:STANDARD
TZOFFSETFROM:-0700
TZOFFSETTO:-0800
TZNAME:PST
DTSTART:20181104T090000
END:STANDARD
BEGIN:DAYLIGHT
TZOFFSETFROM:-0800
TZOFFSETTO:-0700
TZNAME:PDT
DTSTART:20190310T100000
END:DAYLIGHT
BEGIN:STANDARD
TZOFFSETFROM:-0700
TZOFFSETTO:-0800
TZNAME:PST
DTSTART:20191103T090000
END:STANDARD
END:VTIMEZONE
BEGIN:VEVENT
DTSTART;VALUE=DATE:20181028
DTEND;VALUE=DATE:20181029
DTSTAMP:20260423T160336
CREATED:20180201T074049Z
LAST-MODIFIED:20190510T194343Z
UID:10817-1540684800-1540771199@www.friendsofmttam.org
SUMMARY:VC Shirley Beers/Lillian Lessler
DESCRIPTION:
URL:https://www.friendsofmttam.org/event/vc-shirley-beers-lillian-lessler/
CATEGORIES:Visitor Center
END:VEVENT
BEGIN:VEVENT
DTSTART;VALUE=DATE:20181028
DTEND;VALUE=DATE:20181029
DTSTAMP:20260423T160336
CREATED:20181008T235133Z
LAST-MODIFIED:20191202T164138Z
UID:29209-1540684800-1540771199@www.friendsofmttam.org
SUMMARY:CANCELLED - 11:00 AM Sunday Hike -Strenuous-Trees of Mt. Tam Led by Catherine Orland
DESCRIPTION:THIS HIKE HAS BEEN CANCELLED \nSorry for the inconvenience. \nWe will discuss the biodiversity of Mt. Tam through its trees and habitats. Distance: 7.1 miles. Elevation gain: 1\,578 ft. This will be a moderate/challenging hike. Dipsea to Steep Ravine and return via Matt Davis. -Wear comfortable grippy shoes and if you have knee or ankle issues\, consider using poles as there will be stairs. -Heavy rain cancels\, but just sprinkles means: put on a windbreaker! -Bring your friends and make sure to arrive early to have plenty of time to find parking and get organized. We’ll depart promptly at 11am from the Stinson Beach Parking Lot\, by the Bridge that leads to the Parkside Cafe.ÿStrenuous.
URL:https://www.friendsofmttam.org/event/1100-am-sunday-hike-strenuous-trees-of-mt-tam-led-by-catherine-orland-3/
LOCATION:Stinson Beach #17\, Mt Tamalpais
CATEGORIES:Hike
END:VEVENT
END:VCALENDAR