BEGIN:VCALENDAR
VERSION:2.0
PRODID:-//Friends of Mt Tam - ECPv6.15.18//NONSGML v1.0//EN
CALSCALE:GREGORIAN
METHOD:PUBLISH
X-ORIGINAL-URL:https://www.friendsofmttam.org
X-WR-CALDESC:Events for Friends of Mt Tam
REFRESH-INTERVAL;VALUE=DURATION:PT1H
X-Robots-Tag:noindex
X-PUBLISHED-TTL:PT1H
BEGIN:VTIMEZONE
TZID:America/Los_Angeles
BEGIN:DAYLIGHT
TZOFFSETFROM:-0800
TZOFFSETTO:-0700
TZNAME:PDT
DTSTART:20180311T100000
END:DAYLIGHT
BEGIN:STANDARD
TZOFFSETFROM:-0700
TZOFFSETTO:-0800
TZNAME:PST
DTSTART:20181104T090000
END:STANDARD
BEGIN:DAYLIGHT
TZOFFSETFROM:-0800
TZOFFSETTO:-0700
TZNAME:PDT
DTSTART:20190310T100000
END:DAYLIGHT
BEGIN:STANDARD
TZOFFSETFROM:-0700
TZOFFSETTO:-0800
TZNAME:PST
DTSTART:20191103T090000
END:STANDARD
BEGIN:DAYLIGHT
TZOFFSETFROM:-0800
TZOFFSETTO:-0700
TZNAME:PDT
DTSTART:20200308T100000
END:DAYLIGHT
BEGIN:STANDARD
TZOFFSETFROM:-0700
TZOFFSETTO:-0800
TZNAME:PST
DTSTART:20201101T090000
END:STANDARD
END:VTIMEZONE
BEGIN:VEVENT
DTSTART;VALUE=DATE:20190427
DTEND;VALUE=DATE:20190428
DTSTAMP:20260424T001307
CREATED:20190224T221610Z
LAST-MODIFIED:20190225T164827Z
UID:32494-1556323200-1556409599@www.friendsofmttam.org
SUMMARY:9:30 AM Saturday Interpretive Hike - Moderate - Discover the Redwoods Led By Eileen Bai
DESCRIPTION:Every Saturday at 9:30am from Pantoll Trailhead.  \n“Discover the Redwoods ” with Park Interpretive Specialist Eileen Bai.  \nLet’s take some time to study the Coast Redwoods. On this hike we’ll discuss the important role Coast Redwoods have played throughout California’s history. We’ll learn how their biological processes have informed how we value these trees today and what role they will play for future generations.  \nDistance: 3.2 miles\, 712 ft elevation gain\, Moderate.
URL:https://www.friendsofmttam.org/event/930-am-saturday-interpretive-hike-moderate-discover-the-redwoods-led-by-eileen-bai-8/
CATEGORIES:Hike
END:VEVENT
BEGIN:VEVENT
DTSTART;VALUE=DATE:20190427
DTEND;VALUE=DATE:20190428
DTSTAMP:20260424T001307
CREATED:20190225T180305Z
LAST-MODIFIED:20191202T164149Z
UID:32562-1556323200-1556409599@www.friendsofmttam.org
SUMMARY:9:30 AM Saturday Interpretive Hike - Moderate - Discover the Redwoods Led By Eileen Bai
DESCRIPTION:Every Saturday at 9:30am from Pantoll Trailhead.  \n“Discover the Redwoods ” with Park Interpretive Specialist Eileen Bai.  \nLet’s take some time to study the Coast Redwoods. On this hike we’ll discuss the important role Coast Redwoods have played throughout California’s history. We’ll learn how their biological processes have informed how we value these trees today and what role they will play for future generations.  \nDistance: 3.2 miles\, 712 ft elevation gain\, Moderate.
URL:https://www.friendsofmttam.org/event/930-am-saturday-interpretive-hike-moderate-discover-the-redwoods-led-by-eileen-bai-15/
CATEGORIES:Hike
END:VEVENT
BEGIN:VEVENT
DTSTART;VALUE=DATE:20190427
DTEND;VALUE=DATE:20190428
DTSTAMP:20260424T001307
CREATED:20190409T171833Z
LAST-MODIFIED:20191202T164149Z
UID:35444-1556323200-1556409599@www.friendsofmttam.org
SUMMARY:9:30am Moderately Strenuous Hike with M. De La Fuente
DESCRIPTION:Saturday\, April 27 at 9:30 AM from Bootjack trailhead. Fitness hike with docent Maria de la Fuente. Experience strength and balance in Nature.  As we hike we feel and look for connections between us and our surroundings. We will we challenge ourselves with climbing down a ladder and climbing up stairs and feel the gratitude of being. Distance (mi): 6.2. Elevation Gain (ft): 1614. Moderately Strenuous.
URL:https://www.friendsofmttam.org/event/930am-moderately-strenuous-hike-with-m-de-la-fuente/
CATEGORIES:Hike
END:VEVENT
END:VCALENDAR