BEGIN:VCALENDAR
VERSION:2.0
PRODID:-//Friends of Mt Tam - ECPv6.15.18//NONSGML v1.0//EN
CALSCALE:GREGORIAN
METHOD:PUBLISH
X-ORIGINAL-URL:https://www.friendsofmttam.org
X-WR-CALDESC:Events for Friends of Mt Tam
REFRESH-INTERVAL;VALUE=DURATION:PT1H
X-Robots-Tag:noindex
X-PUBLISHED-TTL:PT1H
BEGIN:VTIMEZONE
TZID:America/Los_Angeles
BEGIN:DAYLIGHT
TZOFFSETFROM:-0800
TZOFFSETTO:-0700
TZNAME:PDT
DTSTART:20180311T100000
END:DAYLIGHT
BEGIN:STANDARD
TZOFFSETFROM:-0700
TZOFFSETTO:-0800
TZNAME:PST
DTSTART:20181104T090000
END:STANDARD
BEGIN:DAYLIGHT
TZOFFSETFROM:-0800
TZOFFSETTO:-0700
TZNAME:PDT
DTSTART:20190310T100000
END:DAYLIGHT
BEGIN:STANDARD
TZOFFSETFROM:-0700
TZOFFSETTO:-0800
TZNAME:PST
DTSTART:20191103T090000
END:STANDARD
BEGIN:DAYLIGHT
TZOFFSETFROM:-0800
TZOFFSETTO:-0700
TZNAME:PDT
DTSTART:20200308T100000
END:DAYLIGHT
BEGIN:STANDARD
TZOFFSETFROM:-0700
TZOFFSETTO:-0800
TZNAME:PST
DTSTART:20201101T090000
END:STANDARD
END:VTIMEZONE
BEGIN:VEVENT
DTSTART;VALUE=DATE:20190428
DTEND;VALUE=DATE:20190429
DTSTAMP:20260424T001308
CREATED:20190330T211744Z
LAST-MODIFIED:20191202T164149Z
UID:34769-1556409600-1556495999@www.friendsofmttam.org
SUMMARY:9:30am Sunday Interpretive Hike - Easy - Scent-sational Tam! Led By John Cook
DESCRIPTION:Sunday\, April 28 at 9:30 AM from Mtn Home Parking Lot Trailhead. \n“Scent-sational Tam!” interpretive hike with docent John Cook.Mt. Tamalpais is a treasure of beautiful views and quiet places. But Mt. Tam’s fragrance is another treat for the senses.  On this short walk (60 to 90 minutes)\, we will have “close encounters” with some of the plants that lend Mt. Tam a distinct scent.  Depending on the season\, we’ll stop and note Douglas fir\, Bay laurel\, and other fragrant species. We’ll “stop to smell” these and other plants like wild lilac and coastal sage in a natural setting. You’ll never smell Mt. Tam the same way again. \nDistance: 2.0 milesElevation gain: 174 ftEasy. \nWhat to bring: Come prepared. Wear good hiking shoes/boots. Bring plenty of water\, lunch and snacks. Hiking poles are recommended on this mountain. \nParticipation: Hikes are limited to 20 people per leader. First come\, first serve. Be on time to allow for parking and meeting with your group. \nCancellation policy: Rain or winds above 30 mph will cancel.
URL:https://www.friendsofmttam.org/event/930am-sunday-interpretive-hike-easy-scent-sational-tam-led-by-john-cook/
CATEGORIES:Hike
END:VEVENT
END:VCALENDAR