BEGIN:VCALENDAR
VERSION:2.0
PRODID:-//Friends of Mt Tam - ECPv6.15.18//NONSGML v1.0//EN
CALSCALE:GREGORIAN
METHOD:PUBLISH
X-WR-CALNAME:Friends of Mt Tam
X-ORIGINAL-URL:https://www.friendsofmttam.org
X-WR-CALDESC:Events for Friends of Mt Tam
REFRESH-INTERVAL;VALUE=DURATION:PT1H
X-Robots-Tag:noindex
X-PUBLISHED-TTL:PT1H
BEGIN:VTIMEZONE
TZID:America/Los_Angeles
BEGIN:DAYLIGHT
TZOFFSETFROM:-0800
TZOFFSETTO:-0700
TZNAME:PDT
DTSTART:20180311T100000
END:DAYLIGHT
BEGIN:STANDARD
TZOFFSETFROM:-0700
TZOFFSETTO:-0800
TZNAME:PST
DTSTART:20181104T090000
END:STANDARD
BEGIN:DAYLIGHT
TZOFFSETFROM:-0800
TZOFFSETTO:-0700
TZNAME:PDT
DTSTART:20190310T100000
END:DAYLIGHT
BEGIN:STANDARD
TZOFFSETFROM:-0700
TZOFFSETTO:-0800
TZNAME:PST
DTSTART:20191103T090000
END:STANDARD
BEGIN:DAYLIGHT
TZOFFSETFROM:-0800
TZOFFSETTO:-0700
TZNAME:PDT
DTSTART:20200308T100000
END:DAYLIGHT
BEGIN:STANDARD
TZOFFSETFROM:-0700
TZOFFSETTO:-0800
TZNAME:PST
DTSTART:20201101T090000
END:STANDARD
END:VTIMEZONE
BEGIN:VEVENT
DTSTART;VALUE=DATE:20190512
DTEND;VALUE=DATE:20190513
DTSTAMP:20260424T013548
CREATED:20190509T185555Z
LAST-MODIFIED:20191202T164149Z
UID:37501-1557619200-1557705599@www.friendsofmttam.org
SUMMARY:9:30am "Rugged Plants of Mount Tam" Hike
DESCRIPTION:Time: 9:30 AMTrailhead: Mtn Home Trailhead. \n“Rugged Plants of Mount Tam” interpretive hike with docent Lizzy Silverstein.Identify and learn about chamise\, manzanita\, chinquapin\, toyon\, coffeeberry\, madrone\, chamise\, yerba santa\, and golden fleece. Come away with a better understanding of how these plants effect Mount Tam and were used by indigenous people. \nDistance: 4.9 milesElevation gain: 2136 ftModerately Strenuous. \nWhat to bring: Come prepared. Wear good hiking shoes/boots. Bring plenty of water\, lunch and snacks. Hiking poles are recommended on this mountain. \nParticipation: Hikes are limited to 20 people per leader. First come\, first serve. Be on time to allow for parking and meeting with your group. No entrance fee. No pets (unless otherwise specified). \nCancellation policy: Rain or winds above 30 mph will cancel. \nParking: Pantoll\, Bootjack\, and East Peak trailheads require an $8 parking fee (exact change or check).
URL:https://www.friendsofmttam.org/event/930am-rugged-plants-of-mount-tam-hike/
CATEGORIES:Hike
END:VEVENT
END:VCALENDAR