BEGIN:VCALENDAR
VERSION:2.0
PRODID:-//Friends of Mt Tam - ECPv6.15.18//NONSGML v1.0//EN
CALSCALE:GREGORIAN
METHOD:PUBLISH
X-ORIGINAL-URL:https://www.friendsofmttam.org
X-WR-CALDESC:Events for Friends of Mt Tam
REFRESH-INTERVAL;VALUE=DURATION:PT1H
X-Robots-Tag:noindex
X-PUBLISHED-TTL:PT1H
BEGIN:VTIMEZONE
TZID:America/Los_Angeles
BEGIN:DAYLIGHT
TZOFFSETFROM:-0800
TZOFFSETTO:-0700
TZNAME:PDT
DTSTART:20180311T100000
END:DAYLIGHT
BEGIN:STANDARD
TZOFFSETFROM:-0700
TZOFFSETTO:-0800
TZNAME:PST
DTSTART:20181104T090000
END:STANDARD
BEGIN:DAYLIGHT
TZOFFSETFROM:-0800
TZOFFSETTO:-0700
TZNAME:PDT
DTSTART:20190310T100000
END:DAYLIGHT
BEGIN:STANDARD
TZOFFSETFROM:-0700
TZOFFSETTO:-0800
TZNAME:PST
DTSTART:20191103T090000
END:STANDARD
BEGIN:DAYLIGHT
TZOFFSETFROM:-0800
TZOFFSETTO:-0700
TZNAME:PDT
DTSTART:20200308T100000
END:DAYLIGHT
BEGIN:STANDARD
TZOFFSETFROM:-0700
TZOFFSETTO:-0800
TZNAME:PST
DTSTART:20201101T090000
END:STANDARD
END:VTIMEZONE
BEGIN:VEVENT
DTSTART;VALUE=DATE:20190608
DTEND;VALUE=DATE:20190609
DTSTAMP:20260424T025942
CREATED:20190510T030812Z
LAST-MODIFIED:20191202T164150Z
UID:37565-1559952000-1560038399@www.friendsofmttam.org
SUMMARY:CANCELLED - 9:30am Moderate Hike with S. Abascal-Mogio
DESCRIPTION:CANCELLED \nTime: 9:30 AMTrailhead: Rock Spring Trailhead. \nFitness hike with docent Santiago Abascal-Mogio.  Take time to enjoy and appreciate the wildflowers on the mountain. \nDistance: 5.5 miles. Elevation gain: 886 ft. Moderate.What to bring: Come prepared. Wear good hiking shoes/boots. Bring plenty of water\, lunch and snacks. Hiking poles are recommended on this mountain. \nParticipation: Hikes are limited to 20 people per leader. First come\, first serve. Be on time to allow for parking and meeting with your group. No entrance fee. No pets (unless otherwise specified). \nCancellation policy: Rain or winds above 30 mph will cancel. \nParking: Pantoll\, Bootjack\, and East Peak trailheads require an $8 parking fee (exact change or check).
URL:https://www.friendsofmttam.org/event/930am-moderate-hike-with-s-abascal-mogio/
CATEGORIES:Hike
END:VEVENT
BEGIN:VEVENT
DTSTART;TZID=America/Los_Angeles:20190608T200000
DTEND;TZID=America/Los_Angeles:20190608T223000
DTSTAMP:20260424T025942
CREATED:20190326T163156Z
LAST-MODIFIED:20190516T001921Z
UID:34469-1560024000-1560033000@www.friendsofmttam.org
SUMMARY:Astronomy Nights - Gravitational Lensing: Bends in Space-time
DESCRIPTION:Gravitational Lensing: Bends in Space-time\nFatima Abdurrahman\, Doctoral Candidate\, Astronomy Department\, UC Berkeley\n100 years ago\, Einstein predicted that light rays would deviate from straight-line paths in the space near massive objects. Today\, we use this fact to weigh galaxies\, discover planets of other stars\, and “see” invisible black holes. How did this idea of gravitational lensing come about\, and how do we use it today to probe all fields of astrophysics? \nFor directions and more information   http://www.friendsofmttam.org/astronomy.html
URL:https://www.friendsofmttam.org/event/astronomy-nights-gravitational-lensing-bends-in-space-time/
LOCATION:Mt Theater\, Mt Tam State Park\, Mill Valley\, CA\, 2 Park Ter\, United States
CATEGORIES:Astronomy
END:VEVENT
END:VCALENDAR