BEGIN:VCALENDAR
VERSION:2.0
PRODID:-//Friends of Mt Tam - ECPv6.15.18//NONSGML v1.0//EN
CALSCALE:GREGORIAN
METHOD:PUBLISH
X-WR-CALNAME:Friends of Mt Tam
X-ORIGINAL-URL:https://www.friendsofmttam.org
X-WR-CALDESC:Events for Friends of Mt Tam
REFRESH-INTERVAL;VALUE=DURATION:PT1H
X-Robots-Tag:noindex
X-PUBLISHED-TTL:PT1H
BEGIN:VTIMEZONE
TZID:America/Los_Angeles
BEGIN:DAYLIGHT
TZOFFSETFROM:-0800
TZOFFSETTO:-0700
TZNAME:PDT
DTSTART:20180311T100000
END:DAYLIGHT
BEGIN:STANDARD
TZOFFSETFROM:-0700
TZOFFSETTO:-0800
TZNAME:PST
DTSTART:20181104T090000
END:STANDARD
BEGIN:DAYLIGHT
TZOFFSETFROM:-0800
TZOFFSETTO:-0700
TZNAME:PDT
DTSTART:20190310T100000
END:DAYLIGHT
BEGIN:STANDARD
TZOFFSETFROM:-0700
TZOFFSETTO:-0800
TZNAME:PST
DTSTART:20191103T090000
END:STANDARD
BEGIN:DAYLIGHT
TZOFFSETFROM:-0800
TZOFFSETTO:-0700
TZNAME:PDT
DTSTART:20200308T100000
END:DAYLIGHT
BEGIN:STANDARD
TZOFFSETFROM:-0700
TZOFFSETTO:-0800
TZNAME:PST
DTSTART:20201101T090000
END:STANDARD
END:VTIMEZONE
BEGIN:VEVENT
DTSTART;VALUE=DATE:20190612
DTEND;VALUE=DATE:20190613
DTSTAMP:20260424T025829
CREATED:20190604T225401Z
LAST-MODIFIED:20191202T164151Z
UID:38355-1560297600-1560383999@www.friendsofmttam.org
SUMMARY:6:00pm Moderate Hike with R. Feist
DESCRIPTION:Time: 6:00 PMTrailhead: Mtn Home Trailhead. \nFitness Hike with docent Robert Feist. Enjoy some mid-week excercise going down into Muir Woods when the crowds are less!  We’ll cross the creek over the unique “Log Bridge\,” have a snack at  the Alice Eastwood Group Camp and wind our way back to Mt Home.  Guaranteed fun and scenic sights for all! \nDistance: 3.5 milesElevation gain: 827 ft.Moderate. \nWhat to bring: Come prepared. Wear good hiking shoes/boots. Bring plenty of water\, lunch and snacks. Hiking poles are recommended on this mountain. \nParticipation: Hikes are limited to 20 people per leader. First come\, first serve. Be on time to allow for parking and meeting with your group. No entrance fee. No pets (unless otherwise specified). \nCancellation policy: Rain or winds above 30 mph will cancel. \nParking: Pantoll\, Bootjack\, and East Peak trailheads require an $8 parking fee (exact change or check).
URL:https://www.friendsofmttam.org/event/600pm-moderate-hike-with-r-feist/
CATEGORIES:Hike
END:VEVENT
BEGIN:VEVENT
DTSTART;TZID=America/Los_Angeles:20190612T180000
DTEND;TZID=America/Los_Angeles:20190612T190000
DTSTAMP:20260424T025829
CREATED:20190604T202357Z
LAST-MODIFIED:20190604T213440Z
UID:38348-1560362400-1560366000@www.friendsofmttam.org
SUMMARY:6pm Hike with Robert Feist
DESCRIPTION:Trailhead TBA
URL:https://www.friendsofmttam.org/event/6pm-hike-with-robert-feist/
CATEGORIES:Hike
END:VEVENT
END:VCALENDAR