BEGIN:VCALENDAR
VERSION:2.0
PRODID:-//Friends of Mt Tam - ECPv6.15.18//NONSGML v1.0//EN
CALSCALE:GREGORIAN
METHOD:PUBLISH
X-ORIGINAL-URL:https://www.friendsofmttam.org
X-WR-CALDESC:Events for Friends of Mt Tam
REFRESH-INTERVAL;VALUE=DURATION:PT1H
X-Robots-Tag:noindex
X-PUBLISHED-TTL:PT1H
BEGIN:VTIMEZONE
TZID:America/Los_Angeles
BEGIN:DAYLIGHT
TZOFFSETFROM:-0800
TZOFFSETTO:-0700
TZNAME:PDT
DTSTART:20180311T100000
END:DAYLIGHT
BEGIN:STANDARD
TZOFFSETFROM:-0700
TZOFFSETTO:-0800
TZNAME:PST
DTSTART:20181104T090000
END:STANDARD
BEGIN:DAYLIGHT
TZOFFSETFROM:-0800
TZOFFSETTO:-0700
TZNAME:PDT
DTSTART:20190310T100000
END:DAYLIGHT
BEGIN:STANDARD
TZOFFSETFROM:-0700
TZOFFSETTO:-0800
TZNAME:PST
DTSTART:20191103T090000
END:STANDARD
BEGIN:DAYLIGHT
TZOFFSETFROM:-0800
TZOFFSETTO:-0700
TZNAME:PDT
DTSTART:20200308T100000
END:DAYLIGHT
BEGIN:STANDARD
TZOFFSETFROM:-0700
TZOFFSETTO:-0800
TZNAME:PST
DTSTART:20201101T090000
END:STANDARD
END:VTIMEZONE
BEGIN:VEVENT
DTSTART;VALUE=DATE:20190623
DTEND;VALUE=DATE:20190624
DTSTAMP:20260424T030007
CREATED:20190510T030812Z
LAST-MODIFIED:20191202T164151Z
UID:37569-1561248000-1561334399@www.friendsofmttam.org
SUMMARY:Cancelled - 9:30am Strenuous Hike with R. Gottfried
DESCRIPTION:Time: 9:30 AMTrailhead: Tennessee Valley Trailhead. \nFitness hike with docent Rosalind Gottfried. We will hike for 7-8 miles depending on the group’s choice.  We can go to Muir Beach and back (about 8.5 miles with hills) or choose a different route.  Docent will have a sign on top of the car\, either across from the bathrooms or along the road by the bathrooms\, that says “HIKE OPEN TO THE PUBLIC.” \nDistance: 7.5 miles. Elevation gain: 1601 ft.  \nWhat to bring: Come prepared. Wear good hiking shoes/boots. Bring plenty of water\, lunch and snacks. Hiking poles are recommended on this mountain. \nParticipation: Hikes are limited to 20 people per leader. First come\, first serve. Be on time to allow for parking and meeting with your group. No entrance fee. No pets (unless otherwise specified). \nCancellation policy: Rain or winds above 30 mph will cancel. \nParking: Pantoll\, Bootjack\, and East Peak trailheads require an $8 parking fee (exact change or check).
URL:https://www.friendsofmttam.org/event/930am-strenuous-hike-with-r-gottfried/
CATEGORIES:Hike
END:VEVENT
END:VCALENDAR