BEGIN:VCALENDAR
VERSION:2.0
PRODID:-//Friends of Mt Tam - ECPv6.15.18//NONSGML v1.0//EN
CALSCALE:GREGORIAN
METHOD:PUBLISH
X-WR-CALNAME:Friends of Mt Tam
X-ORIGINAL-URL:https://www.friendsofmttam.org
X-WR-CALDESC:Events for Friends of Mt Tam
REFRESH-INTERVAL;VALUE=DURATION:PT1H
X-Robots-Tag:noindex
X-PUBLISHED-TTL:PT1H
BEGIN:VTIMEZONE
TZID:America/Los_Angeles
BEGIN:DAYLIGHT
TZOFFSETFROM:-0800
TZOFFSETTO:-0700
TZNAME:PDT
DTSTART:20180311T100000
END:DAYLIGHT
BEGIN:STANDARD
TZOFFSETFROM:-0700
TZOFFSETTO:-0800
TZNAME:PST
DTSTART:20181104T090000
END:STANDARD
BEGIN:DAYLIGHT
TZOFFSETFROM:-0800
TZOFFSETTO:-0700
TZNAME:PDT
DTSTART:20190310T100000
END:DAYLIGHT
BEGIN:STANDARD
TZOFFSETFROM:-0700
TZOFFSETTO:-0800
TZNAME:PST
DTSTART:20191103T090000
END:STANDARD
BEGIN:DAYLIGHT
TZOFFSETFROM:-0800
TZOFFSETTO:-0700
TZNAME:PDT
DTSTART:20200308T100000
END:DAYLIGHT
BEGIN:STANDARD
TZOFFSETFROM:-0700
TZOFFSETTO:-0800
TZNAME:PST
DTSTART:20201101T090000
END:STANDARD
END:VTIMEZONE
BEGIN:VEVENT
DTSTART;VALUE=DATE:20190706
DTEND;VALUE=DATE:20190707
DTSTAMP:20260424T025813
CREATED:20190625T164002Z
LAST-MODIFIED:20191202T164152Z
UID:38858-1562371200-1562457599@www.friendsofmttam.org
SUMMARY:9:30AM Strenuous "History of Alpine Dam" Hike with F. Young
DESCRIPTION:Trailhead: Laurel Dell\nJoin docent Franklin Youngin a descent to the beautiful Caratact and Helen Mrkt Falls. Then continue the hike walking parallel to Alpine Lake following the Helen Mrkt and Kent Trails. Our docent will share some of the Alpine Dam's history\, which it was build 100 years ago!\nDistance: 7.4 miles\, Elevation Gain: 1\,874 ft. Strenuous.
URL:https://www.friendsofmttam.org/event/930am-strenuous-history-of-alpine-dam-hike-with-f-young/
CATEGORIES:Hike
END:VEVENT
END:VCALENDAR