BEGIN:VCALENDAR
VERSION:2.0
PRODID:-//Friends of Mt Tam - ECPv6.15.18//NONSGML v1.0//EN
CALSCALE:GREGORIAN
METHOD:PUBLISH
X-ORIGINAL-URL:https://www.friendsofmttam.org
X-WR-CALDESC:Events for Friends of Mt Tam
REFRESH-INTERVAL;VALUE=DURATION:PT1H
X-Robots-Tag:noindex
X-PUBLISHED-TTL:PT1H
BEGIN:VTIMEZONE
TZID:America/Los_Angeles
BEGIN:DAYLIGHT
TZOFFSETFROM:-0800
TZOFFSETTO:-0700
TZNAME:PDT
DTSTART:20180311T100000
END:DAYLIGHT
BEGIN:STANDARD
TZOFFSETFROM:-0700
TZOFFSETTO:-0800
TZNAME:PST
DTSTART:20181104T090000
END:STANDARD
BEGIN:DAYLIGHT
TZOFFSETFROM:-0800
TZOFFSETTO:-0700
TZNAME:PDT
DTSTART:20190310T100000
END:DAYLIGHT
BEGIN:STANDARD
TZOFFSETFROM:-0700
TZOFFSETTO:-0800
TZNAME:PST
DTSTART:20191103T090000
END:STANDARD
BEGIN:DAYLIGHT
TZOFFSETFROM:-0800
TZOFFSETTO:-0700
TZNAME:PDT
DTSTART:20200308T100000
END:DAYLIGHT
BEGIN:STANDARD
TZOFFSETFROM:-0700
TZOFFSETTO:-0800
TZNAME:PST
DTSTART:20201101T090000
END:STANDARD
END:VTIMEZONE
BEGIN:VEVENT
DTSTART;VALUE=DATE:20190714
DTEND;VALUE=DATE:20190715
DTSTAMP:20260424T041645
CREATED:20190712T030451Z
LAST-MODIFIED:20191202T164152Z
UID:39188-1563062400-1563148799@www.friendsofmttam.org
SUMMARY:9:30am Moderately Strenuous Hike with R. Gottfried
DESCRIPTION:Sunday\, July 14 at 9:30 AM\nTrailhead: Matt Davis (near Stinson Beach) \n“”Ocean Views and the Forest”” Fitness hike with docent Rosalind Gottfried. We will hike a bit over seven miles enjoying the views from the Dipsea trail\, to the heavy wood of the Steep Ravine trail.  We will take a break at the Pan Toll Ranger station before heading down the Matt Davis trail\, which contains both wooded and open areas. There will be a sign on the roof of the hike leader’s dark green Camry saying free hike\, open to the public. \nDistance (mi): 6.7.\nElevation Gain (ft): 1667.\nModerately Strenuous. \nWhat to bring: Come prepared. Wear good hiking shoes/boots. Bring plenty of water\, lunch and snacks. Hiking poles are recommended on this mountain. This hike recommends also bringing a notebook and something to write with. \nParticipation: This hike is limited to 12 people on a first come\, first serve basis. Be on time to allow for parking and meeting with your group. No entrance fee. No pets (unless otherwise specified). \nCancellation policy: Rain or winds above 30 mph will cancel. \nParking: Pantoll\, Bootjack\, and East Peak trailheads require an $8 parking fee (exact change or check).
URL:https://www.friendsofmttam.org/event/930am-moderately-strenuous-hike-with-r-gottfried/
CATEGORIES:Hike
END:VEVENT
END:VCALENDAR