BEGIN:VCALENDAR
VERSION:2.0
PRODID:-//Friends of Mt Tam - ECPv6.15.18//NONSGML v1.0//EN
CALSCALE:GREGORIAN
METHOD:PUBLISH
X-WR-CALNAME:Friends of Mt Tam
X-ORIGINAL-URL:https://www.friendsofmttam.org
X-WR-CALDESC:Events for Friends of Mt Tam
REFRESH-INTERVAL;VALUE=DURATION:PT1H
X-Robots-Tag:noindex
X-PUBLISHED-TTL:PT1H
BEGIN:VTIMEZONE
TZID:America/Los_Angeles
BEGIN:DAYLIGHT
TZOFFSETFROM:-0800
TZOFFSETTO:-0700
TZNAME:PDT
DTSTART:20180311T100000
END:DAYLIGHT
BEGIN:STANDARD
TZOFFSETFROM:-0700
TZOFFSETTO:-0800
TZNAME:PST
DTSTART:20181104T090000
END:STANDARD
BEGIN:DAYLIGHT
TZOFFSETFROM:-0800
TZOFFSETTO:-0700
TZNAME:PDT
DTSTART:20190310T100000
END:DAYLIGHT
BEGIN:STANDARD
TZOFFSETFROM:-0700
TZOFFSETTO:-0800
TZNAME:PST
DTSTART:20191103T090000
END:STANDARD
BEGIN:DAYLIGHT
TZOFFSETFROM:-0800
TZOFFSETTO:-0700
TZNAME:PDT
DTSTART:20200308T100000
END:DAYLIGHT
BEGIN:STANDARD
TZOFFSETFROM:-0700
TZOFFSETTO:-0800
TZNAME:PST
DTSTART:20201101T090000
END:STANDARD
END:VTIMEZONE
BEGIN:VEVENT
DTSTART;VALUE=DATE:20190818
DTEND;VALUE=DATE:20190819
DTSTAMP:20260424T054037
CREATED:20190606T184950Z
LAST-MODIFIED:20190726T175559Z
UID:38395-1566086400-1566172799@www.friendsofmttam.org
SUMMARY:11-4 VC: Tom Brookshire
DESCRIPTION:
URL:https://www.friendsofmttam.org/event/11-4-vc-tom-brookshire-2/
CATEGORIES:Hike
END:VEVENT
BEGIN:VEVENT
DTSTART;VALUE=DATE:20190818
DTEND;VALUE=DATE:20190819
DTSTAMP:20260424T054037
CREATED:20190718T195946Z
LAST-MODIFIED:20191202T164153Z
UID:39323-1566086400-1566172799@www.friendsofmttam.org
SUMMARY:9:30am "Scent-Sational Mt. Tamalpais" Hike
DESCRIPTION:Time: 9:30 AMTrailhead: Mt Home Trailhead. \n"Scent-Sational Mt. Tamalpais" interpretive hike with docent John Cook.Mt. Tamalpais is a treasure of beautiful views and quiet places. But Mt. Tam’s fragrance is another treat for the senses.  On this short hike\, we will have “close encounters” with some of the plants that lend Mt. Tam a distinct scent.  Depending on the season\, wander through forests of Douglas fir\, Bay laurel\, and other fragrant species.  We’ll “stop to smell” these and other plants like wild lilac and coastal sage in a natural setting. You’ll never smell Mt. Tam the same way again. \nDistance: 3.7 milesElevation gain: 764 ftModerate. \nWhat to bring: Come prepared. Wear good hiking shoes/boots. Bring plenty of water\, lunch and snacks. Hiking poles are recommended on this mountain. \nParticipation: Hikes are limited to 20 people per leader. First come\, first serve. Be on time to allow for parking and meeting with your group. No entrance fee. No pets (unless otherwise specified). \nCancellation policy: Rain or winds above 30 mph will cancel. \nParking: Pantoll\, Bootjack\, and East Peak trailheads require an $8 parking fee (exact change or check).
URL:https://www.friendsofmttam.org/event/930am-scent-sational-mt-tamalpais-hike-2/
CATEGORIES:Hike
END:VEVENT
END:VCALENDAR