BEGIN:VCALENDAR
VERSION:2.0
PRODID:-//Friends of Mt Tam - ECPv6.15.18//NONSGML v1.0//EN
CALSCALE:GREGORIAN
METHOD:PUBLISH
X-ORIGINAL-URL:https://www.friendsofmttam.org
X-WR-CALDESC:Events for Friends of Mt Tam
REFRESH-INTERVAL;VALUE=DURATION:PT1H
X-Robots-Tag:noindex
X-PUBLISHED-TTL:PT1H
BEGIN:VTIMEZONE
TZID:America/Los_Angeles
BEGIN:DAYLIGHT
TZOFFSETFROM:-0800
TZOFFSETTO:-0700
TZNAME:PDT
DTSTART:20180311T100000
END:DAYLIGHT
BEGIN:STANDARD
TZOFFSETFROM:-0700
TZOFFSETTO:-0800
TZNAME:PST
DTSTART:20181104T090000
END:STANDARD
BEGIN:DAYLIGHT
TZOFFSETFROM:-0800
TZOFFSETTO:-0700
TZNAME:PDT
DTSTART:20190310T100000
END:DAYLIGHT
BEGIN:STANDARD
TZOFFSETFROM:-0700
TZOFFSETTO:-0800
TZNAME:PST
DTSTART:20191103T090000
END:STANDARD
BEGIN:DAYLIGHT
TZOFFSETFROM:-0800
TZOFFSETTO:-0700
TZNAME:PDT
DTSTART:20200308T100000
END:DAYLIGHT
BEGIN:STANDARD
TZOFFSETFROM:-0700
TZOFFSETTO:-0800
TZNAME:PST
DTSTART:20201101T090000
END:STANDARD
END:VTIMEZONE
BEGIN:VEVENT
DTSTART;VALUE=DATE:20190907
DTEND;VALUE=DATE:20190908
DTSTAMP:20260424T070434
CREATED:20190817T003825Z
LAST-MODIFIED:20191202T164153Z
UID:39917-1567814400-1567900799@www.friendsofmttam.org
SUMMARY:CANCELLED 9:30am Moderate Hike with S. Abascal-Mogio
DESCRIPTION:CANCELLED.Time: 9:30 AMTrailhead: Rock Spring trailhead. \n“Rock Springs Loop” Fitness hike with docent Santi Abascal-Mogio. Take time to enjoy and appreciate the summer wildflowers on the mountain. \nDistance: 4.8 milesElevation gain: 902 ft.Moderate. \nWhat to bring: Come prepared. Wear good hiking shoes/boots. Bring plenty of water\, lunch and snacks. Hiking poles are recommended on this mountain. \nParticipation: Hikes are limited to 20 people per leader. First come\, first serve. Be on time to allow for parking and meeting with your group. No entrance fee. No pets (unless otherwise specified). \nCancellation policy: Rain or winds above 30 mph will cancel. \nParking: Pantoll\, Bootjack\, and East Peak trailheads require an $8 parking fee (exact change or check).
URL:https://www.friendsofmttam.org/event/930am-moderate-hike-with-s-abascal-mogio-2/
CATEGORIES:Hike
END:VEVENT
BEGIN:VEVENT
DTSTART;TZID=America/Los_Angeles:20190907T193000
DTEND;TZID=America/Los_Angeles:20190907T220000
DTSTAMP:20260424T070434
CREATED:20190326T163157Z
LAST-MODIFIED:20190516T001922Z
UID:34472-1567884600-1567893600@www.friendsofmttam.org
SUMMARY:Astronomy Nights - MISSION: MARS
DESCRIPTION:MISSION: MARS\nDr. Pascal Lee\, Planetary Scientist\, Mars & SETI Institutes We are making progress globally—from the Arctic to Antarctica\, from underground labs to the International Space Station—to achieve the first human voyage to Mars. Come explore the what\, why\, how\, when\, and who of our first journey to the Red Planet. \nFor directions and more information   http://www.friendsofmttam.org/astronomy.html
URL:https://www.friendsofmttam.org/event/astronomy-nights-mission-mars/
LOCATION:Mt Theater\, Mt Tam State Park\, Mill Valley\, CA\, 2 Park Ter\, United States
CATEGORIES:Astronomy
END:VEVENT
END:VCALENDAR