BEGIN:VCALENDAR
VERSION:2.0
PRODID:-//Friends of Mt Tam - ECPv6.15.18//NONSGML v1.0//EN
CALSCALE:GREGORIAN
METHOD:PUBLISH
X-ORIGINAL-URL:https://www.friendsofmttam.org
X-WR-CALDESC:Events for Friends of Mt Tam
REFRESH-INTERVAL;VALUE=DURATION:PT1H
X-Robots-Tag:noindex
X-PUBLISHED-TTL:PT1H
BEGIN:VTIMEZONE
TZID:America/Los_Angeles
BEGIN:DAYLIGHT
TZOFFSETFROM:-0800
TZOFFSETTO:-0700
TZNAME:PDT
DTSTART:20180311T100000
END:DAYLIGHT
BEGIN:STANDARD
TZOFFSETFROM:-0700
TZOFFSETTO:-0800
TZNAME:PST
DTSTART:20181104T090000
END:STANDARD
BEGIN:DAYLIGHT
TZOFFSETFROM:-0800
TZOFFSETTO:-0700
TZNAME:PDT
DTSTART:20190310T100000
END:DAYLIGHT
BEGIN:STANDARD
TZOFFSETFROM:-0700
TZOFFSETTO:-0800
TZNAME:PST
DTSTART:20191103T090000
END:STANDARD
BEGIN:DAYLIGHT
TZOFFSETFROM:-0800
TZOFFSETTO:-0700
TZNAME:PDT
DTSTART:20200308T100000
END:DAYLIGHT
BEGIN:STANDARD
TZOFFSETFROM:-0700
TZOFFSETTO:-0800
TZNAME:PST
DTSTART:20201101T090000
END:STANDARD
END:VTIMEZONE
BEGIN:VEVENT
DTSTART;VALUE=DATE:20191221
DTEND;VALUE=DATE:20191222
DTSTAMP:20260424T112908
CREATED:20191201T182454Z
LAST-MODIFIED:20191202T164156Z
UID:41954-1576886400-1576972799@www.friendsofmttam.org
SUMMARY:"Extreme Weather and Climate Change" walk with park interpreter Rosanna Petralia
DESCRIPTION:Saturday\, November 30 at 1 PM from East Peak/Verna Dunshee Trailhead. "Extreme Weather and Climate Change" interpretive walk with park interpreter Rosanna Petralia. What better perspective than the top of a mountain to consider the challenges of our future? Join us on a short walk along the scenic Verna Dunshee trail to learn about extreme weather patterns and how they connect to climate change. Explore together solutions to mitigate and adapt to our changing environment!  \nDistance (mi): 0.7. Elevation Gain (ft): 0. Easy. ADA accessible trail. All ages welcome. \nLimited to 12 people. First come-first serve. \nMore info: https://www.parks.ca.gov/?page_id=29802 \nTrailheads Google Map: https://drive.google.com/open?id=1_ALlCrwKUPFnHHJx3mjjjjSTJw3SCHrP&usp=sharing
URL:https://www.friendsofmttam.org/event/extreme-weather-and-climate-change-walk-with-park-interpreter-rosanna-petralia/
CATEGORIES:Hike
END:VEVENT
END:VCALENDAR