BEGIN:VCALENDAR
VERSION:2.0
PRODID:-//Friends of Mt Tam - ECPv6.15.18//NONSGML v1.0//EN
CALSCALE:GREGORIAN
METHOD:PUBLISH
X-ORIGINAL-URL:https://www.friendsofmttam.org
X-WR-CALDESC:Events for Friends of Mt Tam
REFRESH-INTERVAL;VALUE=DURATION:PT1H
X-Robots-Tag:noindex
X-PUBLISHED-TTL:PT1H
BEGIN:VTIMEZONE
TZID:America/Los_Angeles
BEGIN:DAYLIGHT
TZOFFSETFROM:-0800
TZOFFSETTO:-0700
TZNAME:PDT
DTSTART:20210314T100000
END:DAYLIGHT
BEGIN:STANDARD
TZOFFSETFROM:-0700
TZOFFSETTO:-0800
TZNAME:PST
DTSTART:20211107T090000
END:STANDARD
BEGIN:DAYLIGHT
TZOFFSETFROM:-0800
TZOFFSETTO:-0700
TZNAME:PDT
DTSTART:20220313T100000
END:DAYLIGHT
BEGIN:STANDARD
TZOFFSETFROM:-0700
TZOFFSETTO:-0800
TZNAME:PST
DTSTART:20221106T090000
END:STANDARD
BEGIN:DAYLIGHT
TZOFFSETFROM:-0800
TZOFFSETTO:-0700
TZNAME:PDT
DTSTART:20230312T100000
END:DAYLIGHT
BEGIN:STANDARD
TZOFFSETFROM:-0700
TZOFFSETTO:-0800
TZNAME:PST
DTSTART:20231105T090000
END:STANDARD
END:VTIMEZONE
BEGIN:VEVENT
DTSTART;TZID=America/Los_Angeles:20220102T090000
DTEND;TZID=America/Los_Angeles:20220102T143000
DTSTAMP:20260425T183710
CREATED:20211221T040726Z
LAST-MODIFIED:20211221T041043Z
UID:43325-1641114000-1641133800@www.friendsofmttam.org
SUMMARY:MTSP Docent Hike: Jan 2 - "Start the New Year Right" - Franklin Young
DESCRIPTION:Mount Tamalpais State Park Docent Led Hike \n“Start the New Year Right. From a trailhead off the beaten path\, you will be hiking along a peaceful\ncreek to Muir Beach\, a residential community without any stores. After lunch\, you will be rewarded\nwith great ocean views and opportunity to burn off some Holiday calories. What a better way to\nstart the New Year!” \n\nTENTATIVE ROUTE:   Dias Ridge – Miwok – Redwood Creek – Muir Beach – Dias Ridge\nMEET: Dias Ridge Trailhead/Panoramic Highway\nDISTANCE: 7.5 miles / Moderately Strenuous\nDEPARTURE: 9am Departure – Group should return no later than 2:30\n\nAll Hikes Details \n\nCANCELLATIONS: Rain\, red flag days\, winds above 30 mph\, and unforeseen circumstances will\ncancel. Check the Friends of Mt Tam Facebook for updates:\nhttps://www.facebook.com/FriendsOfMtTam\nPARKING: We strongly recommend carpooling and arriving 15 minutes early to find parking. Certain\nparking areas require a fee (Pantoll\, Bootjack\, and East Peak).\nWATER: Bring at least two bottles of water on hot days. Most hikes do not pass by public drinking\nwater sources.\nFOOD: Unless stated otherwise in the hike description\, there will not be a formal lunch stop. Bring\nyour own snacks.\nPROTECTION: Ticks\, mosquitoes\, horse flies and yellow jackets are present\, but not abundant.\nSTURDY BOOTS: Trails are uneven\, rocky and can be very steep in places. Sandals\, sneakers and\nrunning shoes are not recommended.\nCOVID PRECAUTIONS: Frequent hand sanitation\, physical distancing\, and no sharing of gear or maps.\nVisitors need to be fully prepared to provide for all of their own needs\, including map (printed or\ndownloaded)\, hand sanitizer\, tissues\, and first aid supplies.\nHikes are part of the California State Parks Volunteers In the Park Program (VIPP).
URL:https://www.friendsofmttam.org/event/mtsp-docent-hike-jan-2-start-the-new-year-right-franklin-young/
END:VEVENT
END:VCALENDAR