BEGIN:VCALENDAR
VERSION:2.0
PRODID:-//Friends of Mt Tam - ECPv6.15.18//NONSGML v1.0//EN
CALSCALE:GREGORIAN
METHOD:PUBLISH
X-ORIGINAL-URL:https://www.friendsofmttam.org
X-WR-CALDESC:Events for Friends of Mt Tam
REFRESH-INTERVAL;VALUE=DURATION:PT1H
X-Robots-Tag:noindex
X-PUBLISHED-TTL:PT1H
BEGIN:VTIMEZONE
TZID:America/Los_Angeles
BEGIN:DAYLIGHT
TZOFFSETFROM:-0800
TZOFFSETTO:-0700
TZNAME:PDT
DTSTART:20210314T100000
END:DAYLIGHT
BEGIN:STANDARD
TZOFFSETFROM:-0700
TZOFFSETTO:-0800
TZNAME:PST
DTSTART:20211107T090000
END:STANDARD
BEGIN:DAYLIGHT
TZOFFSETFROM:-0800
TZOFFSETTO:-0700
TZNAME:PDT
DTSTART:20220313T100000
END:DAYLIGHT
BEGIN:STANDARD
TZOFFSETFROM:-0700
TZOFFSETTO:-0800
TZNAME:PST
DTSTART:20221106T090000
END:STANDARD
BEGIN:DAYLIGHT
TZOFFSETFROM:-0800
TZOFFSETTO:-0700
TZNAME:PDT
DTSTART:20230312T100000
END:DAYLIGHT
BEGIN:STANDARD
TZOFFSETFROM:-0700
TZOFFSETTO:-0800
TZNAME:PST
DTSTART:20231105T090000
END:STANDARD
END:VTIMEZONE
BEGIN:VEVENT
DTSTART;TZID=America/Los_Angeles:20220130T090000
DTEND;TZID=America/Los_Angeles:20220130T150000
DTSTAMP:20260425T183722
CREATED:20211221T042040Z
LAST-MODIFIED:20211221T042040Z
UID:43337-1643533200-1643554800@www.friendsofmttam.org
SUMMARY:MTSP Docent Hike: Jan 30 - "Southwest Mt Tam" - Rosalind Gottfried
DESCRIPTION:Mount Tamalpais State Park Docent Led Hike \n“A strenuous hike climbing up the SW side of Mt Tam with great views and deep canyons” \n\nTENTATIVE ROUTE:  Coastal View  – Dipsea – Steep Ravine – Old Miners – Coastal View\nDISTANCE:  9.8 miles / Strenuous\nMEET:  Highway 1\, ¼ mile north of the Muir Beach lookout\, at the beginning of the Coastal View Trail\nDEPARTURE:  9am – Group should return no later than 3:00\nFOOD:  Bring a lunch\, which is usually at Pantoll \n\nAll Hikes Details \n\nCANCELLATIONS: Rain\, red flag days\, winds above 30 mph\, and unforeseen circumstances will\ncancel. Check the Friends of Mt Tam Facebook for updates:\nhttps://www.facebook.com/FriendsOfMtTam\nPARKING: We strongly recommend carpooling and arriving 15 minutes early to find parking. Certain\nparking areas require a fee (Pantoll\, Bootjack\, and East Peak).\nWATER: Bring at least two bottles of water on hot days. Most hikes do not pass by public drinking\nwater sources.\nFOOD: Unless stated otherwise in the hike description\, there will not be a formal lunch stop. Bring\nyour own snacks.\nPROTECTION: Ticks\, mosquitoes\, horse flies and yellow jackets are present\, but not abundant.\nSTURDY BOOTS: Trails are uneven\, rocky and can be very steep in places. Sandals\, sneakers and\nrunning shoes are not recommended.\nCOVID PRECAUTIONS: Frequent hand sanitation\, physical distancing\, and no sharing of gear or maps.\nVisitors need to be fully prepared to provide for all of their own needs\, including map (printed or\ndownloaded)\, hand sanitizer\, tissues\, and first aid supplies.\nHikes are part of the California State Parks Volunteers In the Park Program (VIPP).
URL:https://www.friendsofmttam.org/event/mtsp-docent-hike-jan-30-southwest-mt-tam-rosalind-gottfried/
END:VEVENT
END:VCALENDAR