BEGIN:VCALENDAR
VERSION:2.0
PRODID:-//Friends of Mt Tam - ECPv6.15.18//NONSGML v1.0//EN
CALSCALE:GREGORIAN
METHOD:PUBLISH
X-ORIGINAL-URL:https://www.friendsofmttam.org
X-WR-CALDESC:Events for Friends of Mt Tam
REFRESH-INTERVAL;VALUE=DURATION:PT1H
X-Robots-Tag:noindex
X-PUBLISHED-TTL:PT1H
BEGIN:VTIMEZONE
TZID:America/Los_Angeles
BEGIN:DAYLIGHT
TZOFFSETFROM:-0800
TZOFFSETTO:-0700
TZNAME:PDT
DTSTART:20210314T100000
END:DAYLIGHT
BEGIN:STANDARD
TZOFFSETFROM:-0700
TZOFFSETTO:-0800
TZNAME:PST
DTSTART:20211107T090000
END:STANDARD
BEGIN:DAYLIGHT
TZOFFSETFROM:-0800
TZOFFSETTO:-0700
TZNAME:PDT
DTSTART:20220313T100000
END:DAYLIGHT
BEGIN:STANDARD
TZOFFSETFROM:-0700
TZOFFSETTO:-0800
TZNAME:PST
DTSTART:20221106T090000
END:STANDARD
BEGIN:DAYLIGHT
TZOFFSETFROM:-0800
TZOFFSETTO:-0700
TZNAME:PDT
DTSTART:20230312T100000
END:DAYLIGHT
BEGIN:STANDARD
TZOFFSETFROM:-0700
TZOFFSETTO:-0800
TZNAME:PST
DTSTART:20231105T090000
END:STANDARD
END:VTIMEZONE
BEGIN:VEVENT
DTSTART;TZID=America/Los_Angeles:20220220T090000
DTEND;TZID=America/Los_Angeles:20220220T143000
DTSTAMP:20260425T200403
CREATED:20211221T042549Z
LAST-MODIFIED:20211221T042549Z
UID:43343-1645347600-1645367400@www.friendsofmttam.org
SUMMARY:MTSP Docent Hike: Feb 20 - "The (not-so) Hidden Treasures of Mt Tamalpais" - Brian Muir
DESCRIPTION:Mount Tamalpais State Park Docent Led Hike \n“The (not-so) Hidden Treasures of Mt Tamalpais:  Experience multiple geologic and growth eco-systems while traversing the south side of Mt Tamalpais. Visit historic West Point Inn and Mountain Theater.” \n\nTENTATIVE ROUTE:  Pan Toll – Old Stage Road – Rock Springs Trail – Old Mine Trail.\nPart of the FMT Pantoll Quad / https://www.friendsofmttam.org/activities/hiking/\nDISTANCE:  5 miles / Moderately Strenuous.\nMEET:  Pantoll Parking Area  \nDEPARTURE:  9am departure. Group should return no later than 2:30pm.\n\nAll Hikes Details \n\nCANCELLATIONS: Rain\, red flag days\, winds above 30 mph\, and unforeseen circumstances will\ncancel. Check the Friends of Mt Tam Facebook for updates:\nhttps://www.facebook.com/FriendsOfMtTam\nPARKING: We strongly recommend carpooling and arriving 15 minutes early to find parking. Certain\nparking areas require a fee (Pantoll\, Bootjack\, and East Peak).\nWATER: Bring at least two bottles of water on hot days. Most hikes do not pass by public drinking\nwater sources.\nFOOD: Unless stated otherwise in the hike description\, there will not be a formal lunch stop. Bring\nyour own snacks.\nPROTECTION: Ticks\, mosquitoes\, horse flies and yellow jackets are present\, but not abundant.\nSTURDY BOOTS: Trails are uneven\, rocky and can be very steep in places. Sandals\, sneakers and\nrunning shoes are not recommended.\nCOVID PRECAUTIONS: Frequent hand sanitation\, physical distancing\, and no sharing of gear or maps.\nVisitors need to be fully prepared to provide for all of their own needs\, including map (printed or\ndownloaded)\, hand sanitizer\, tissues\, and first aid supplies.\nHikes are part of the California State Parks Volunteers In the Park Program (VIPP).
URL:https://www.friendsofmttam.org/event/mtsp-docent-hike-feb-20-the-not-so-hidden-treasures-of-mt-tamalpais-brian-muir/
END:VEVENT
END:VCALENDAR