BEGIN:VCALENDAR
VERSION:2.0
PRODID:-//Friends of Mt Tam - ECPv6.15.18//NONSGML v1.0//EN
CALSCALE:GREGORIAN
METHOD:PUBLISH
X-WR-CALNAME:Friends of Mt Tam
X-ORIGINAL-URL:https://www.friendsofmttam.org
X-WR-CALDESC:Events for Friends of Mt Tam
REFRESH-INTERVAL;VALUE=DURATION:PT1H
X-Robots-Tag:noindex
X-PUBLISHED-TTL:PT1H
BEGIN:VTIMEZONE
TZID:America/Los_Angeles
BEGIN:DAYLIGHT
TZOFFSETFROM:-0800
TZOFFSETTO:-0700
TZNAME:PDT
DTSTART:20240310T100000
END:DAYLIGHT
BEGIN:STANDARD
TZOFFSETFROM:-0700
TZOFFSETTO:-0800
TZNAME:PST
DTSTART:20241103T090000
END:STANDARD
BEGIN:DAYLIGHT
TZOFFSETFROM:-0800
TZOFFSETTO:-0700
TZNAME:PDT
DTSTART:20250309T100000
END:DAYLIGHT
BEGIN:STANDARD
TZOFFSETFROM:-0700
TZOFFSETTO:-0800
TZNAME:PST
DTSTART:20251102T090000
END:STANDARD
BEGIN:DAYLIGHT
TZOFFSETFROM:-0800
TZOFFSETTO:-0700
TZNAME:PDT
DTSTART:20260308T100000
END:DAYLIGHT
BEGIN:STANDARD
TZOFFSETFROM:-0700
TZOFFSETTO:-0800
TZNAME:PST
DTSTART:20261101T090000
END:STANDARD
END:VTIMEZONE
BEGIN:VEVENT
DTSTART;VALUE=DATE:20250927
DTEND;VALUE=DATE:20250928
DTSTAMP:20260423T184340
CREATED:20250705T231244Z
LAST-MODIFIED:20250808T185440Z
UID:43978-1758931200-1759017599@www.friendsofmttam.org
SUMMARY:Mt Tamalpais State Park 4th Annual Science Quest Day
DESCRIPTION:The 4th Annual Friends of Mt Tam Science Quest Day will be on September 27\, 2025.  Experts in Fire Science\, Lichenology\, Botany\, Ornithology\, Geology\, Meteorology\, and Astronomy will provide in person experiences to highlight how science can deepen our understanding of our environment.    \nThe day will begin at 7:30am with a Master Birder led hike and wrap up with an amazing Star Party from 6:30 – 9:00pm.  In between are more than 15 exciting and truly unique experiences.   \nThere will be a very limited number of slots available for each event.    \nNEW THIS YEAR  \nFREE Shuttle\nSince Pantoll and Bootjack Parking lots can fill up early in the day\, there will be a free shuttle between the Quarry Parking Lot (Mountain Theater)\, Rock Spring Parking Lot\, and Pantoll Parking Lot every 20 minutes. The shuttle will run from 8am – 4pm.  Come a little early and don’t worry about parking! \nMore Kid Events\nBring your kids (and their friends and their scout group).  Junior Ranger\, Geology\, Bingo\, Science Quest Trivia Night\, and “Into The Woods At The One Tam Van” are all kid (7-12 years old) friendly. \n20% off all Merchandise and Flash Sales\nFriends of Mt Tam members receive 20% off all merchandise at Pantoll and East Peak. Additionally\, we will have flash sales throughout the day! \nMore free tasty treats and drinks at Pantoll\nTo celebrate Science Quest Day\,  FMT will be serving free coffee\, hot chocolate\, drinks\, and trail worthy snacks at the FMT trailer at Pantoll.   \nIt will be a great day on the Mountain!  We hope you can join the fun. \nFor a list of events and to sign up: https://www.eventbrite.com/cc/mt-tamalpais-state-park-science-quest-day-2025-4459993?utm-campaign=social&utm-content=creatorshare&utm-medium=discovery&utm-term=odclsxcollection&utm-source=cp&aff=escb \n 
URL:https://www.friendsofmttam.org/event/mt-tamalpais-state-park-4th-annual-science-quest-day/
END:VEVENT
END:VCALENDAR