BEGIN:VCALENDAR
VERSION:2.0
PRODID:-//Friends of Mt Tam - ECPv6.15.18//NONSGML v1.0//EN
CALSCALE:GREGORIAN
METHOD:PUBLISH
X-ORIGINAL-URL:https://www.friendsofmttam.org
X-WR-CALDESC:Events for Friends of Mt Tam
REFRESH-INTERVAL;VALUE=DURATION:PT1H
X-Robots-Tag:noindex
X-PUBLISHED-TTL:PT1H
BEGIN:VTIMEZONE
TZID:America/Los_Angeles
BEGIN:DAYLIGHT
TZOFFSETFROM:-0800
TZOFFSETTO:-0700
TZNAME:PDT
DTSTART:20240310T100000
END:DAYLIGHT
BEGIN:STANDARD
TZOFFSETFROM:-0700
TZOFFSETTO:-0800
TZNAME:PST
DTSTART:20241103T090000
END:STANDARD
BEGIN:DAYLIGHT
TZOFFSETFROM:-0800
TZOFFSETTO:-0700
TZNAME:PDT
DTSTART:20250309T100000
END:DAYLIGHT
BEGIN:STANDARD
TZOFFSETFROM:-0700
TZOFFSETTO:-0800
TZNAME:PST
DTSTART:20251102T090000
END:STANDARD
BEGIN:DAYLIGHT
TZOFFSETFROM:-0800
TZOFFSETTO:-0700
TZNAME:PDT
DTSTART:20260308T100000
END:DAYLIGHT
BEGIN:STANDARD
TZOFFSETFROM:-0700
TZOFFSETTO:-0800
TZNAME:PST
DTSTART:20261101T090000
END:STANDARD
END:VTIMEZONE
BEGIN:VEVENT
DTSTART;TZID=America/Los_Angeles:20251001T170000
DTEND;TZID=America/Los_Angeles:20251001T193000
DTSTAMP:20260423T171253
CREATED:20250913T010827Z
LAST-MODIFIED:20250913T010827Z
UID:43995-1759338000-1759347000@www.friendsofmttam.org
SUMMARY:A peaceful stroll through Redwoods and Douglas firs.
DESCRIPTION:Meet: Mt Home Inn \n4 miles/ 500 ft elevation gain \nDeparture: 5PM. We expect to be back by 7:30 PM \nWater & Snack: Recommended \nSturdy Boots\, hiking poles and headlamp: Recommended \nTrails: Camp Eastwood Rd/Sierra/Camp Eastwood/Plevin Cut/Fern creek/Bridge 5 (Muir Woods)/Fern creek/Plevin Cut/Camp Eastwood Rd
URL:https://www.friendsofmttam.org/event/a-peaceful-stroll-through-redwoods-and-douglas-firs/
LOCATION:Mountain Home Inn\, 810 Panoramic Hwy\, Mill Valley\, CA 94941\, USA
END:VEVENT
END:VCALENDAR