BEGIN:VCALENDAR
VERSION:2.0
PRODID:-//Friends of Mt Tam - ECPv6.15.18//NONSGML v1.0//EN
CALSCALE:GREGORIAN
METHOD:PUBLISH
X-ORIGINAL-URL:https://www.friendsofmttam.org
X-WR-CALDESC:Events for Friends of Mt Tam
REFRESH-INTERVAL;VALUE=DURATION:PT1H
X-Robots-Tag:noindex
X-PUBLISHED-TTL:PT1H
BEGIN:VTIMEZONE
TZID:America/Los_Angeles
BEGIN:DAYLIGHT
TZOFFSETFROM:-0800
TZOFFSETTO:-0700
TZNAME:PDT
DTSTART:20240310T100000
END:DAYLIGHT
BEGIN:STANDARD
TZOFFSETFROM:-0700
TZOFFSETTO:-0800
TZNAME:PST
DTSTART:20241103T090000
END:STANDARD
BEGIN:DAYLIGHT
TZOFFSETFROM:-0800
TZOFFSETTO:-0700
TZNAME:PDT
DTSTART:20250309T100000
END:DAYLIGHT
BEGIN:STANDARD
TZOFFSETFROM:-0700
TZOFFSETTO:-0800
TZNAME:PST
DTSTART:20251102T090000
END:STANDARD
BEGIN:DAYLIGHT
TZOFFSETFROM:-0800
TZOFFSETTO:-0700
TZNAME:PDT
DTSTART:20260308T100000
END:DAYLIGHT
BEGIN:STANDARD
TZOFFSETFROM:-0700
TZOFFSETTO:-0800
TZNAME:PST
DTSTART:20261101T090000
END:STANDARD
END:VTIMEZONE
BEGIN:VEVENT
DTSTART;TZID=America/Los_Angeles:20251025T090000
DTEND;TZID=America/Los_Angeles:20251025T123000
DTSTAMP:20260423T171252
CREATED:20250916T195011Z
LAST-MODIFIED:20250916T195011Z
UID:44009-1761382800-1761395400@www.friendsofmttam.org
SUMMARY:Pantoll Quad Hike / West Point Inn
DESCRIPTION:Pantoll Quad Challenge /West Point Inn \nJoin Docent Debra Hoitomt\, for this guided hike. \nThis hike is considered Challenging (more than 4 miles and varying terrain) \nSign up is required and is limited to 12 people \nMEET: Pantoll Parking Area\nDEPARTURE: 9am Departure. Group should return no later than 1:00pm\nCANCELLATIONS: Rain\, red flag days\, winds above 30 mph\, and unforeseen circumstances will cancel. Check the Friends of Mt Tam Facebook for updates: https://www.facebook.com/FriendsOfMtTam\nPARKING: We strongly recommend carpooling and arriving 15 minutes early to find parking. Certain parking areas require a $8 fee (Pantoll\, Bootjack\, and East Peak). Bring exact change!\nWATER: Bring at least two bottles of water on hot days. Most hikes do not pass by public drinking water sources.\nFOOD: Unless stated otherwise in the hike description\, there will not be a formal lunch stop. Bring your own snacks.\nPROTECTION: Ticks\, mosquitoes\, horse flies and yellow jackets are present\, but not abundant.\nSTURDY BOOTS: Trails are uneven\, rocky and can be very steep in places. Sandals\, sneakers and running shoes are not recommended.\nHIKE DOCENTS have been trained under the California State Parks Volunteers In the Park Program (VIPP). \nThis hike is part of the “The Pantoll Quad”\, which is four epic hikes that start/end at the Pantoll Campground. Together they are 21 miles with 4\,300 feet of elevation. Individually they are 4.5 – 6.5 miles long with 500 – 1\,500 of elevation. \nPantoll Quad Info \n 
URL:https://www.friendsofmttam.org/event/pantoll-quad-hike-west-point-inn-2/
LOCATION:Pantoll Campground Parking\, 6456 Panoramic Hwy\, Mill Valley\, CA 94941\, USA\, 2 Panoramic Hwy\, United States
END:VEVENT
END:VCALENDAR