BEGIN:VCALENDAR
VERSION:2.0
PRODID:-//Friends of Mt Tam - ECPv6.15.18//NONSGML v1.0//EN
CALSCALE:GREGORIAN
METHOD:PUBLISH
X-ORIGINAL-URL:https://www.friendsofmttam.org
X-WR-CALDESC:Events for Friends of Mt Tam
REFRESH-INTERVAL;VALUE=DURATION:PT1H
X-Robots-Tag:noindex
X-PUBLISHED-TTL:PT1H
BEGIN:VTIMEZONE
TZID:America/Los_Angeles
BEGIN:DAYLIGHT
TZOFFSETFROM:-0800
TZOFFSETTO:-0700
TZNAME:PDT
DTSTART:20240310T100000
END:DAYLIGHT
BEGIN:STANDARD
TZOFFSETFROM:-0700
TZOFFSETTO:-0800
TZNAME:PST
DTSTART:20241103T090000
END:STANDARD
BEGIN:DAYLIGHT
TZOFFSETFROM:-0800
TZOFFSETTO:-0700
TZNAME:PDT
DTSTART:20250309T100000
END:DAYLIGHT
BEGIN:STANDARD
TZOFFSETFROM:-0700
TZOFFSETTO:-0800
TZNAME:PST
DTSTART:20251102T090000
END:STANDARD
BEGIN:DAYLIGHT
TZOFFSETFROM:-0800
TZOFFSETTO:-0700
TZNAME:PDT
DTSTART:20260308T100000
END:DAYLIGHT
BEGIN:STANDARD
TZOFFSETFROM:-0700
TZOFFSETTO:-0800
TZNAME:PST
DTSTART:20261101T090000
END:STANDARD
END:VTIMEZONE
BEGIN:VEVENT
DTSTART;TZID=America/Los_Angeles:20251105T170000
DTEND;TZID=America/Los_Angeles:20251105T190000
DTSTAMP:20260423T155443
CREATED:20251009T231302Z
LAST-MODIFIED:20251009T231302Z
UID:44022-1762362000-1762369200@www.friendsofmttam.org
SUMMARY:Tree bathing among Redwoods and Douglas Firs
DESCRIPTION:Tree bathing among Redwoods and Douglas firs. 4 miles/ 800 ft elevation gain \nThis hike will immerse you in nature with its tall trees and soothing sound of the Fern Creek. It will be led Docent Franklin Young. \nTrails: the paved Camp Alice Eastwood fire road. It is suitable for low light and light rain \nMeeting place: parking lot next 757 Panoramic by the fire road gate \nStart time: 5PM \nReturn: 7PM \nModerated pace \nHeadlamp/flashlight recommended \n 
URL:https://www.friendsofmttam.org/event/tree-bathing-among-redwoods-and-douglas-firs-2/
LOCATION:757 Panoramic\, 757 Panoramic Highway\, Mill Valley
END:VEVENT
END:VCALENDAR