BEGIN:VCALENDAR
VERSION:2.0
PRODID:-//Friends of Mt Tam - ECPv6.15.18//NONSGML v1.0//EN
CALSCALE:GREGORIAN
METHOD:PUBLISH
X-WR-CALNAME:Friends of Mt Tam
X-ORIGINAL-URL:https://www.friendsofmttam.org
X-WR-CALDESC:Events for Friends of Mt Tam
REFRESH-INTERVAL;VALUE=DURATION:PT1H
X-Robots-Tag:noindex
X-PUBLISHED-TTL:PT1H
BEGIN:VTIMEZONE
TZID:America/Los_Angeles
BEGIN:DAYLIGHT
TZOFFSETFROM:-0800
TZOFFSETTO:-0700
TZNAME:PDT
DTSTART:20240310T100000
END:DAYLIGHT
BEGIN:STANDARD
TZOFFSETFROM:-0700
TZOFFSETTO:-0800
TZNAME:PST
DTSTART:20241103T090000
END:STANDARD
BEGIN:DAYLIGHT
TZOFFSETFROM:-0800
TZOFFSETTO:-0700
TZNAME:PDT
DTSTART:20250309T100000
END:DAYLIGHT
BEGIN:STANDARD
TZOFFSETFROM:-0700
TZOFFSETTO:-0800
TZNAME:PST
DTSTART:20251102T090000
END:STANDARD
BEGIN:DAYLIGHT
TZOFFSETFROM:-0800
TZOFFSETTO:-0700
TZNAME:PDT
DTSTART:20260308T100000
END:DAYLIGHT
BEGIN:STANDARD
TZOFFSETFROM:-0700
TZOFFSETTO:-0800
TZNAME:PST
DTSTART:20261101T090000
END:STANDARD
END:VTIMEZONE
BEGIN:VEVENT
DTSTART;TZID=America/Los_Angeles:20251204T170000
DTEND;TZID=America/Los_Angeles:20251204T190000
DTSTAMP:20260423T143449
CREATED:20251125T192559Z
LAST-MODIFIED:20251125T192607Z
UID:44042-1764867600-1764874800@www.friendsofmttam.org
SUMMARY:Tree Bathing Under Super Moon
DESCRIPTION:Tree bathing under Super Moon. 3.5 miles/ 500 ft elevation gain \nThis hike will immerse you in Redwoods and Douglas Firs with the soothing sound of the Fern Creek. It will be led by Docent Franklin Young. \nTrails: the paved Camp Alice Eastwood fire road. It is suitable for low light and light rain \nMeeting place: 757 Panoramic Hwy\, Mill Valley. Parking area by the fire road gate \nStart time: 5PM \nReturn: 7PM \nModerated pace \nHeadlamp/flashlight recommended
URL:https://www.friendsofmttam.org/event/tree-bathing-under-super-moon/
LOCATION:757 Panoramic\, 757 Panoramic Highway\, Mill Valley
END:VEVENT
END:VCALENDAR