BEGIN:VCALENDAR
VERSION:2.0
PRODID:-//Friends of Mt Tam - ECPv6.15.18//NONSGML v1.0//EN
CALSCALE:GREGORIAN
METHOD:PUBLISH
X-WR-CALNAME:Friends of Mt Tam
X-ORIGINAL-URL:https://www.friendsofmttam.org
X-WR-CALDESC:Events for Friends of Mt Tam
REFRESH-INTERVAL;VALUE=DURATION:PT1H
X-Robots-Tag:noindex
X-PUBLISHED-TTL:PT1H
BEGIN:VTIMEZONE
TZID:America/Los_Angeles
BEGIN:DAYLIGHT
TZOFFSETFROM:-0800
TZOFFSETTO:-0700
TZNAME:PDT
DTSTART:20170312T100000
END:DAYLIGHT
BEGIN:STANDARD
TZOFFSETFROM:-0700
TZOFFSETTO:-0800
TZNAME:PST
DTSTART:20171105T090000
END:STANDARD
BEGIN:DAYLIGHT
TZOFFSETFROM:-0800
TZOFFSETTO:-0700
TZNAME:PDT
DTSTART:20180311T100000
END:DAYLIGHT
BEGIN:STANDARD
TZOFFSETFROM:-0700
TZOFFSETTO:-0800
TZNAME:PST
DTSTART:20181104T090000
END:STANDARD
BEGIN:DAYLIGHT
TZOFFSETFROM:-0800
TZOFFSETTO:-0700
TZNAME:PDT
DTSTART:20190310T100000
END:DAYLIGHT
BEGIN:STANDARD
TZOFFSETFROM:-0700
TZOFFSETTO:-0800
TZNAME:PST
DTSTART:20191103T090000
END:STANDARD
BEGIN:DAYLIGHT
TZOFFSETFROM:-0800
TZOFFSETTO:-0700
TZNAME:PDT
DTSTART:20200308T100000
END:DAYLIGHT
BEGIN:STANDARD
TZOFFSETFROM:-0700
TZOFFSETTO:-0800
TZNAME:PST
DTSTART:20201101T090000
END:STANDARD
BEGIN:DAYLIGHT
TZOFFSETFROM:-0800
TZOFFSETTO:-0700
TZNAME:PDT
DTSTART:20210314T100000
END:DAYLIGHT
BEGIN:STANDARD
TZOFFSETFROM:-0700
TZOFFSETTO:-0800
TZNAME:PST
DTSTART:20211107T090000
END:STANDARD
BEGIN:DAYLIGHT
TZOFFSETFROM:-0800
TZOFFSETTO:-0700
TZNAME:PDT
DTSTART:20220313T100000
END:DAYLIGHT
BEGIN:STANDARD
TZOFFSETFROM:-0700
TZOFFSETTO:-0800
TZNAME:PST
DTSTART:20221106T090000
END:STANDARD
BEGIN:DAYLIGHT
TZOFFSETFROM:-0800
TZOFFSETTO:-0700
TZNAME:PDT
DTSTART:20230312T100000
END:DAYLIGHT
BEGIN:STANDARD
TZOFFSETFROM:-0700
TZOFFSETTO:-0800
TZNAME:PST
DTSTART:20231105T090000
END:STANDARD
BEGIN:DAYLIGHT
TZOFFSETFROM:-0800
TZOFFSETTO:-0700
TZNAME:PDT
DTSTART:20240310T100000
END:DAYLIGHT
BEGIN:STANDARD
TZOFFSETFROM:-0700
TZOFFSETTO:-0800
TZNAME:PST
DTSTART:20241103T090000
END:STANDARD
BEGIN:DAYLIGHT
TZOFFSETFROM:-0800
TZOFFSETTO:-0700
TZNAME:PDT
DTSTART:20250309T100000
END:DAYLIGHT
BEGIN:STANDARD
TZOFFSETFROM:-0700
TZOFFSETTO:-0800
TZNAME:PST
DTSTART:20251102T090000
END:STANDARD
END:VTIMEZONE
BEGIN:VEVENT
DTSTART;TZID=America/Los_Angeles:20241207T120000
DTEND;TZID=America/Los_Angeles:20241207T160000
DTSTAMP:20260423T162235
CREATED:20241208T035432Z
LAST-MODIFIED:20241206T205457Z
UID:43636-1733572800-1733587200@www.friendsofmttam.org
SUMMARY:East Peak Gravity Car Barn Open
DESCRIPTION:State Park Volunteer docents at the Gravity Car Barn Museum share their love of the mountain’s rich history. Relive the past by learning how train passengers used to coast down the mountain. \nYou’ll also find: \n\nInterpretive displays to help connect visitors with the cultural resources found at the park.\nVideo documentary for your enjoyment\nHistoric photos and memorabilia – train tickets\, old tavern menus\, and more!
URL:https://www.friendsofmttam.org/event/east-peak-gravity-car-barn-museum-docent-tours-15/
LOCATION:Mt Tamalpais East Peak\, Mt. Tam Gravity Car Barn\, Mill Valley\, 94941\, United States
CATEGORIES:Gravity Car Barn
END:VEVENT
BEGIN:VEVENT
DTSTART;TZID=America/Los_Angeles:20241207T120000
DTEND;TZID=America/Los_Angeles:20241207T160000
DTSTAMP:20260423T162235
CREATED:20241206T205713Z
LAST-MODIFIED:20241206T205713Z
UID:43916-1733572800-1733587200@www.friendsofmttam.org
SUMMARY:East Peak Gravity Car Barn Open
DESCRIPTION:State Park Volunteer docents at the Gravity Car Barn Museum share their love of the mountain’s rich history. Relive the past by learning how train passengers used to coast down the mountain. \nYou’ll also find: \n\nInterpretive displays to help connect visitors with the cultural resources found at the park.\nVideo documentary for your enjoyment\nHistoric photos and memorabilia – train tickets\, old tavern menus\, and more!
URL:https://www.friendsofmttam.org/event/east-peak-gravity-car-barn-open-2/
LOCATION:Mt Tamalpais East Peak\, Mt. Tam Gravity Car Barn\, Mill Valley\, 94941\, United States
CATEGORIES:Gravity Car Barn
END:VEVENT
BEGIN:VEVENT
DTSTART;TZID=America/Los_Angeles:20231208T120000
DTEND;TZID=America/Los_Angeles:20231208T160000
DTSTAMP:20260423T162235
CREATED:20241206T205247Z
LAST-MODIFIED:20241206T205247Z
UID:43912-1702036800-1702051200@www.friendsofmttam.org
SUMMARY:East Peak Gravity Car Barn Open
DESCRIPTION:State Park Volunteer docents at the Gravity Car Barn Museum share their love of the mountain’s rich history. Relive the past by learning how train passengers used to coast down the mountain. \nYou’ll also find: \n\nInterpretive displays to help connect visitors with the cultural resources found at the park.\nVideo documentary for your enjoyment\nHistoric photos and memorabilia – train tickets\, old tavern menus\, and more!
URL:https://www.friendsofmttam.org/event/east-peak-gravity-car-barn-open/
LOCATION:Mt Tamalpais East Peak\, Mt. Tam Gravity Car Barn\, Mill Valley\, 94941\, United States
CATEGORIES:Gravity Car Barn
END:VEVENT
BEGIN:VEVENT
DTSTART;TZID=America/Los_Angeles:20221217T120000
DTEND;TZID=America/Los_Angeles:20221217T160000
DTSTAMP:20260423T162235
CREATED:20221023T025402Z
LAST-MODIFIED:20221117T012456Z
UID:43634-1671278400-1671292800@www.friendsofmttam.org
SUMMARY:East Peak Gravity Car Barn Open
DESCRIPTION:State Park Volunteer docents at the Gravity Car Barn Museum share their love of the mountain’s rich history. Relive the past by learning how train passengers used to coast down the mountain. \nYou’ll also find: \n\nInterpretive displays to help connect visitors with the cultural resources found at the park.\nVideo documentary for your enjoyment\nHistoric photos and memorabilia – train tickets\, old tavern menus\, and more!
URL:https://www.friendsofmttam.org/event/east-peak-gravity-car-barn-museum-docent-tours-14/
LOCATION:Mt Tamalpais East Peak\, Mt. Tam Gravity Car Barn\, Mill Valley\, 94941\, United States
CATEGORIES:Gravity Car Barn
END:VEVENT
BEGIN:VEVENT
DTSTART;TZID=America/Los_Angeles:20221211T120000
DTEND;TZID=America/Los_Angeles:20221211T160000
DTSTAMP:20260423T162235
CREATED:20221023T025335Z
LAST-MODIFIED:20221117T012507Z
UID:43632-1670760000-1670774400@www.friendsofmttam.org
SUMMARY:East Peak Gravity Car Barn Open
DESCRIPTION:State Park Volunteer docents at the Gravity Car Barn Museum share their love of the mountain’s rich history. Relive the past by learning how train passengers used to coast down the mountain. \nYou’ll also find: \n\nInterpretive displays to help connect visitors with the cultural resources found at the park.\nVideo documentary for your enjoyment\nHistoric photos and memorabilia – train tickets\, old tavern menus\, and more!
URL:https://www.friendsofmttam.org/event/east-peak-gravity-car-barn-museum-docent-tours-13/
LOCATION:Mt Tamalpais East Peak\, Mt. Tam Gravity Car Barn\, Mill Valley\, 94941\, United States
CATEGORIES:Gravity Car Barn
END:VEVENT
BEGIN:VEVENT
DTSTART;TZID=America/Los_Angeles:20221210T120000
DTEND;TZID=America/Los_Angeles:20221210T160000
DTSTAMP:20260423T162235
CREATED:20221023T025309Z
LAST-MODIFIED:20221117T012516Z
UID:43630-1670673600-1670688000@www.friendsofmttam.org
SUMMARY:East Peak Gravity Car Barn Open
DESCRIPTION:State Park Volunteer docents at the Gravity Car Barn Museum share their love of the mountain’s rich history. Relive the past by learning how train passengers used to coast down the mountain. \nYou’ll also find: \n\nInterpretive displays to help connect visitors with the cultural resources found at the park.\nVideo documentary for your enjoyment\nHistoric photos and memorabilia – train tickets\, old tavern menus\, and more!
URL:https://www.friendsofmttam.org/event/east-peak-gravity-car-barn-museum-docent-tours-12/
LOCATION:Mt Tamalpais East Peak\, Mt. Tam Gravity Car Barn\, Mill Valley\, 94941\, United States
CATEGORIES:Gravity Car Barn
END:VEVENT
BEGIN:VEVENT
DTSTART;TZID=America/Los_Angeles:20221204T120000
DTEND;TZID=America/Los_Angeles:20221204T160000
DTSTAMP:20260423T162235
CREATED:20221023T025236Z
LAST-MODIFIED:20221117T012529Z
UID:43628-1670155200-1670169600@www.friendsofmttam.org
SUMMARY:East Peak Gravity Car Barn Open
DESCRIPTION:State Park Volunteer docents at the Gravity Car Barn Museum share their love of the mountain’s rich history. Relive the past by learning how train passengers used to coast down the mountain. \nYou’ll also find: \n\nInterpretive displays to help connect visitors with the cultural resources found at the park.\nVideo documentary for your enjoyment\nHistoric photos and memorabilia – train tickets\, old tavern menus\, and more!
URL:https://www.friendsofmttam.org/event/east-peak-gravity-car-barn-museum-docent-tours-11/
LOCATION:Mt Tamalpais East Peak\, Mt. Tam Gravity Car Barn\, Mill Valley\, 94941\, United States
CATEGORIES:Gravity Car Barn
END:VEVENT
BEGIN:VEVENT
DTSTART;TZID=America/Los_Angeles:20221203T120000
DTEND;TZID=America/Los_Angeles:20221203T160000
DTSTAMP:20260423T162235
CREATED:20221023T025208Z
LAST-MODIFIED:20221117T012539Z
UID:43626-1670068800-1670083200@www.friendsofmttam.org
SUMMARY:East Peak Gravity Car Barn Open
DESCRIPTION:State Park Volunteer docents at the Gravity Car Barn Museum share their love of the mountain’s rich history. Relive the past by learning how train passengers used to coast down the mountain. \nYou’ll also find: \n\nInterpretive displays to help connect visitors with the cultural resources found at the park.\nVideo documentary for your enjoyment\nHistoric photos and memorabilia – train tickets\, old tavern menus\, and more!
URL:https://www.friendsofmttam.org/event/east-peak-gravity-car-barn-museum-docent-tours-10/
LOCATION:Mt Tamalpais East Peak\, Mt. Tam Gravity Car Barn\, Mill Valley\, 94941\, United States
CATEGORIES:Gravity Car Barn
END:VEVENT
BEGIN:VEVENT
DTSTART;TZID=America/Los_Angeles:20221127T120000
DTEND;TZID=America/Los_Angeles:20221127T160000
DTSTAMP:20260423T162235
CREATED:20221023T025136Z
LAST-MODIFIED:20221023T025136Z
UID:43624-1669550400-1669564800@www.friendsofmttam.org
SUMMARY:East Peak Gravity Car Barn Museum Docent Tours
DESCRIPTION:State Park Volunteer docents at the Gravity Car Barn Museum share their love of the mountain’s rich history. Relive the past by learning how train passengers used to coast down the mountain. \nYou’ll also find: \n\nInterpretive displays to help connect visitors with the cultural resources found at the park.\nVideo documentary for your enjoyment\nHistoric photos and memorabilia – train tickets\, old tavern menus\, and more!
URL:https://www.friendsofmttam.org/event/east-peak-gravity-car-barn-museum-docent-tours-9/
LOCATION:Mt Tamalpais East Peak\, Mt. Tam Gravity Car Barn\, Mill Valley\, 94941\, United States
CATEGORIES:Gravity Car Barn
END:VEVENT
BEGIN:VEVENT
DTSTART;TZID=America/Los_Angeles:20221126T120000
DTEND;TZID=America/Los_Angeles:20221126T160000
DTSTAMP:20260423T162235
CREATED:20221023T025102Z
LAST-MODIFIED:20221117T012549Z
UID:43622-1669464000-1669478400@www.friendsofmttam.org
SUMMARY:East Peak Gravity Car Barn Open
DESCRIPTION:State Park Volunteer docents at the Gravity Car Barn Museum share their love of the mountain’s rich history. Relive the past by learning how train passengers used to coast down the mountain. \nYou’ll also find: \n\nInterpretive displays to help connect visitors with the cultural resources found at the park.\nVideo documentary for your enjoyment\nHistoric photos and memorabilia – train tickets\, old tavern menus\, and more!
URL:https://www.friendsofmttam.org/event/east-peak-gravity-car-barn-museum-docent-tours-8/
LOCATION:Mt Tamalpais East Peak\, Mt. Tam Gravity Car Barn\, Mill Valley\, 94941\, United States
CATEGORIES:Gravity Car Barn
END:VEVENT
BEGIN:VEVENT
DTSTART;TZID=America/Los_Angeles:20221120T120000
DTEND;TZID=America/Los_Angeles:20221120T160000
DTSTAMP:20260423T162235
CREATED:20221023T023857Z
LAST-MODIFIED:20221117T012558Z
UID:43616-1668945600-1668960000@www.friendsofmttam.org
SUMMARY:East Peak Gravity Car Barn Open
DESCRIPTION:State Park Volunteer docents at the Gravity Car Barn Museum share their love of the mountain’s rich history. Relive the past by learning how train passengers used to coast down the mountain. \nYou’ll also find: \n\nInterpretive displays to help connect visitors with the cultural resources found at the park.\nVideo documentary for your enjoyment\nHistoric photos and memorabilia – train tickets\, old tavern menus\, and more!
URL:https://www.friendsofmttam.org/event/east-peak-gravity-car-barn-museum-docent-tours-7/
LOCATION:Mt Tamalpais East Peak\, Mt. Tam Gravity Car Barn\, Mill Valley\, 94941\, United States
CATEGORIES:Gravity Car Barn
END:VEVENT
BEGIN:VEVENT
DTSTART;TZID=America/Los_Angeles:20221119T120000
DTEND;TZID=America/Los_Angeles:20221119T160000
DTSTAMP:20260423T162235
CREATED:20221023T023818Z
LAST-MODIFIED:20221117T012409Z
UID:43614-1668859200-1668873600@www.friendsofmttam.org
SUMMARY:East Peak Gravity Car Barn Open
DESCRIPTION:State Park Volunteer docents at the Gravity Car Barn Museum share their love of the mountain’s rich history. Relive the past by learning how train passengers used to coast down the mountain. \nYou’ll also find: \n\nInterpretive displays to help connect visitors with the cultural resources found at the park.\nVideo documentary for your enjoyment\nHistoric photos and memorabilia – train tickets\, old tavern menus\, and more!
URL:https://www.friendsofmttam.org/event/east-peak-gravity-car-barn-museum-docent-tours-6/
LOCATION:Mt Tamalpais East Peak\, Mt. Tam Gravity Car Barn\, Mill Valley\, 94941\, United States
CATEGORIES:Gravity Car Barn
END:VEVENT
BEGIN:VEVENT
DTSTART;TZID=America/Los_Angeles:20221106T120000
DTEND;TZID=America/Los_Angeles:20221106T160000
DTSTAMP:20260423T162235
CREATED:20221023T023744Z
LAST-MODIFIED:20221117T012610Z
UID:43612-1667736000-1667750400@www.friendsofmttam.org
SUMMARY:East Peak Gravity Car Barn Open
DESCRIPTION:State Park Volunteer docents at the Gravity Car Barn Museum share their love of the mountain’s rich history. Relive the past by learning how train passengers used to coast down the mountain. \nYou’ll also find: \n\nInterpretive displays to help connect visitors with the cultural resources found at the park.\nVideo documentary for your enjoyment\nHistoric photos and memorabilia – train tickets\, old tavern menus\, and more!
URL:https://www.friendsofmttam.org/event/east-peak-gravity-car-barn-museum-docent-tours-5/
LOCATION:Mt Tamalpais East Peak\, Mt. Tam Gravity Car Barn\, Mill Valley\, 94941\, United States
CATEGORIES:Gravity Car Barn
END:VEVENT
BEGIN:VEVENT
DTSTART;TZID=America/Los_Angeles:20221105T120000
DTEND;TZID=America/Los_Angeles:20221105T160000
DTSTAMP:20260423T162235
CREATED:20221023T023710Z
LAST-MODIFIED:20221023T023710Z
UID:43609-1667649600-1667664000@www.friendsofmttam.org
SUMMARY:East Peak Gravity Car Barn Museum Docent Tours
DESCRIPTION:State Park Volunteer docents at the Gravity Car Barn Museum share their love of the mountain’s rich history. Relive the past by learning how train passengers used to coast down the mountain. \nYou’ll also find: \n\nInterpretive displays to help connect visitors with the cultural resources found at the park.\nVideo documentary for your enjoyment\nHistoric photos and memorabilia – train tickets\, old tavern menus\, and more!
URL:https://www.friendsofmttam.org/event/east-peak-gravity-car-barn-museum-docent-tours-4/
LOCATION:Mt Tamalpais East Peak\, Mt. Tam Gravity Car Barn\, Mill Valley\, 94941\, United States
CATEGORIES:Gravity Car Barn
END:VEVENT
BEGIN:VEVENT
DTSTART;TZID=America/Los_Angeles:20221030T120000
DTEND;TZID=America/Los_Angeles:20221030T160000
DTSTAMP:20260423T162235
CREATED:20221023T012931Z
LAST-MODIFIED:20221023T012931Z
UID:43607-1667131200-1667145600@www.friendsofmttam.org
SUMMARY:East Peak Gravity Car Barn Museum Docent Tours
DESCRIPTION:State Park Volunteer docents at the Gravity Car Barn Museum share their love of the mountain’s rich history. Relive the past by learning how train passengers used to coast down the mountain. \nYou’ll also find: \n\nInterpretive displays to help connect visitors with the cultural resources found at the park.\nVideo documentary for your enjoyment\nHistoric photos and memorabilia – train tickets\, old tavern menus\, and more!
URL:https://www.friendsofmttam.org/event/east-peak-gravity-car-barn-museum-docent-tours-3/
LOCATION:Mt Tamalpais East Peak\, Mt. Tam Gravity Car Barn\, Mill Valley\, 94941\, United States
CATEGORIES:Gravity Car Barn
END:VEVENT
BEGIN:VEVENT
DTSTART;TZID=America/Los_Angeles:20221015T120000
DTEND;TZID=America/Los_Angeles:20221015T160000
DTSTAMP:20260423T162235
CREATED:20221014T200805Z
LAST-MODIFIED:20221014T200805Z
UID:43586-1665835200-1665849600@www.friendsofmttam.org
SUMMARY:East Peak Gravity Car Barn Museum Docent Tours
DESCRIPTION:State Park Volunteer docents at the Gravity Car Barn Museum share their love of the mountain’s rich history. Relive the past by learning how train passengers used to coast down the mountain. \nYou’ll also find: \n\nInterpretive displays to help connect visitors with the cultural resources found at the park.\nVideo documentary for your enjoyment\nHistoric photos and memorabilia – train tickets\, old tavern menus\, and more!
URL:https://www.friendsofmttam.org/event/east-peak-gravity-car-barn-museum-docent-tours/
LOCATION:Mt Tamalpais East Peak\, Mt. Tam Gravity Car Barn\, Mill Valley\, 94941\, United States
CATEGORIES:Gravity Car Barn
END:VEVENT
BEGIN:VEVENT
DTSTART;VALUE=DATE:20180331
DTEND;VALUE=DATE:20180401
DTSTAMP:20260423T162235
CREATED:20180111T041129Z
LAST-MODIFIED:20190420T170020Z
UID:10306-1522454400-1522540799@www.friendsofmttam.org
SUMMARY:12-4 Gravity Car Barn - Phill Rhodes
DESCRIPTION:Gravity Car Barn Museum – East Peak
URL:https://www.friendsofmttam.org/event/12-4-gravity-car-barn-phill-rhodes/
LOCATION:East Peak\, Mt Tamalpais
CATEGORIES:Gravity Car Barn
END:VEVENT
BEGIN:VEVENT
DTSTART;VALUE=DATE:20180325
DTEND;VALUE=DATE:20180326
DTSTAMP:20260423T162235
CREATED:20180111T041129Z
LAST-MODIFIED:20190420T170020Z
UID:10305-1521936000-1522022399@www.friendsofmttam.org
SUMMARY:12-4 Gravity Car Barn - Colleen Hogue
DESCRIPTION:Gravity Car Barn Museum – East Peak
URL:https://www.friendsofmttam.org/event/12-4-gravity-car-barn-colleen-hogue-3/
LOCATION:East Peak\, Mt Tamalpais
CATEGORIES:Gravity Car Barn
END:VEVENT
BEGIN:VEVENT
DTSTART;VALUE=DATE:20180324
DTEND;VALUE=DATE:20180325
DTSTAMP:20260423T162235
CREATED:20180111T041128Z
LAST-MODIFIED:20190420T170020Z
UID:10304-1521849600-1521935999@www.friendsofmttam.org
SUMMARY:12-4 Gravity Car Barn - Fred Codoni\, Richard Torney\, Larry Salbeak
DESCRIPTION:Gravity Car Barn Museum – East Peak
URL:https://www.friendsofmttam.org/event/12-4-gravity-car-barn-fred-runner-richard-torney-larry-salbeak-3/
LOCATION:East Peak\, Mt Tamalpais
CATEGORIES:Gravity Car Barn
END:VEVENT
BEGIN:VEVENT
DTSTART;VALUE=DATE:20180318
DTEND;VALUE=DATE:20180319
DTSTAMP:20260423T162235
CREATED:20180111T041128Z
LAST-MODIFIED:20190420T170020Z
UID:10303-1521331200-1521417599@www.friendsofmttam.org
SUMMARY:12-4 Gravity Car Barn - Fred Runner
DESCRIPTION:Gravity Car Barn Museum – East Peak
URL:https://www.friendsofmttam.org/event/12-4-gravity-car-barn-fred-runner-3/
LOCATION:East Peak\, Mt Tamalpais
CATEGORIES:Gravity Car Barn
END:VEVENT
BEGIN:VEVENT
DTSTART;VALUE=DATE:20180317
DTEND;VALUE=DATE:20180318
DTSTAMP:20260423T162235
CREATED:20180111T041128Z
LAST-MODIFIED:20190420T170020Z
UID:10302-1521244800-1521331199@www.friendsofmttam.org
SUMMARY:12-4 Gravity Car Barn - Arlene Haligan\, Phil Rhodes\, Jan McKey
DESCRIPTION:Gravity Car Barn Museum – East Peak
URL:https://www.friendsofmttam.org/event/12-4-gravity-car-barn-arlene-haligan-and-jan-mckey-3/
LOCATION:East Peak\, Mt Tamalpais
CATEGORIES:Gravity Car Barn
END:VEVENT
BEGIN:VEVENT
DTSTART;VALUE=DATE:20180311
DTEND;VALUE=DATE:20180312
DTSTAMP:20260423T162235
CREATED:20180111T041126Z
LAST-MODIFIED:20190420T170020Z
UID:10301-1520726400-1520812799@www.friendsofmttam.org
SUMMARY:12-4 Gravity Car Barn - Amy Palmer\, Karen Betzner
DESCRIPTION:Gravity Car Barn Museum – East Peak
URL:https://www.friendsofmttam.org/event/12-4-gravity-car-barn-amy-palmer-karen-betzner-3/
LOCATION:East Peak\, Mt Tamalpais
CATEGORIES:Gravity Car Barn
END:VEVENT
BEGIN:VEVENT
DTSTART;VALUE=DATE:20180310
DTEND;VALUE=DATE:20180311
DTSTAMP:20260423T162235
CREATED:20180111T041126Z
LAST-MODIFIED:20190420T170020Z
UID:10300-1520640000-1520726399@www.friendsofmttam.org
SUMMARY:12-4 Gravity Car Barn - Janet Rostad
DESCRIPTION:Gravity Car Barn Museum – East Peak
URL:https://www.friendsofmttam.org/event/12-4-gravity-car-barn-janet-rostad-2/
LOCATION:East Peak\, Mt Tamalpais
CATEGORIES:Gravity Car Barn
END:VEVENT
BEGIN:VEVENT
DTSTART;VALUE=DATE:20180304
DTEND;VALUE=DATE:20180305
DTSTAMP:20260423T162235
CREATED:20180111T041126Z
LAST-MODIFIED:20190420T170020Z
UID:10299-1520121600-1520207999@www.friendsofmttam.org
SUMMARY:12-4 Gravity Car Barn - Cathie and Bob Karcher
DESCRIPTION:Gravity Car Barn Museum – East Peak
URL:https://www.friendsofmttam.org/event/12-4-gravity-car-barn-cathie-and-bob-karcher-3/
LOCATION:East Peak\, Mt Tamalpais
CATEGORIES:Gravity Car Barn
END:VEVENT
BEGIN:VEVENT
DTSTART;VALUE=DATE:20180303
DTEND;VALUE=DATE:20180304
DTSTAMP:20260423T162235
CREATED:20180111T041126Z
LAST-MODIFIED:20190420T170020Z
UID:10298-1520035200-1520121599@www.friendsofmttam.org
SUMMARY:12-4 Gravity Car Barn - Paul Rubinfeld
DESCRIPTION:Gravity Car Barn Museum – East Peak
URL:https://www.friendsofmttam.org/event/12-4-gravity-car-barn-paul-rubinfeld-3/
LOCATION:East Peak\, Mt Tamalpais
CATEGORIES:Gravity Car Barn
END:VEVENT
BEGIN:VEVENT
DTSTART;VALUE=DATE:20180225
DTEND;VALUE=DATE:20180226
DTSTAMP:20260423T162235
CREATED:20180111T041125Z
LAST-MODIFIED:20190420T170020Z
UID:10297-1519516800-1519603199@www.friendsofmttam.org
SUMMARY:12-4 Gravity Car Barn - Colleen Hogue
DESCRIPTION:Gravity Car Barn Museum – East Peak
URL:https://www.friendsofmttam.org/event/12-4-gravity-car-barn-colleen-hogue-2/
LOCATION:East Peak\, Mt Tamalpais
CATEGORIES:Gravity Car Barn
END:VEVENT
BEGIN:VEVENT
DTSTART;VALUE=DATE:20180224
DTEND;VALUE=DATE:20180225
DTSTAMP:20260423T162235
CREATED:20180111T041052Z
LAST-MODIFIED:20190420T170019Z
UID:10296-1519430400-1519516799@www.friendsofmttam.org
SUMMARY:12-4 Gravity Car Barn - Fred Codoni\, Richard Torney\, Larry Salbeak
DESCRIPTION:Gravity Car Barn Museum – East Peak
URL:https://www.friendsofmttam.org/event/12-4-gravity-car-barn-fred-runner-richard-torney-larry-salbeak-2/
LOCATION:East Peak\, Mt Tamalpais
CATEGORIES:Gravity Car Barn
END:VEVENT
BEGIN:VEVENT
DTSTART;VALUE=DATE:20180218
DTEND;VALUE=DATE:20180219
DTSTAMP:20260423T162235
CREATED:20180111T041052Z
LAST-MODIFIED:20190420T170019Z
UID:10295-1518912000-1518998399@www.friendsofmttam.org
SUMMARY:12-4 Gravity Car Barn - Fred Runner
DESCRIPTION:Gravity Car Barn Museum – East Peak
URL:https://www.friendsofmttam.org/event/12-4-gravity-car-barn-fred-runner-2/
LOCATION:East Peak\, Mt Tamalpais
CATEGORIES:Gravity Car Barn
END:VEVENT
BEGIN:VEVENT
DTSTART;VALUE=DATE:20180217
DTEND;VALUE=DATE:20180218
DTSTAMP:20260423T162235
CREATED:20180111T041052Z
LAST-MODIFIED:20190420T170019Z
UID:10294-1518825600-1518911999@www.friendsofmttam.org
SUMMARY:12-4 Gravity Car Barn - Amy Palmer
DESCRIPTION:Gravity Car Barn Museum – East Peak
URL:https://www.friendsofmttam.org/event/12-4-gravity-car-barn-arlene-haligan-and-jan-mckey-2/
LOCATION:East Peak\, Mt Tamalpais
CATEGORIES:Gravity Car Barn
END:VEVENT
BEGIN:VEVENT
DTSTART;VALUE=DATE:20180211
DTEND;VALUE=DATE:20180212
DTSTAMP:20260423T162235
CREATED:20180111T041052Z
LAST-MODIFIED:20190420T170019Z
UID:10293-1518307200-1518393599@www.friendsofmttam.org
SUMMARY:12-4 Gravity Car Barn - Amy Palmer\, Karen Betzner
DESCRIPTION:Gravity Car Barn Museum – East Peak
URL:https://www.friendsofmttam.org/event/12-4-gravity-car-barn-amy-palmer-karen-betzner-2/
LOCATION:East Peak\, Mt Tamalpais
CATEGORIES:Gravity Car Barn
END:VEVENT
END:VCALENDAR