BEGIN:VCALENDAR
VERSION:2.0
PRODID:-//Friends of Mt Tam - ECPv6.15.18//NONSGML v1.0//EN
CALSCALE:GREGORIAN
METHOD:PUBLISH
X-WR-CALNAME:Friends of Mt Tam
X-ORIGINAL-URL:https://www.friendsofmttam.org
X-WR-CALDESC:Events for Friends of Mt Tam
REFRESH-INTERVAL;VALUE=DURATION:PT1H
X-Robots-Tag:noindex
X-PUBLISHED-TTL:PT1H
BEGIN:VTIMEZONE
TZID:America/Los_Angeles
BEGIN:DAYLIGHT
TZOFFSETFROM:-0800
TZOFFSETTO:-0700
TZNAME:PDT
DTSTART:20170312T100000
END:DAYLIGHT
BEGIN:STANDARD
TZOFFSETFROM:-0700
TZOFFSETTO:-0800
TZNAME:PST
DTSTART:20171105T090000
END:STANDARD
BEGIN:DAYLIGHT
TZOFFSETFROM:-0800
TZOFFSETTO:-0700
TZNAME:PDT
DTSTART:20180311T100000
END:DAYLIGHT
BEGIN:STANDARD
TZOFFSETFROM:-0700
TZOFFSETTO:-0800
TZNAME:PST
DTSTART:20181104T090000
END:STANDARD
BEGIN:DAYLIGHT
TZOFFSETFROM:-0800
TZOFFSETTO:-0700
TZNAME:PDT
DTSTART:20190310T100000
END:DAYLIGHT
BEGIN:STANDARD
TZOFFSETFROM:-0700
TZOFFSETTO:-0800
TZNAME:PST
DTSTART:20191103T090000
END:STANDARD
END:VTIMEZONE
BEGIN:VEVENT
DTSTART;VALUE=DATE:20180919
DTEND;VALUE=DATE:20180920
DTSTAMP:20260424T013732
CREATED:20180627T000202Z
LAST-MODIFIED:20191202T164135Z
UID:14514-1537315200-1537401599@www.friendsofmttam.org
SUMMARY:5:30 PM Evening Hike -Regular-Hwy 1 & Muir Woods Rd #15 - Mt Tam History Led by Robert Feist
DESCRIPTION:Autumn is just a few days away!  We’ll explore some of the lower Redwood Creek watershed – where fresh waters meet the Pacific Ocean at Muir Beach.  Who knows what we might see!! Wednesday evening hikes last 2 to 3 hours with a 15 minute break.
URL:https://www.friendsofmttam.org/event/530-pm-evening-hike-regular-hwy-1-muir-woods-rd-15-mt-tam-history-led-by-robert-feist/
LOCATION:Hwy 1 & Muir Woods Rd #15\, Mt Tamalpais
CATEGORIES:Hike
END:VEVENT
BEGIN:VEVENT
DTSTART;VALUE=DATE:20180915
DTEND;VALUE=DATE:20180916
DTSTAMP:20260424T013732
CREATED:20180627T000202Z
LAST-MODIFIED:20191202T164135Z
UID:14512-1536969600-1537055999@www.friendsofmttam.org
SUMMARY:9:30 AM Saturday Hike -Challenging-Stinson Beach #17 - Surf to Summit Led by Park Interperter Rosanna Petralia; Maria De La Fuente
DESCRIPTION:Hike Challenge – SAVE THE DATE–More info SOON!
URL:https://www.friendsofmttam.org/event/930-am-saturday-hike-challenging-stinson-beach-17-surf-to-summit-led-by-park-interperter-rosanna-petralia-maria-de-la-fuente/
LOCATION:Stinson Beach #17\, Mt Tamalpais
CATEGORIES:Hike
END:VEVENT
BEGIN:VEVENT
DTSTART;VALUE=DATE:20180912
DTEND;VALUE=DATE:20180913
DTSTAMP:20260424T013732
CREATED:20180802T055609Z
LAST-MODIFIED:20191202T164135Z
UID:15633-1536710400-1536796799@www.friendsofmttam.org
SUMMARY:HIKE: Karen Sapper
DESCRIPTION:Evening Hike Wednesday\, September 12\, @5:30pm from Mt Home parking area with docent Karen Sapper.\nA lush trail down to Fern Creek\, and along the border of Muir Woods\, coming back up on the Canopy Trail. A beautiful and shaded route.\nDistance 4 miles\, elevation gain 820ft.
URL:https://www.friendsofmttam.org/event/hike-karen-sapper-2/
CATEGORIES:Hike
END:VEVENT
BEGIN:VEVENT
DTSTART;VALUE=DATE:20180909
DTEND;VALUE=DATE:20180910
DTSTAMP:20260424T013732
CREATED:20180627T000158Z
LAST-MODIFIED:20191202T164135Z
UID:14511-1536451200-1536537599@www.friendsofmttam.org
SUMMARY:9:30 AM Sunday Hike -Moderate-Laurel Dell #2 - Mt Tam History Led by Karen Ulring
DESCRIPTION:Let’s visit the Helen Markt trail with hike to Alpine Lake.  We’ll loop back up the Kent\, Potrero and the Mickey O’Brien.  About 7-8 miles\, 1700′ elevation.
URL:https://www.friendsofmttam.org/event/930-am-sunday-hike-moderate-laurel-dell-2-mt-tam-history-led-by-karen-ulring/
LOCATION:Laurel Dell #2\, Mt Tamalpais
CATEGORIES:Hike
END:VEVENT
BEGIN:VEVENT
DTSTART;VALUE=DATE:20180908
DTEND;VALUE=DATE:20180909
DTSTAMP:20260424T013732
CREATED:20180627T000158Z
LAST-MODIFIED:20191202T164135Z
UID:14510-1536364800-1536451199@www.friendsofmttam.org
SUMMARY:9:30 AM Saturday Hike -Regular-Pantoll #9 - Redwoods Led by Park Interperter Rosanna Petralia
DESCRIPTION:Free 2nd Saturday Hike – How is everything connected in the forest? Have you heard there are fish up on the trees? We will walk among the redwoods and discover their amazing adaptations and the community they support.
URL:https://www.friendsofmttam.org/event/930-am-saturday-hike-regular-pantoll-9-redwoods-led-by-park-interperter-rosanna-petralia-2/
LOCATION:Pantoll #9\, Mt Tamalpais
CATEGORIES:Hike
END:VEVENT
BEGIN:VEVENT
DTSTART;VALUE=DATE:20180903
DTEND;VALUE=DATE:20180904
DTSTAMP:20260424T013732
CREATED:20180627T000158Z
LAST-MODIFIED:20191202T164134Z
UID:14509-1535932800-1536019199@www.friendsofmttam.org
SUMMARY:9:30 AM Holiday Hike -Easy-Pantoll #9 - Owls Led by Joan Lamphier
DESCRIPTION:We will talk about the northern spotted owl and its distribution in Marin County
URL:https://www.friendsofmttam.org/event/930-am-holiday-hike-easy-pantoll-9-owls-led-by-joan-lamphier/
LOCATION:Pantoll #9\, Mt Tamalpais
CATEGORIES:Hike
END:VEVENT
BEGIN:VEVENT
DTSTART;VALUE=DATE:20180902
DTEND;VALUE=DATE:20180903
DTSTAMP:20260424T013732
CREATED:20180802T203142Z
LAST-MODIFIED:20191202T164134Z
UID:15646-1535846400-1535932799@www.friendsofmttam.org
SUMMARY:HIKE: Rosalind Gottfried
DESCRIPTION:Sunday\, Sept 2 @9:30am “Sounds and Silence in Nature” from Stinson Beach with docent Rosalind Gottfried.\nMeeting point: Stinson Beach parking lot. Leading docent will have a sign on the roof of her car that say “Hike open to the public.”\nGreat workout and opportunity to see different habitats on Mt Tam\, from redwoods to oak woodland\, coastal scrub and grassland. There will be the opportunity to meditate on nature and practice walk for five minutes in silence among the redwoods.  \nDistance: 6.9 miles\nElevation Gain: 1\,788ft.\nModerate to strenuous hike. No pets allowed.
URL:https://www.friendsofmttam.org/event/hike-rosalind-gottfried/
CATEGORIES:Hike
END:VEVENT
BEGIN:VEVENT
DTSTART;VALUE=DATE:20180829
DTEND;VALUE=DATE:20180830
DTSTAMP:20260424T013732
CREATED:20180627T000158Z
LAST-MODIFIED:20191202T164134Z
UID:14508-1535500800-1535587199@www.friendsofmttam.org
SUMMARY:5:30 PM Evening Hike -Easy-Pantoll #9 - Shinrin-Yoku 101 Led by Nancy Benjamin
DESCRIPTION:Take a Forest Bath on Mt. Tam! Enjoy a leisurely walk in the woods\, clear your mind\, engage your senses\, and learn ways to deepen your connection with nature. Kid friendly. (approx 3 miles) Wednesday evening hikes last 2 to 3 hours with a 15 minute break.
URL:https://www.friendsofmttam.org/event/530-pm-evening-hike-easy-pantoll-9-shinrin-yoku-101-led-by-nancy-benjamin/
LOCATION:Pantoll #9\, Mt Tamalpais
CATEGORIES:Hike
END:VEVENT
BEGIN:VEVENT
DTSTART;VALUE=DATE:20180825
DTEND;VALUE=DATE:20180826
DTSTAMP:20260424T013732
CREATED:20180627T000158Z
LAST-MODIFIED:20191202T164134Z
UID:14507-1535155200-1535241599@www.friendsofmttam.org
SUMMARY:7:30 PM Saturday Moonlight Hike -Easy-Pantoll #9 - Sturgeon Moon Led by Catherine Orland
DESCRIPTION:Walk along Old Stage Road to the West Point Inn and back (4 miles) for great nocturnal views of the Bay Area. We will share inspirational stories along the way. Bring a flashlight\, water and a snack.  Hiking poles recommended. Kids friendly. Moonrise 7: 42pm
URL:https://www.friendsofmttam.org/event/730-pm-saturday-moonlight-hike-easy-pantoll-9-sturgeon-moon-led-by-catherine-orland/
LOCATION:Pantoll #9\, Mt Tamalpais
CATEGORIES:Hike
END:VEVENT
BEGIN:VEVENT
DTSTART;VALUE=DATE:20180825
DTEND;VALUE=DATE:20180826
DTSTAMP:20260424T013732
CREATED:20180627T000118Z
LAST-MODIFIED:20191202T164134Z
UID:14506-1535155200-1535241599@www.friendsofmttam.org
SUMMARY:9:30 AM Saturday Hike -Regular-Rock Spring #4 - Mindfulness in Nature Led by Alexandra Jurasin
DESCRIPTION:Explore your senses in nature while being guided through mindfulness practices. Finish the hike feeling like you’ve just had a cleansing shower for your mind.
URL:https://www.friendsofmttam.org/event/930-am-saturday-hike-regular-rock-spring-4-mindfulness-in-nature-led-by-alexandra-jurasin/
LOCATION:Rock Spring #4\, Mt Tamalpais
CATEGORIES:Hike
END:VEVENT
BEGIN:VEVENT
DTSTART;VALUE=DATE:20180822
DTEND;VALUE=DATE:20180823
DTSTAMP:20260424T013732
CREATED:20180802T055602Z
LAST-MODIFIED:20191202T164134Z
UID:15632-1534896000-1534982399@www.friendsofmttam.org
SUMMARY:HIKE: Karen Sapper
DESCRIPTION:Evening Hike Wednesday\, Aug 22 @5:30pm from Bootjack with docent Karen Sapper. A summer evenings hike to the historic West Point Inn. Edible and medicinal plant information along the way\, and some fabulous vistas!Distance: about 3.5 miles; 450ft elevation gain. Easy.
URL:https://www.friendsofmttam.org/event/hike-karen-sapper/
LOCATION:Bootjack Campground\, California 94941\, USA\, United States
CATEGORIES:Hike
END:VEVENT
BEGIN:VEVENT
DTSTART;VALUE=DATE:20180819
DTEND;VALUE=DATE:20180820
DTSTAMP:20260424T013732
CREATED:20180627T000118Z
LAST-MODIFIED:20191202T164133Z
UID:14505-1534636800-1534723199@www.friendsofmttam.org
SUMMARY:9:30 AM Sunday Hike -Moderate-Pantoll #9 - Bolinas Ridge View Led by Lori Febbo
DESCRIPTION:Enjoy some of the most beautiful views on Mt Tam\, on a hike inspired by the landscapes of local artist Tom Killion. The hike will be regular moderately paced\, about 5 to 7 miles with up to 1\,500 feet elevation gain.
URL:https://www.friendsofmttam.org/event/930-am-sunday-hike-moderate-pantoll-9-bolinas-ridge-view-led-by-lori-febbo/
LOCATION:Pantoll #9\, Mt Tamalpais
CATEGORIES:Hike
END:VEVENT
BEGIN:VEVENT
DTSTART;VALUE=DATE:20180818
DTEND;VALUE=DATE:20180819
DTSTAMP:20260424T013732
CREATED:20180627T000118Z
LAST-MODIFIED:20191202T164133Z
UID:14504-1534550400-1534636799@www.friendsofmttam.org
SUMMARY:9:30 AM Saturday Hike -Moderate-Rock Spring #4 - Cool Colier Spring Led by Ernie Castiaux
DESCRIPTION:We will enjoy walking among shaded trails on the cool North side out of the Summer heat.  Learn about the wealthy eccentric who pretended to be a tramp for whom the Colier Spring and trail are named.  Eight-nine miles / 800 ft elevation gain..
URL:https://www.friendsofmttam.org/event/930-am-saturday-hike-moderate-rock-spring-4-cool-colier-spring-led-by-ernie-castiaux/
LOCATION:Rock Spring #4\, Mt Tamalpais
CATEGORIES:Hike
END:VEVENT
BEGIN:VEVENT
DTSTART;VALUE=DATE:20180815
DTEND;VALUE=DATE:20180816
DTSTAMP:20260424T013732
CREATED:20180627T000118Z
LAST-MODIFIED:20191202T164133Z
UID:14503-1534291200-1534377599@www.friendsofmttam.org
SUMMARY:5:30 PM Evening Hike -Easy-Pantoll #9 - Mindfulness in Nature Led by Alexandra Jurasin
DESCRIPTION:Explore your senses in nature while being guided through mindfulness practices. Finish the hike feeling like you’ve just had a cleansing shower for your mind. Wednesday evening hikes last 2 to 3 hours with a 15 minute break.
URL:https://www.friendsofmttam.org/event/530-pm-evening-hike-easy-pantoll-9-mindfulness-in-nature-led-by-alexandra-jurasin/
LOCATION:Pantoll #9\, Mt Tamalpais
CATEGORIES:Hike
END:VEVENT
BEGIN:VEVENT
DTSTART;VALUE=DATE:20180812
DTEND;VALUE=DATE:20180813
DTSTAMP:20260424T013732
CREATED:20180627T000118Z
LAST-MODIFIED:20191202T164133Z
UID:14502-1534032000-1534118399@www.friendsofmttam.org
SUMMARY:9:30 AM Sunday Hike -Moderate-Stinson Beach #17 - Matt Davis & Friends Led by Lizzy Silverstein
DESCRIPTION:On this loop hike (Stinson Beach\, Matt Davis\, On this loop hike (Stinson Beach\, Matt Davis\, Dipsea\, Steep Ravine)\, we will talk about Matt Davis and other inspirational TCC members and how Mount Tam was shaped by these individuals.
URL:https://www.friendsofmttam.org/event/930-am-sunday-hike-moderate-stinson-beach-17-matt-davis-friends-led-by-lizzy-silverstein/
LOCATION:Stinson Beach #17\, Mt Tamalpais
CATEGORIES:Hike
END:VEVENT
BEGIN:VEVENT
DTSTART;VALUE=DATE:20180811
DTEND;VALUE=DATE:20180812
DTSTAMP:20260424T013732
CREATED:20180627T000115Z
LAST-MODIFIED:20191202T164133Z
UID:14500-1533945600-1534031999@www.friendsofmttam.org
SUMMARY:9:30 AM Saturday Hike -Regular-Pantoll #9 - Redwoods Led by Park Interperter Rosanna Petralia
DESCRIPTION:Free 2nd Saturday Hike – How is everything connected in the forest? Have you heard there are fish up on the trees? We will walk among the redwoods and discover their amazing adaptations and the community they support.
URL:https://www.friendsofmttam.org/event/930-am-saturday-hike-regular-pantoll-9-redwoods-led-by-park-interperter-rosanna-petralia/
LOCATION:Pantoll #9\, Mt Tamalpais
CATEGORIES:Hike
END:VEVENT
BEGIN:VEVENT
DTSTART;VALUE=DATE:20180808
DTEND;VALUE=DATE:20180809
DTSTAMP:20260424T013732
CREATED:20180627T000114Z
LAST-MODIFIED:20191202T164132Z
UID:14499-1533686400-1533772799@www.friendsofmttam.org
SUMMARY:6:00 PM Evening Hike -Regular-Mt Home #11 - Matt Davis\, the Man Led by Sue Karp
DESCRIPTION:We will head up Troop 80 to Bootjack.  Enjoy some meditative quiet time.  Learn about Matt Davis’ contributiion to Mt Tam. Wednesday evening hikes last 2 to 3 hours with a 15 minute break.
URL:https://www.friendsofmttam.org/event/600-pm-evening-hike-regular-mt-home-11-matt-davis-the-man-led-by-sue-karp/
LOCATION:Mt Home #11\, Mt Tamalpais
CATEGORIES:Hike
END:VEVENT
BEGIN:VEVENT
DTSTART;VALUE=DATE:20180801
DTEND;VALUE=DATE:20180802
DTSTAMP:20260424T013732
CREATED:20180627T000114Z
LAST-MODIFIED:20191202T164132Z
UID:14498-1533081600-1533167999@www.friendsofmttam.org
SUMMARY:6:00 PM Evening Hike -Regular-Laurel Dell #2 - Mt Tam History Led by Robert Feist
DESCRIPTION:It’s “Summer Days” on Mt Tam!  Join us in seeing and enjoying the subtle and not so subtle changes that happen on the mountain this time of year!  And longer days mean more time to explore! Wednesday evening hikes last 2 to 3 hours with a 15 minute break.
URL:https://www.friendsofmttam.org/event/600-pm-evening-hike-regular-laurel-dell-2-mt-tam-history-led-by-robert-feist/
LOCATION:Laurel Dell #2\, Mt Tamalpais
CATEGORIES:Hike
END:VEVENT
BEGIN:VEVENT
DTSTART;VALUE=DATE:20180729
DTEND;VALUE=DATE:20180730
DTSTAMP:20260424T013732
CREATED:20180627T000114Z
LAST-MODIFIED:20191202T164132Z
UID:14497-1532822400-1532908799@www.friendsofmttam.org
SUMMARY:9:30 AM Sunday Hike -Moderate-Dias Ridge #12 - Views and more views Led by Franklin Young
DESCRIPTION:You’ll experience magnificient views of the Bay\, the City\, Angel Island\, Muir Beach\, the Pacific\, all three peaks of Mt Tam and possibly the Farallon islands.  All  in 7 miles with about 1200 ft in elevation changes. This hike includes a lunch break.
URL:https://www.friendsofmttam.org/event/930-am-sunday-hike-moderate-dias-ridge-views-and-more-views-led-by-franklin-young/
LOCATION:Dias Ridge\, Mt Tamalpais
CATEGORIES:Hike
END:VEVENT
BEGIN:VEVENT
DTSTART;VALUE=DATE:20180728
DTEND;VALUE=DATE:20180729
DTSTAMP:20260424T013732
CREATED:20180627T000114Z
LAST-MODIFIED:20191202T164132Z
UID:14496-1532736000-1532822399@www.friendsofmttam.org
SUMMARY:8:00 PM Saturday Moonlight Hike -Easy-Pantoll #9 - Buck Moon Led by Park Interperter Rosanna Petralia; Catherine  Orland
DESCRIPTION:Walk along Old Stage Road to the West Point Inn and back (4 miles) for great nocturnal views of the Bay Area. We will share inspirational stories along the way. Bring a flashlight\, water and a snack. Moonrise 9:06 pm
URL:https://www.friendsofmttam.org/event/800-pm-saturday-moonlight-hike-easy-pantoll-9-buck-moon-led-by-park-interperter-rosanna-petralia-catherine-orland/
LOCATION:Pantoll #9\, Mt Tamalpais
CATEGORIES:Hike
END:VEVENT
BEGIN:VEVENT
DTSTART;VALUE=DATE:20180725
DTEND;VALUE=DATE:20180726
DTSTAMP:20260424T013732
CREATED:20180627T000031Z
LAST-MODIFIED:20191202T164132Z
UID:14495-1532476800-1532563199@www.friendsofmttam.org
SUMMARY:6:00 PM Evening Hike -Moderate-Mt Home #11 - Redwoods Tree Bathing Led by Nancy Benjamin
DESCRIPTION:This is your opportunity to enjoy the wondrous redwoods and Muir Woods in the peace and quiet of the summer evening hours. About 5 miles Wednesday evening hikes last 2 to 3 hours with a 15 minute break.
URL:https://www.friendsofmttam.org/event/600-pm-evening-hike-moderate-mt-home-11-redwoods-tree-bathing-led-by-nancy-benjamin/
LOCATION:Mt Home #11\, Mt Tamalpais
CATEGORIES:Hike
END:VEVENT
BEGIN:VEVENT
DTSTART;VALUE=DATE:20180721
DTEND;VALUE=DATE:20180722
DTSTAMP:20260424T013732
CREATED:20180627T000030Z
LAST-MODIFIED:20191202T164131Z
UID:14494-1532131200-1532217599@www.friendsofmttam.org
SUMMARY:9:30 AM Saturday Hike -Regular-Bootjack #10 - Redwoods Led by Maria de la Fuente
DESCRIPTION:We all need strength and balance to live a good life. We can find some great examples and similarities in nature. Let’s hike and find some meaningful connections between us and the surrounding trees.
URL:https://www.friendsofmttam.org/event/930-am-saturday-hike-regular-bootjack-10-redwoods-led-by-maria-de-la-fuente/
LOCATION:Bootjack #10\, Mt Tamalpais
CATEGORIES:Hike
END:VEVENT
BEGIN:VEVENT
DTSTART;VALUE=DATE:20180718
DTEND;VALUE=DATE:20180719
DTSTAMP:20260424T013732
CREATED:20180627T000030Z
LAST-MODIFIED:20191202T164131Z
UID:14493-1531872000-1531958399@www.friendsofmttam.org
SUMMARY:6:00 PM Evening Hike -Easy-Pantoll #9 - Mindfulness in Nature Led by Alexandra Jurasin
DESCRIPTION:Explore your senses in nature while being guided through mindfulness practices. Finish the hike feeling like you’ve just had a cleansing shower for your mind. Wednesday evening hikes last 2 to 3 hours with a 15 minute break.
URL:https://www.friendsofmttam.org/event/600-pm-evening-hike-easy-pantoll-9-mindfulness-in-nature-led-by-alexandra-jurasin-2/
LOCATION:Pantoll #9\, Mt Tamalpais
CATEGORIES:Hike
END:VEVENT
BEGIN:VEVENT
DTSTART;VALUE=DATE:20180715
DTEND;VALUE=DATE:20180716
DTSTAMP:20260424T013732
CREATED:20180627T000030Z
LAST-MODIFIED:20191202T164131Z
UID:14492-1531612800-1531699199@www.friendsofmttam.org
SUMMARY:9:30 AM Sunday Hike -Regular-Rock Spring #4 - Health and Happiness Led by Tracy Stuart
DESCRIPTION:Enjoy your endorphin high and share it with other hikers while exploring a landscape of Ferns\, Sargent cypress trees\, Serpentine Rock\, Douglas Fir and Free flowing creeks. Dogs allowed with permits. No dogs will be allowed without a permit-visit website to obtain a permit.
URL:https://www.friendsofmttam.org/event/930-am-sunday-hike-regular-rock-spring-4-health-and-happiness-led-by-tracy-stuart/
LOCATION:Rock Spring #4\, Mt Tamalpais
CATEGORIES:Hike
END:VEVENT
BEGIN:VEVENT
DTSTART;VALUE=DATE:20180711
DTEND;VALUE=DATE:20180712
DTSTAMP:20260424T013732
CREATED:20180627T000030Z
LAST-MODIFIED:20191202T164131Z
UID:14491-1531267200-1531353599@www.friendsofmttam.org
SUMMARY:6:00 PM Evening Hike -Regular-Mt Home #11 - Redwoods Led by Sue Karp
DESCRIPTION:Enjoy beautiful views from the Sun Trail. Descend into Muir Woods.  Immerse yourself in the quiet of the evening as we stroll through the magnificent giants. Wednesday evening hikes last 2 to 3 hours with a 15 minute break.
URL:https://www.friendsofmttam.org/event/600-pm-evening-hike-regular-mt-home-11-redwoods-led-by-sue-karp/
LOCATION:Mt Home #11\, Mt Tamalpais
CATEGORIES:Hike
END:VEVENT
BEGIN:VEVENT
DTSTART;VALUE=DATE:20180708
DTEND;VALUE=DATE:20180709
DTSTAMP:20260424T013732
CREATED:20180627T000027Z
LAST-MODIFIED:20191202T164131Z
UID:14490-1531008000-1531094399@www.friendsofmttam.org
SUMMARY:9:30 AM Sunday Hike -Moderate-Rock Spring #4 - Mountain Views Led by Madelyn Misite
DESCRIPTION:Hike through oaks and Douglas Fir along streams.  See acorn woodpecker granaries. View Mt. St. Helena\, Mount Diablo\, Richardson Bay and the Pacific Ocean.
URL:https://www.friendsofmttam.org/event/930-am-sunday-hike-moderate-rock-spring-4-mountain-views-led-by-madelyn-misite/
LOCATION:Rock Spring #4\, Mt Tamalpais
CATEGORIES:Hike
END:VEVENT
BEGIN:VEVENT
DTSTART;VALUE=DATE:20180704
DTEND;VALUE=DATE:20180705
DTSTAMP:20260424T013732
CREATED:20180627T000027Z
LAST-MODIFIED:20191202T164130Z
UID:14488-1530662400-1530748799@www.friendsofmttam.org
SUMMARY:6:00 PM Evening Hike -Easy-Pantoll #9 - Mindfulness in Nature Led by Alexandra Jurasin
DESCRIPTION:Explore your senses in nature while being guided through mindfulness practices. Finish the hike feeling like you’ve just had a cleansing shower for your mind. Wednesday evening hikes last 2 to 3 hours with a 15 minute break.
URL:https://www.friendsofmttam.org/event/600-pm-evening-hike-easy-pantoll-9-mindfulness-in-nature-led-by-alexandra-jurasin/
LOCATION:Pantoll #9\, Mt Tamalpais
CATEGORIES:Hike
END:VEVENT
BEGIN:VEVENT
DTSTART;VALUE=DATE:20180704
DTEND;VALUE=DATE:20180705
DTSTAMP:20260424T013732
CREATED:20180627T000027Z
LAST-MODIFIED:20191202T164130Z
UID:14489-1530662400-1530748799@www.friendsofmttam.org
SUMMARY:9:30 AM Holiday Hike -Easy-Pantoll #9 - Birds Led by Joan Lamphier
DESCRIPTION:We will look at how birds use different habitats in different ways
URL:https://www.friendsofmttam.org/event/930-am-holiday-hike-easy-pantoll-9-birds-led-by-joan-lamphier/
LOCATION:Pantoll #9\, Mt Tamalpais
CATEGORIES:Hike
END:VEVENT
BEGIN:VEVENT
DTSTART;VALUE=DATE:20180701
DTEND;VALUE=DATE:20180702
DTSTAMP:20260424T013732
CREATED:20180627T000027Z
LAST-MODIFIED:20191202T164130Z
UID:14487-1530403200-1530489599@www.friendsofmttam.org
SUMMARY:9:30 AM Sunday Hike -Moderate-Quarry Parking Lot #6 - Mt. Tam History Led by Karen Ulring
DESCRIPTION:We’ll enjoy the quiet & coolness of the northside\, visit the real High Marsh and possibly Shangra-La\, and hear more Tam history. Trails: Mountain Top\, Arturo\, Azalea Meadows\, High Marsh\, Cross Country Boys\, Kent\, Mickey O’Brien and Cataract back.
URL:https://www.friendsofmttam.org/event/930-am-sunday-hike-moderate-quarry-parking-lot-6-mt-tam-history-led-by-karen-ulring/
LOCATION:Quarry Parking Lot #6\, Mt Tamalpais
CATEGORIES:Hike
END:VEVENT
BEGIN:VEVENT
DTSTART;VALUE=DATE:20180630
DTEND;VALUE=DATE:20180701
DTSTAMP:20260424T013732
CREATED:20180317T032555Z
LAST-MODIFIED:20191202T164129Z
UID:11565-1530316800-1530403199@www.friendsofmttam.org
SUMMARY:CANCELLED - 9:30am Hike from the Quarry Parking Lot. "Mt Tam Plant Communities" with docent Brendan Hickey
DESCRIPTION:Saturday\, June 30 @9:30am from the Quarry Parking Lot.   \n“Mt Tam Plant Communities“ with docent Brendan Hickey  \n—So much diversity in such a compact footprint! We’ll pay witness to some of Mt. Tam’s bounty as we move from grassland to chapparal to Coastal Redwood to oak stands. Bring your walking shoes\, as we hope to cover a fair stretch of terrain. Quiet north side\, lots of shade.  \nModerate \n 
URL:https://www.friendsofmttam.org/event/930am-hike-from-the-quarry-parking-lot-mt-tam-plant-communities-with-docent-brendan-hickey/
CATEGORIES:Hike
END:VEVENT
END:VCALENDAR