BEGIN:VCALENDAR
VERSION:2.0
PRODID:-//Friends of Mt Tam - ECPv6.15.18//NONSGML v1.0//EN
CALSCALE:GREGORIAN
METHOD:PUBLISH
X-WR-CALNAME:Friends of Mt Tam
X-ORIGINAL-URL:https://www.friendsofmttam.org
X-WR-CALDESC:Events for Friends of Mt Tam
REFRESH-INTERVAL;VALUE=DURATION:PT1H
X-Robots-Tag:noindex
X-PUBLISHED-TTL:PT1H
BEGIN:VTIMEZONE
TZID:America/Los_Angeles
BEGIN:DAYLIGHT
TZOFFSETFROM:-0800
TZOFFSETTO:-0700
TZNAME:PDT
DTSTART:20160313T100000
END:DAYLIGHT
BEGIN:STANDARD
TZOFFSETFROM:-0700
TZOFFSETTO:-0800
TZNAME:PST
DTSTART:20161106T090000
END:STANDARD
BEGIN:DAYLIGHT
TZOFFSETFROM:-0800
TZOFFSETTO:-0700
TZNAME:PDT
DTSTART:20170312T100000
END:DAYLIGHT
BEGIN:STANDARD
TZOFFSETFROM:-0700
TZOFFSETTO:-0800
TZNAME:PST
DTSTART:20171105T090000
END:STANDARD
BEGIN:DAYLIGHT
TZOFFSETFROM:-0800
TZOFFSETTO:-0700
TZNAME:PDT
DTSTART:20180311T100000
END:DAYLIGHT
BEGIN:STANDARD
TZOFFSETFROM:-0700
TZOFFSETTO:-0800
TZNAME:PST
DTSTART:20181104T090000
END:STANDARD
BEGIN:DAYLIGHT
TZOFFSETFROM:-0800
TZOFFSETTO:-0700
TZNAME:PDT
DTSTART:20190310T100000
END:DAYLIGHT
BEGIN:STANDARD
TZOFFSETFROM:-0700
TZOFFSETTO:-0800
TZNAME:PST
DTSTART:20191103T090000
END:STANDARD
END:VTIMEZONE
BEGIN:VEVENT
DTSTART;VALUE=DATE:20180217
DTEND;VALUE=DATE:20180218
DTSTAMP:20260424T083312
CREATED:20171216T213215Z
LAST-MODIFIED:20191202T164122Z
UID:9707-1518825600-1518911999@www.friendsofmttam.org
SUMMARY:9:30am Hike led by Ernie Castiaux: "Creeks on Tam" from Bootjack
DESCRIPTION:Creeks on Tam / Rating= M   See website for Rating Descriptions.
URL:https://www.friendsofmttam.org/event/930am-hike-led-by-ernie-castiaux-creeks-on-tam/
LOCATION:BootJack\, Mt Tamalpais
CATEGORIES:Hike
END:VEVENT
BEGIN:VEVENT
DTSTART;VALUE=DATE:20180211
DTEND;VALUE=DATE:20180212
DTSTAMP:20260424T083312
CREATED:20171216T213215Z
LAST-MODIFIED:20191202T164122Z
UID:9705-1518307200-1518393599@www.friendsofmttam.org
SUMMARY:9:30am Hike led by Deborah Coburn: "Colors and Patterns of Nature" from Rock Spring
DESCRIPTION:We are surrounded by genius! After 3.8 billion years of R&D\, Nature has figured out what works\, what lasts. Walking along\, we will look carefully to see some of Natures’s color and designstrategies\, in action\, along the trail. We will discuss how these strategiesaccomplish what they have evolved to do. Meet at Rock Spring at 9:30am. Easy (2-4 miles).
URL:https://www.friendsofmttam.org/event/930am-hike-led-by-deborah-coburn-colors-and-patterns-of-nature-2/
LOCATION:Rock Spring\, Mt Tamalpais
CATEGORIES:Hike
END:VEVENT
BEGIN:VEVENT
DTSTART;VALUE=DATE:20180210
DTEND;VALUE=DATE:20180211
DTSTAMP:20260424T083312
CREATED:20171216T213214Z
LAST-MODIFIED:20191202T164122Z
UID:9703-1518220800-1518307199@www.friendsofmttam.org
SUMMARY:9:30am Hike led by Robert Feist: "Mt Tam History" from Ballou Point
DESCRIPTION:Mt Tam History / Rating= M   See website for Rating Descriptions.
URL:https://www.friendsofmttam.org/event/930am-hike-led-by-robert-feist-mt-tam-history-4/
LOCATION:Ballou Point\, Mt Tamalpais
CATEGORIES:Hike
END:VEVENT
BEGIN:VEVENT
DTSTART;VALUE=DATE:20180210
DTEND;VALUE=DATE:20180211
DTSTAMP:20260424T083312
CREATED:20171216T213214Z
LAST-MODIFIED:20191202T164122Z
UID:9704-1518220800-1518307199@www.friendsofmttam.org
SUMMARY:9:30am Hike led by Marie Bush: "HPHP: Grounding Steps" (from Pantoll)
DESCRIPTION:Healthy Parks Healthy People – Easy walk\, 2- 4 miles\nTopic: Grounding Steps
URL:https://www.friendsofmttam.org/event/930am-hike-led-by-marie-bush-hphp-grounding-steps/
LOCATION:Pantoll\, Mt Tamalpais
CATEGORIES:Hike
END:VEVENT
BEGIN:VEVENT
DTSTART;VALUE=DATE:20180204
DTEND;VALUE=DATE:20180205
DTSTAMP:20260424T083312
CREATED:20171216T213213Z
LAST-MODIFIED:20191202T164121Z
UID:9701-1517702400-1517788799@www.friendsofmttam.org
SUMMARY:11am Hike led by Catherine Orland: "Biodiversity & Trees of Tam" (from Stinson Beach)
DESCRIPTION:Biodiversity & Trees of Tam / Rating= M   See website for Rating Descriptions.
URL:https://www.friendsofmttam.org/event/930am-hike-led-by-catherine-orland-biodiversity-trees-of-tam/
LOCATION:Stinson\, Mt Tamalpais
CATEGORIES:Hike
END:VEVENT
BEGIN:VEVENT
DTSTART;VALUE=DATE:20180203
DTEND;VALUE=DATE:20180204
DTSTAMP:20260424T083312
CREATED:20171216T213213Z
LAST-MODIFIED:20191202T164121Z
UID:9700-1517616000-1517702399@www.friendsofmttam.org
SUMMARY:9:30am Hike led by Rosalind Gottfried : "Sounds and Silence in Nature" from Stinson Beach
DESCRIPTION:Sounds and Silence in Nature.\nModerate distance (7 miles)\, moderate pace.
URL:https://www.friendsofmttam.org/event/930am-hike-led-by-rosalind-gottfried-topic-tba/
LOCATION:Stinson\, Mt Tamalpais
CATEGORIES:Hike
END:VEVENT
BEGIN:VEVENT
DTSTART;VALUE=DATE:20180203
DTEND;VALUE=DATE:20180204
DTSTAMP:20260424T083312
CREATED:20171216T213213Z
LAST-MODIFIED:20191202T164121Z
UID:9699-1517616000-1517702399@www.friendsofmttam.org
SUMMARY:9:30am Hike led by Alexandra Jurasin: "HPHP: Mindfulness in Nature" (from Pantoll)
DESCRIPTION:Healthy Parks Healthy People – Easy walk\, 2- 4 miles\nTopic:  Mindfulness in Nature
URL:https://www.friendsofmttam.org/event/930am-hike-led-by-alexandra-jurasin-hphp-mindfulness-in-nature/
LOCATION:Pantoll\, Mt Tamalpais
CATEGORIES:Hike
END:VEVENT
BEGIN:VEVENT
DTSTART;VALUE=DATE:20180128
DTEND;VALUE=DATE:20180129
DTSTAMP:20260424T083312
CREATED:20171216T213213Z
LAST-MODIFIED:20191202T164121Z
UID:9698-1517097600-1517183999@www.friendsofmttam.org
SUMMARY:9:30am Hike led by Robert Freinkel: "January Early Plants"\, meet at Rock Spring
DESCRIPTION:January Early Plants / Rating= M   See website for Rating Descriptions.
URL:https://www.friendsofmttam.org/event/930am-hike-led-by-robert-freinkel-january-early-plants/
LOCATION:Rock Spring\, Mt Tamalpais
CATEGORIES:Hike
END:VEVENT
BEGIN:VEVENT
DTSTART;VALUE=DATE:20180127
DTEND;VALUE=DATE:20180128
DTSTAMP:20260424T083312
CREATED:20171216T213212Z
LAST-MODIFIED:20191202T164120Z
UID:9697-1517011200-1517097599@www.friendsofmttam.org
SUMMARY:9:30am Hike led by Santiago Abascal: "A Special Place Called Mt Tam"\, meet at Mt Home
DESCRIPTION:Topic “A Special Place Called Mt Tam” / Rating= R\n See website for Rating Descriptions.
URL:https://www.friendsofmttam.org/event/930am-hike-led-by-santiago-abascal-topic-tbd/
LOCATION:Mt Home\, Mt Tamalpais
CATEGORIES:Hike
END:VEVENT
BEGIN:VEVENT
DTSTART;VALUE=DATE:20180121
DTEND;VALUE=DATE:20180122
DTSTAMP:20260424T083312
CREATED:20171216T213211Z
LAST-MODIFIED:20191202T164120Z
UID:9696-1516492800-1516579199@www.friendsofmttam.org
SUMMARY:9:30am Hike led by Joan Lamphier: "Owls"\, meet at Pantoll
DESCRIPTION:Owls / Rating= E   See website for Rating Descriptions.
URL:https://www.friendsofmttam.org/event/930am-hike-led-by-joan-lamphier-owls-2/
LOCATION:Pantoll\, Mt Tamalpais
CATEGORIES:Hike
END:VEVENT
BEGIN:VEVENT
DTSTART;VALUE=DATE:20180120
DTEND;VALUE=DATE:20180121
DTSTAMP:20260424T083312
CREATED:20171216T213211Z
LAST-MODIFIED:20191202T164120Z
UID:9695-1516406400-1516492799@www.friendsofmttam.org
SUMMARY:9:30am Hike led by Deborah Coburn: "Colors and Patterns of Nature"\, meet at East Peak
DESCRIPTION:Colors and Patterns of Nature / Rating= E   See website for Rating Descriptions.
URL:https://www.friendsofmttam.org/event/930am-hike-led-by-deborah-coburn-colors-and-patterns-of-nature/
LOCATION:East Peak\, Mt Tamalpais
CATEGORIES:Hike
END:VEVENT
BEGIN:VEVENT
DTSTART;VALUE=DATE:20180114
DTEND;VALUE=DATE:20180115
DTSTAMP:20260424T083312
CREATED:20171216T213211Z
LAST-MODIFIED:20191202T164118Z
UID:9694-1515888000-1515974399@www.friendsofmttam.org
SUMMARY:9:30am Hike led byTracy Stuart: "Health and Inspiration"\, meet at Rock Spring
DESCRIPTION:Health and Inspiration / Rating= R   See website for Rating Descriptions.
URL:https://www.friendsofmttam.org/event/930am-hike-led-bytracy-stuart-health-and-inspiration/
LOCATION:Rock Spring\, Mt Tamalpais
CATEGORIES:Hike
END:VEVENT
BEGIN:VEVENT
DTSTART;VALUE=DATE:20180113
DTEND;VALUE=DATE:20180114
DTSTAMP:20260424T083312
CREATED:20171216T213211Z
LAST-MODIFIED:20191202T164117Z
UID:9693-1515801600-1515887999@www.friendsofmttam.org
SUMMARY:9:30am Hike led by Pat Ernsberger: "Trail History"\, meet at Rock Spring
DESCRIPTION:Topic Trail History/ Rating= R   See website for Rating Descriptions.
URL:https://www.friendsofmttam.org/event/930am-hike-led-by-pat-ernsberger-topic-tbd/
LOCATION:Rock Spring\, Mt Tamalpais
CATEGORIES:Hike
END:VEVENT
BEGIN:VEVENT
DTSTART;VALUE=DATE:20180107
DTEND;VALUE=DATE:20180108
DTSTAMP:20260424T083312
CREATED:20171216T213209Z
LAST-MODIFIED:20191202T164117Z
UID:9691-1515283200-1515369599@www.friendsofmttam.org
SUMMARY:11am Hike led byCatherine Orland: "Biodiversity & Trees of Tam"
DESCRIPTION:Topic: Biodiversity & Trees of Tam  \nRating= M (See website for Rating Descriptions). \nMeeting location: Stinson Beach parkinglot\, by the bridge to the Parkside Cafe.
URL:https://www.friendsofmttam.org/event/930am-hike-led-bycatherine-orland-biodiversity-trees-of-tam/
LOCATION:Stinson Beach Parking Lot\, Stinson Beach\, CA 94970\, USA\, 1 Beach Dr\, United States
CATEGORIES:Hike
END:VEVENT
BEGIN:VEVENT
DTSTART;VALUE=DATE:20180106
DTEND;VALUE=DATE:20180107
DTSTAMP:20260424T083312
CREATED:20171216T213209Z
LAST-MODIFIED:20191202T164117Z
UID:9688-1515196800-1515283199@www.friendsofmttam.org
SUMMARY:9:30am Hike led by Joan Lamphier: "HPHP: Birds on Mt Tam"
DESCRIPTION:Healthy Parks Healthy People – Easy walk\, 2- 4 miles\nTopic: Birds on Mt Tam
URL:https://www.friendsofmttam.org/event/930am-hike-led-by-joan-lamphier-hphp-birds-on-mt-tam/
LOCATION:Pantoll\, Mt Tamalpais
CATEGORIES:Hike
END:VEVENT
BEGIN:VEVENT
DTSTART;VALUE=DATE:20180106
DTEND;VALUE=DATE:20180107
DTSTAMP:20260424T083312
CREATED:20171216T213209Z
LAST-MODIFIED:20191202T164117Z
UID:9689-1515196800-1515283199@www.friendsofmttam.org
SUMMARY:9:30am Hike led by Marie Bush: "Sacred Reciprocity"
DESCRIPTION:Sacred Reciprocity / Rating= M   See website for Rating Descriptions.
URL:https://www.friendsofmttam.org/event/930am-hike-led-by-marie-bush-sacred-reciprocity/
LOCATION:Pantoll\, Mt Tamalpais
CATEGORIES:Hike
END:VEVENT
BEGIN:VEVENT
DTSTART;VALUE=DATE:20180101
DTEND;VALUE=DATE:20180102
DTSTAMP:20260424T083312
CREATED:20171216T213209Z
LAST-MODIFIED:20191202T164116Z
UID:9687-1514764800-1514851199@www.friendsofmttam.org
SUMMARY:9:30am Hike led by Hike Docents: "First Day Hike"
DESCRIPTION:First Day Hikes  Fun and Adventure\, Mindfulness in Nature and the New Year\, Mt Tam Trivia\, Secret Routes\, A Special Place Called MtTam / Rating= R M   See website for Rating Descriptions.
URL:https://www.friendsofmttam.org/event/930am-hike-led-by-hike-docents-first-day-hike/
LOCATION:Rock Spring\, Mt Tamalpais
CATEGORIES:Hike
END:VEVENT
BEGIN:VEVENT
DTSTART;VALUE=DATE:20171230
DTEND;VALUE=DATE:20171231
DTSTAMP:20260424T083312
CREATED:20171005T052950Z
LAST-MODIFIED:20191202T164116Z
UID:9340-1514592000-1514678399@www.friendsofmttam.org
SUMMARY:9:30am Walk/Accessible Program led by Rosanna Petralia: "Perspective from the Mountain"
DESCRIPTION:3-4 hours with a break for a light lunch. See Hiking / Saturday
URL:https://www.friendsofmttam.org/event/930am-hike-led-by-rosanna-petralia-accessible-program-p/
LOCATION:East Peak #8\, Mt Tamalpais
CATEGORIES:Hike
END:VEVENT
BEGIN:VEVENT
DTSTART;VALUE=DATE:20171224
DTEND;VALUE=DATE:20171225
DTSTAMP:20260424T083312
CREATED:20171014T044145Z
LAST-MODIFIED:20191202T164116Z
UID:9435-1514073600-1514159999@www.friendsofmttam.org
SUMMARY:9:30am Hike led by Robert Feist: "Mt Tam History"
DESCRIPTION:Sunday\, Dec 24th.\nModerate hike.\nTrailhead#7 – West Peak Air Force Base.\nTopic:  Mt Tam History.
URL:https://www.friendsofmttam.org/event/hike-led-by-robert-feist-mt-tam-history/
CATEGORIES:Hike
END:VEVENT
BEGIN:VEVENT
DTSTART;VALUE=DATE:20171223
DTEND;VALUE=DATE:20171224
DTSTAMP:20260424T083312
CREATED:20171005T052943Z
LAST-MODIFIED:20191202T164116Z
UID:9338-1513987200-1514073599@www.friendsofmttam.org
SUMMARY:9:30am Hike led by Rosanna Petralia: "Redwoods"
DESCRIPTION:3-4 hours with a break for a light lunch. See Hiking / Saturday
URL:https://www.friendsofmttam.org/event/930am-hike-led-by-rosanna-petralia-redwoods/
LOCATION:Pantoll #9\, Mt Tamalpais
CATEGORIES:Hike
END:VEVENT
BEGIN:VEVENT
DTSTART;VALUE=DATE:20171217
DTEND;VALUE=DATE:20171218
DTSTAMP:20260424T083312
CREATED:20171005T052943Z
LAST-MODIFIED:20191202T164116Z
UID:9337-1513468800-1513555199@www.friendsofmttam.org
SUMMARY:9:30am Hike led by Pat Ernsberger: "Historic Trailhead"
DESCRIPTION:3-4 hours with a break for a light lunch. See Hiking / Sunday
URL:https://www.friendsofmttam.org/event/930am-hike-led-by-pat-ernsberger-historic-trailhead/
LOCATION:Mt Home #11\, Mt Tamalpais
CATEGORIES:Hike
END:VEVENT
BEGIN:VEVENT
DTSTART;VALUE=DATE:20171216
DTEND;VALUE=DATE:20171217
DTSTAMP:20260424T083312
CREATED:20171005T052943Z
LAST-MODIFIED:20191202T164115Z
UID:9336-1513382400-1513468799@www.friendsofmttam.org
SUMMARY:9:30am Hike led by Brendan Hickey: "Sexy Beast: the Banana Slug"
DESCRIPTION:3-4 hours with a break for a light lunch. See Hiking / Saturday
URL:https://www.friendsofmttam.org/event/930am-hike-led-by-brendan-hickey-sexy-beast-the-banan/
LOCATION:Pantoll Campground Parking\, 6456 Panoramic Hwy\, Mill Valley\, CA 94941\, USA\, 2 Panoramic Hwy\, United States
CATEGORIES:Hike
END:VEVENT
BEGIN:VEVENT
DTSTART;VALUE=DATE:20171210
DTEND;VALUE=DATE:20171211
DTSTAMP:20260424T083312
CREATED:20171005T052943Z
LAST-MODIFIED:20191202T164115Z
UID:9334-1512864000-1512950399@www.friendsofmttam.org
SUMMARY:9:30am Hike led by Dan Reilly\, topic to be announced.
DESCRIPTION:3-4 hours with a break for a light lunch. See Hiking / Sunday
URL:https://www.friendsofmttam.org/event/930am-hike-led-by-dan-reilly-docent-led-hike/
LOCATION:Bootjack #10\, Mt Tamalpais
CATEGORIES:Hike
END:VEVENT
BEGIN:VEVENT
DTSTART;VALUE=DATE:20171209
DTEND;VALUE=DATE:20171210
DTSTAMP:20260424T083312
CREATED:20171005T052942Z
LAST-MODIFIED:20191202T164115Z
UID:9332-1512777600-1512863999@www.friendsofmttam.org
SUMMARY:9:30am Hike led by Lizzy Silverstein: "Plants of mt Tam"
DESCRIPTION:3-4 hours with a break for a light lunch. See Hiking / Saturday
URL:https://www.friendsofmttam.org/event/930am-hike-led-by-lizzy-silverstein-plants-of-mt-tam-2/
LOCATION:Rock Spring #4\, Mt Tamalpais
CATEGORIES:Hike
END:VEVENT
BEGIN:VEVENT
DTSTART;VALUE=DATE:20171203
DTEND;VALUE=DATE:20171204
DTSTAMP:20260424T083312
CREATED:20171005T051555Z
LAST-MODIFIED:20191202T164115Z
UID:9331-1512259200-1512345599@www.friendsofmttam.org
SUMMARY:9:30am Hike led by Robert Freinkel: "Winter on Tam"
DESCRIPTION:3-4 hours with a break for a light lunch. See Hiking / Sunday
URL:https://www.friendsofmttam.org/event/930am-hike-led-by-robert-freinkel-winter-on-tam/
LOCATION:Rock Spring #4\, Mt Tamalpais
CATEGORIES:Hike
END:VEVENT
BEGIN:VEVENT
DTSTART;VALUE=DATE:20171202
DTEND;VALUE=DATE:20171203
DTSTAMP:20260424T083312
CREATED:20171005T051555Z
LAST-MODIFIED:20191202T164114Z
UID:9330-1512172800-1512259199@www.friendsofmttam.org
SUMMARY:9:30am Hike led by Karen Ulring: "Tam History"
DESCRIPTION:3-4 hours with a break for a light lunch. See Hiking / Saturday
URL:https://www.friendsofmttam.org/event/930am-hike-led-by-karen-ulring-tam-history-2/
LOCATION:Mt Home #11\, Mt Tamalpais
CATEGORIES:Hike
END:VEVENT
BEGIN:VEVENT
DTSTART;VALUE=DATE:20171125
DTEND;VALUE=DATE:20171126
DTSTAMP:20260424T083312
CREATED:20171005T051554Z
LAST-MODIFIED:20191202T164114Z
UID:9328-1511568000-1511654399@www.friendsofmttam.org
SUMMARY:9:30am Hike led by Joan Lamphier: "Birds of Mt Tam"
DESCRIPTION:3-4 hours with a break for a light lunch. See Hiking / Saturday
URL:https://www.friendsofmttam.org/event/930am-hike-led-by-joan-lamphier-birds-of-mt-tam/
LOCATION:Pantoll #9\, Mt Tamalpais
CATEGORIES:Hike
END:VEVENT
BEGIN:VEVENT
DTSTART;VALUE=DATE:20171119
DTEND;VALUE=DATE:20171120
DTSTAMP:20260424T083312
CREATED:20171005T051554Z
LAST-MODIFIED:20191202T164114Z
UID:9327-1511049600-1511135999@www.friendsofmttam.org
SUMMARY:9:30am Hike led by Franklin Young: "Green Gulch"
DESCRIPTION:3-4 hours with a break for a light lunch. See Hiking / Sunday
URL:https://www.friendsofmttam.org/event/930am-hike-led-by-franklin-young-green-gulch-2/
LOCATION:Dias Ridge #12\, Mt Tamalpais
CATEGORIES:Hike
END:VEVENT
BEGIN:VEVENT
DTSTART;VALUE=DATE:20171118
DTEND;VALUE=DATE:20171119
DTSTAMP:20260424T083312
CREATED:20171005T051554Z
LAST-MODIFIED:20191202T164113Z
UID:9326-1510963200-1511049599@www.friendsofmttam.org
SUMMARY:9:30am Hike led by Pat Ernsberger: "Historic Dairies"
DESCRIPTION:3-4 hours with a break for a light lunch. See Hiking / Saturday
URL:https://www.friendsofmttam.org/event/930am-hike-led-by-pat-ernsberger-historic-dairies/
LOCATION:Dias Ridge #12\, Mt Tamalpais
CATEGORIES:Hike
END:VEVENT
BEGIN:VEVENT
DTSTART;TZID=America/Los_Angeles:20171112T093000
DTEND;TZID=America/Los_Angeles:20171112T113000
DTSTAMP:20260424T083312
CREATED:20171005T051553Z
LAST-MODIFIED:20191202T164113Z
UID:9324-1510479000-1510486200@www.friendsofmttam.org
SUMMARY:Guided Walk led by Rosanna Petralia: "The Redwood Creek Wat"
DESCRIPTION:Topic: Creatures of the Redwood Creek Watershed\nLength: less than 2 hours\, 2 miles round trip\, easy walk.\nThis will be a slow-paced\, interpretive walk\, focused on nature stories of the creatures inhabiting the redwood creek watershed. Families and kids are welcome!\nFrom the Frank Valley Horse Camp we will get to Muir Beach following the Redwood Creek Trail and then return the same way.\nParking is limited in that area because of the proximity with Muir Woods. Arrive on time to be able to park inside the gate of the Horse Camp Area. Cell phones might be out of reach. \nMax. 20 participants.\nRSVP to secure your spot: rosanna.petralia@parks.ca.gov \nRSVP:\nMaria\nSantiago\nAlexandra\nCindy
URL:https://www.friendsofmttam.org/event/930am-hike-led-by-rosanna-petralia-the-redwood-creek-wat/
LOCATION:Frank Valley #14\, Mt Tamalpais
CATEGORIES:Hike
END:VEVENT
END:VCALENDAR