BEGIN:VCALENDAR
VERSION:2.0
PRODID:-//Friends of Mt Tam - ECPv6.15.18//NONSGML v1.0//EN
CALSCALE:GREGORIAN
METHOD:PUBLISH
X-WR-CALNAME:Friends of Mt Tam
X-ORIGINAL-URL:https://www.friendsofmttam.org
X-WR-CALDESC:Events for Friends of Mt Tam
REFRESH-INTERVAL;VALUE=DURATION:PT1H
X-Robots-Tag:noindex
X-PUBLISHED-TTL:PT1H
BEGIN:VTIMEZONE
TZID:America/Los_Angeles
BEGIN:DAYLIGHT
TZOFFSETFROM:-0800
TZOFFSETTO:-0700
TZNAME:PDT
DTSTART:20170312T100000
END:DAYLIGHT
BEGIN:STANDARD
TZOFFSETFROM:-0700
TZOFFSETTO:-0800
TZNAME:PST
DTSTART:20171105T090000
END:STANDARD
BEGIN:DAYLIGHT
TZOFFSETFROM:-0800
TZOFFSETTO:-0700
TZNAME:PDT
DTSTART:20180311T100000
END:DAYLIGHT
BEGIN:STANDARD
TZOFFSETFROM:-0700
TZOFFSETTO:-0800
TZNAME:PST
DTSTART:20181104T090000
END:STANDARD
BEGIN:DAYLIGHT
TZOFFSETFROM:-0800
TZOFFSETTO:-0700
TZNAME:PDT
DTSTART:20190310T100000
END:DAYLIGHT
BEGIN:STANDARD
TZOFFSETFROM:-0700
TZOFFSETTO:-0800
TZNAME:PST
DTSTART:20191103T090000
END:STANDARD
END:VTIMEZONE
BEGIN:VEVENT
DTSTART;VALUE=DATE:20180513
DTEND;VALUE=DATE:20180514
DTSTAMP:20260423T163001
CREATED:20171010T050647Z
LAST-MODIFIED:20190510T194341Z
UID:9384-1526169600-1526255999@www.friendsofmttam.org
SUMMARY:11-4 VC: Kit Murphy & Debra Brody
DESCRIPTION:
URL:https://www.friendsofmttam.org/event/11-4-vc-kit-murphy-debra-brody-5/
CATEGORIES:Visitor Center
END:VEVENT
BEGIN:VEVENT
DTSTART;VALUE=DATE:20180512
DTEND;VALUE=DATE:20180513
DTSTAMP:20260423T163001
CREATED:20190504T053531Z
LAST-MODIFIED:20190510T194341Z
UID:37294-1526083200-1526169599@www.friendsofmttam.org
SUMMARY:VC - Cate Zovod
DESCRIPTION:
URL:https://www.friendsofmttam.org/event/vc-cate-zovod-2/
CATEGORIES:Visitor Center
END:VEVENT
BEGIN:VEVENT
DTSTART;VALUE=DATE:20180506
DTEND;VALUE=DATE:20180507
DTSTAMP:20260423T163001
CREATED:20180301T212546Z
LAST-MODIFIED:20190510T194341Z
UID:11255-1525564800-1525651199@www.friendsofmttam.org
SUMMARY:11-4 VC: Shirley Beers/Lillian Lessler
DESCRIPTION:
URL:https://www.friendsofmttam.org/event/11-4-vc-shirley-beers-lillian-lessler-13/
CATEGORIES:Visitor Center
END:VEVENT
BEGIN:VEVENT
DTSTART;VALUE=DATE:20180506
DTEND;VALUE=DATE:20180507
DTSTAMP:20260423T163001
CREATED:20170813T215639Z
LAST-MODIFIED:20180131T225136Z
UID:9011-1525564800-1525651199@www.friendsofmttam.org
SUMMARY:11-4 Visitor Center Shirley Beers/Lillian Lessler
DESCRIPTION:
URL:https://www.friendsofmttam.org/event/11-4-visitor-center-shirley-beerslillian-lessler-13/
CATEGORIES:Visitor Center
END:VEVENT
BEGIN:VEVENT
DTSTART;VALUE=DATE:20180429
DTEND;VALUE=DATE:20180430
DTSTAMP:20260423T163001
CREATED:20190504T053531Z
LAST-MODIFIED:20190510T194341Z
UID:37293-1524960000-1525046399@www.friendsofmttam.org
SUMMARY:VC - Janet Friedman
DESCRIPTION:
URL:https://www.friendsofmttam.org/event/vc-janet-friedman-4/
CATEGORIES:Visitor Center
END:VEVENT
BEGIN:VEVENT
DTSTART;VALUE=DATE:20180428
DTEND;VALUE=DATE:20180429
DTSTAMP:20260423T163001
CREATED:20190504T053531Z
LAST-MODIFIED:20190510T194341Z
UID:37292-1524873600-1524959999@www.friendsofmttam.org
SUMMARY:VC - Janet Friedman
DESCRIPTION:
URL:https://www.friendsofmttam.org/event/vc-janet-friedman-3/
CATEGORIES:Visitor Center
END:VEVENT
BEGIN:VEVENT
DTSTART;VALUE=DATE:20180422
DTEND;VALUE=DATE:20180423
DTSTAMP:20260423T163001
CREATED:20190504T053531Z
LAST-MODIFIED:20190510T194341Z
UID:37291-1524355200-1524441599@www.friendsofmttam.org
SUMMARY:VC - Janet Friedman
DESCRIPTION:
URL:https://www.friendsofmttam.org/event/vc-janet-friedman-2/
CATEGORIES:Visitor Center
END:VEVENT
BEGIN:VEVENT
DTSTART;VALUE=DATE:20180415
DTEND;VALUE=DATE:20180416
DTSTAMP:20260423T163001
CREATED:20170905T213634Z
LAST-MODIFIED:20190510T194341Z
UID:9207-1523750400-1523836799@www.friendsofmttam.org
SUMMARY:11-4 Visitor Ctr-Tom Brookshire
DESCRIPTION:
URL:https://www.friendsofmttam.org/event/11-4-visitor-ctr-tom-brookshire-4/
CATEGORIES:Visitor Center
END:VEVENT
BEGIN:VEVENT
DTSTART;VALUE=DATE:20180414
DTEND;VALUE=DATE:20180415
DTSTAMP:20260423T163001
CREATED:20190504T053530Z
LAST-MODIFIED:20190510T194341Z
UID:37290-1523664000-1523750399@www.friendsofmttam.org
SUMMARY:VC - Janet Friedman
DESCRIPTION:
URL:https://www.friendsofmttam.org/event/vc-janet-friedman/
CATEGORIES:Visitor Center
END:VEVENT
BEGIN:VEVENT
DTSTART;VALUE=DATE:20180414
DTEND;VALUE=DATE:20180415
DTSTAMP:20260423T163001
CREATED:20180111T050947Z
LAST-MODIFIED:20180316T195925Z
UID:10318-1523664000-1523750399@www.friendsofmttam.org
SUMMARY:11-4 VC - Sarah Martin
DESCRIPTION:
URL:https://www.friendsofmttam.org/event/11-4-vc-sarah-martin-4/
CATEGORIES:Visitor Center
END:VEVENT
BEGIN:VEVENT
DTSTART;VALUE=DATE:20180408
DTEND;VALUE=DATE:20180409
DTSTAMP:20260423T163001
CREATED:20171010T050647Z
LAST-MODIFIED:20190510T194341Z
UID:9383-1523145600-1523231999@www.friendsofmttam.org
SUMMARY:11-4 VC: Kit Murphy & Debra Brody
DESCRIPTION:
URL:https://www.friendsofmttam.org/event/11-4-vc-kit-murphy-debra-brody-4/
CATEGORIES:Visitor Center
END:VEVENT
BEGIN:VEVENT
DTSTART;VALUE=DATE:20180407
DTEND;VALUE=DATE:20180408
DTSTAMP:20260423T163001
CREATED:20180116T052038Z
LAST-MODIFIED:20190510T194341Z
UID:10445-1523059200-1523145599@www.friendsofmttam.org
SUMMARY:VC - Cate Zovod - 11-4
DESCRIPTION:
URL:https://www.friendsofmttam.org/event/vc-cate-zovod-11-4-5/
LOCATION:Mt Tamalpais East Peak\, Mt. Tam Gravity Car Barn\, Mill Valley\, 94941\, United States
CATEGORIES:Visitor Center
END:VEVENT
BEGIN:VEVENT
DTSTART;VALUE=DATE:20180401
DTEND;VALUE=DATE:20180402
DTSTAMP:20260423T163001
CREATED:20180301T212534Z
LAST-MODIFIED:20190510T194341Z
UID:11254-1522540800-1522627199@www.friendsofmttam.org
SUMMARY:11-4 VC: Shirley Beers/Lillian Lessler
DESCRIPTION:
URL:https://www.friendsofmttam.org/event/11-4-vc-shirley-beers-lillian-lessler-12/
CATEGORIES:Visitor Center
END:VEVENT
BEGIN:VEVENT
DTSTART;VALUE=DATE:20180401
DTEND;VALUE=DATE:20180402
DTSTAMP:20260423T163001
CREATED:20170813T215639Z
LAST-MODIFIED:20180301T125537Z
UID:9010-1522540800-1522627199@www.friendsofmttam.org
SUMMARY:11-4 Visitor Center Shirley Beers/Lillian Lessler
DESCRIPTION:
URL:https://www.friendsofmttam.org/event/11-4-visitor-center-shirley-beerslillian-lessler-12/
CATEGORIES:Visitor Center
END:VEVENT
BEGIN:VEVENT
DTSTART;VALUE=DATE:20180324
DTEND;VALUE=DATE:20180325
DTSTAMP:20260423T163001
CREATED:20180104T185325Z
LAST-MODIFIED:20190510T194341Z
UID:10132-1521849600-1521935999@www.friendsofmttam.org
SUMMARY:ALBERT WALD - VC
DESCRIPTION:
URL:https://www.friendsofmttam.org/event/albert-wald-vc-3/
CATEGORIES:Visitor Center
END:VEVENT
BEGIN:VEVENT
DTSTART;VALUE=DATE:20180318
DTEND;VALUE=DATE:20180319
DTSTAMP:20260423T163001
CREATED:20170905T213611Z
LAST-MODIFIED:20190510T194340Z
UID:9206-1521331200-1521417599@www.friendsofmttam.org
SUMMARY:11-4 Visitor Ctr-Tom Brookshire
DESCRIPTION:
URL:https://www.friendsofmttam.org/event/11-4-visitor-ctr-tom-brookshire-3/
CATEGORIES:Visitor Center
END:VEVENT
BEGIN:VEVENT
DTSTART;VALUE=DATE:20180317
DTEND;VALUE=DATE:20180318
DTSTAMP:20260423T163001
CREATED:20180116T052036Z
LAST-MODIFIED:20190510T194340Z
UID:10444-1521244800-1521331199@www.friendsofmttam.org
SUMMARY:VC - Cate Zovod - 11-4
DESCRIPTION:
URL:https://www.friendsofmttam.org/event/vc-cate-zovod-11-4-4/
CATEGORIES:Visitor Center
END:VEVENT
BEGIN:VEVENT
DTSTART;TZID=America/Los_Angeles:20180311T000100
DTEND;TZID=America/Los_Angeles:20180311T235900
DTSTAMP:20260423T163001
CREATED:20171128T223859Z
LAST-MODIFIED:20171128T223859Z
UID:9641-1520726460-1520812740@www.friendsofmttam.org
SUMMARY:11-4 VC: Kit Murphy & Debra Brody
DESCRIPTION:
URL:https://www.friendsofmttam.org/event/11-4-vc-kit-murphy-debra-brody-26/
CATEGORIES:Visitor Center
END:VEVENT
BEGIN:VEVENT
DTSTART;TZID=America/Los_Angeles:20180311T000100
DTEND;TZID=America/Los_Angeles:20180311T235900
DTSTAMP:20260423T163001
CREATED:20171127T064043Z
LAST-MODIFIED:20171127T064043Z
UID:9625-1520726460-1520812740@www.friendsofmttam.org
SUMMARY:11-4 VC: Kit Murphy & Debra Brody
DESCRIPTION:
URL:https://www.friendsofmttam.org/event/11-4-vc-kit-murphy-debra-brody-25/
CATEGORIES:Visitor Center
END:VEVENT
BEGIN:VEVENT
DTSTART;TZID=America/Los_Angeles:20180311T000100
DTEND;TZID=America/Los_Angeles:20180311T235900
DTSTAMP:20260423T163001
CREATED:20171125T224153Z
LAST-MODIFIED:20171125T224153Z
UID:9617-1520726460-1520812740@www.friendsofmttam.org
SUMMARY:11-4 VC: Kit Murphy & Debra Brody
DESCRIPTION:
URL:https://www.friendsofmttam.org/event/11-4-vc-kit-murphy-debra-brody-24/
CATEGORIES:Visitor Center
END:VEVENT
BEGIN:VEVENT
DTSTART;TZID=America/Los_Angeles:20180311T000100
DTEND;TZID=America/Los_Angeles:20180311T235900
DTSTAMP:20260423T163001
CREATED:20171124T065440Z
LAST-MODIFIED:20171124T065440Z
UID:9604-1520726460-1520812740@www.friendsofmttam.org
SUMMARY:11-4 VC: Kit Murphy & Debra Brody
DESCRIPTION:
URL:https://www.friendsofmttam.org/event/11-4-vc-kit-murphy-debra-brody-23/
CATEGORIES:Visitor Center
END:VEVENT
BEGIN:VEVENT
DTSTART;VALUE=DATE:20180311
DTEND;VALUE=DATE:20180312
DTSTAMP:20260423T163001
CREATED:20171010T050642Z
LAST-MODIFIED:20190510T194340Z
UID:9382-1520726400-1520812799@www.friendsofmttam.org
SUMMARY:11-4 VC: Kit Murphy & Debra Brody
DESCRIPTION:
URL:https://www.friendsofmttam.org/event/11-4-vc-kit-murphy-debra-brody-3/
CATEGORIES:Visitor Center
END:VEVENT
BEGIN:VEVENT
DTSTART;VALUE=DATE:20180304
DTEND;VALUE=DATE:20180305
DTSTAMP:20260423T163001
CREATED:20180301T212352Z
LAST-MODIFIED:20180304T173631Z
UID:11253-1520121600-1520207999@www.friendsofmttam.org
SUMMARY:11-4 VC: Shirley Beers/Lillian Lessler
DESCRIPTION:
URL:https://www.friendsofmttam.org/event/11-4-vc-shirley-beers-lillian-lessler-11/
CATEGORIES:Visitor Center
END:VEVENT
BEGIN:VEVENT
DTSTART;VALUE=DATE:20180304
DTEND;VALUE=DATE:20180305
DTSTAMP:20260423T163001
CREATED:20170813T215639Z
LAST-MODIFIED:20190510T194340Z
UID:9009-1520121600-1520207999@www.friendsofmttam.org
SUMMARY:11-4 Visitor Center Shirley Beers/Lillian Lessler
DESCRIPTION:
URL:https://www.friendsofmttam.org/event/11-4-visitor-center-shirley-beerslillian-lessler-11/
CATEGORIES:Visitor Center
END:VEVENT
BEGIN:VEVENT
DTSTART;VALUE=DATE:20180218
DTEND;VALUE=DATE:20180219
DTSTAMP:20260423T163001
CREATED:20170905T213610Z
LAST-MODIFIED:20190510T194340Z
UID:9205-1518912000-1518998399@www.friendsofmttam.org
SUMMARY:11-4 Visitor Ctr-Tom Brookshire
DESCRIPTION:
URL:https://www.friendsofmttam.org/event/11-4-visitor-ctr-tom-brookshire-2/
CATEGORIES:Visitor Center
END:VEVENT
BEGIN:VEVENT
DTSTART;VALUE=DATE:20180217
DTEND;VALUE=DATE:20180218
DTSTAMP:20260423T163001
CREATED:20180104T185147Z
LAST-MODIFIED:20190510T194340Z
UID:10130-1518825600-1518911999@www.friendsofmttam.org
SUMMARY:ALBERT WALD - VC
DESCRIPTION:
URL:https://www.friendsofmttam.org/event/albert-wald-vc-2/
CATEGORIES:Visitor Center
END:VEVENT
BEGIN:VEVENT
DTSTART;VALUE=DATE:20180211
DTEND;VALUE=DATE:20180212
DTSTAMP:20260423T163001
CREATED:20171010T050642Z
LAST-MODIFIED:20190510T194340Z
UID:9381-1518307200-1518393599@www.friendsofmttam.org
SUMMARY:11-4 VC: Kit Murphy & Debra Brody
DESCRIPTION:
URL:https://www.friendsofmttam.org/event/11-4-vc-kit-murphy-debra-brody-2/
CATEGORIES:Visitor Center
END:VEVENT
BEGIN:VEVENT
DTSTART;VALUE=DATE:20180204
DTEND;VALUE=DATE:20180205
DTSTAMP:20260423T163001
CREATED:20180301T212346Z
LAST-MODIFIED:20190510T194340Z
UID:11252-1517702400-1517788799@www.friendsofmttam.org
SUMMARY:11-4 VC: Shirley Beers/Lillian Lessler
DESCRIPTION:
URL:https://www.friendsofmttam.org/event/11-4-vc-shirley-beers-lillian-lessler-10/
CATEGORIES:Visitor Center
END:VEVENT
BEGIN:VEVENT
DTSTART;VALUE=DATE:20180204
DTEND;VALUE=DATE:20180205
DTSTAMP:20260423T163001
CREATED:20170813T215554Z
LAST-MODIFIED:20190510T194340Z
UID:9008-1517702400-1517788799@www.friendsofmttam.org
SUMMARY:11-4 Visitor Center Shirley Beers/Lillian Lessler
DESCRIPTION:
URL:https://www.friendsofmttam.org/event/11-4-visitor-center-shirley-beerslillian-lessler-10/
CATEGORIES:Visitor Center
END:VEVENT
BEGIN:VEVENT
DTSTART;VALUE=DATE:20180203
DTEND;VALUE=DATE:20180204
DTSTAMP:20260423T163001
CREATED:20180116T052031Z
LAST-MODIFIED:20190510T194340Z
UID:10443-1517616000-1517702399@www.friendsofmttam.org
SUMMARY:VC - Cate Zovod - 11-4
DESCRIPTION:
URL:https://www.friendsofmttam.org/event/vc-cate-zovod-11-4-3/
LOCATION:Mt Tamalpais East Peak\, Mt. Tam Gravity Car Barn\, Mill Valley\, 94941\, United States
CATEGORIES:Visitor Center
END:VEVENT
END:VCALENDAR