BEGIN:VCALENDAR
VERSION:2.0
PRODID:-//Friends of Mt Tam - ECPv6.15.18//NONSGML v1.0//EN
CALSCALE:GREGORIAN
METHOD:PUBLISH
X-WR-CALNAME:Friends of Mt Tam
X-ORIGINAL-URL:https://www.friendsofmttam.org
X-WR-CALDESC:Events for Friends of Mt Tam
REFRESH-INTERVAL;VALUE=DURATION:PT1H
X-Robots-Tag:noindex
X-PUBLISHED-TTL:PT1H
BEGIN:VTIMEZONE
TZID:America/Los_Angeles
BEGIN:DAYLIGHT
TZOFFSETFROM:-0800
TZOFFSETTO:-0700
TZNAME:PDT
DTSTART:20170312T100000
END:DAYLIGHT
BEGIN:STANDARD
TZOFFSETFROM:-0700
TZOFFSETTO:-0800
TZNAME:PST
DTSTART:20171105T090000
END:STANDARD
BEGIN:DAYLIGHT
TZOFFSETFROM:-0800
TZOFFSETTO:-0700
TZNAME:PDT
DTSTART:20180311T100000
END:DAYLIGHT
BEGIN:STANDARD
TZOFFSETFROM:-0700
TZOFFSETTO:-0800
TZNAME:PST
DTSTART:20181104T090000
END:STANDARD
BEGIN:DAYLIGHT
TZOFFSETFROM:-0800
TZOFFSETTO:-0700
TZNAME:PDT
DTSTART:20190310T100000
END:DAYLIGHT
BEGIN:STANDARD
TZOFFSETFROM:-0700
TZOFFSETTO:-0800
TZNAME:PST
DTSTART:20191103T090000
END:STANDARD
END:VTIMEZONE
BEGIN:VEVENT
DTSTART;VALUE=DATE:20180701
DTEND;VALUE=DATE:20180702
DTSTAMP:20260423T145148
CREATED:20180627T000027Z
LAST-MODIFIED:20191202T164130Z
UID:14487-1530403200-1530489599@www.friendsofmttam.org
SUMMARY:9:30 AM Sunday Hike -Moderate-Quarry Parking Lot #6 - Mt. Tam History Led by Karen Ulring
DESCRIPTION:We’ll enjoy the quiet & coolness of the northside\, visit the real High Marsh and possibly Shangra-La\, and hear more Tam history. Trails: Mountain Top\, Arturo\, Azalea Meadows\, High Marsh\, Cross Country Boys\, Kent\, Mickey O’Brien and Cataract back.
URL:https://www.friendsofmttam.org/event/930-am-sunday-hike-moderate-quarry-parking-lot-6-mt-tam-history-led-by-karen-ulring/
LOCATION:Quarry Parking Lot #6\, Mt Tamalpais
CATEGORIES:Hike
END:VEVENT
BEGIN:VEVENT
DTSTART;VALUE=DATE:20180701
DTEND;VALUE=DATE:20180702
DTSTAMP:20260423T145148
CREATED:20170813T215640Z
LAST-MODIFIED:20180316T200042Z
UID:9013-1530403200-1530489599@www.friendsofmttam.org
SUMMARY:11-4 Visitor Center Shirley Beers/Lillian Lessler
DESCRIPTION:
URL:https://www.friendsofmttam.org/event/11-4-visitor-center-shirley-beerslillian-lessler-15/
CATEGORIES:Visitor Center
END:VEVENT
BEGIN:VEVENT
DTSTART;VALUE=DATE:20180630
DTEND;VALUE=DATE:20180701
DTSTAMP:20260423T145148
CREATED:20190504T053532Z
LAST-MODIFIED:20190510T194342Z
UID:37300-1530316800-1530403199@www.friendsofmttam.org
SUMMARY:VC - Closed Redflag Condtions
DESCRIPTION:
URL:https://www.friendsofmttam.org/event/vc-closed-redflag-condtions-3/
CATEGORIES:Visitor Center
END:VEVENT
BEGIN:VEVENT
DTSTART;VALUE=DATE:20180630
DTEND;VALUE=DATE:20180701
DTSTAMP:20260423T145148
CREATED:20180317T032555Z
LAST-MODIFIED:20191202T164129Z
UID:11565-1530316800-1530403199@www.friendsofmttam.org
SUMMARY:CANCELLED - 9:30am Hike from the Quarry Parking Lot. "Mt Tam Plant Communities" with docent Brendan Hickey
DESCRIPTION:Saturday\, June 30 @9:30am from the Quarry Parking Lot.   \n“Mt Tam Plant Communities“ with docent Brendan Hickey  \n—So much diversity in such a compact footprint! We’ll pay witness to some of Mt. Tam’s bounty as we move from grassland to chapparal to Coastal Redwood to oak stands. Bring your walking shoes\, as we hope to cover a fair stretch of terrain. Quiet north side\, lots of shade.  \nModerate \n 
URL:https://www.friendsofmttam.org/event/930am-hike-from-the-quarry-parking-lot-mt-tam-plant-communities-with-docent-brendan-hickey/
CATEGORIES:Hike
END:VEVENT
BEGIN:VEVENT
DTSTART;VALUE=DATE:20180627
DTEND;VALUE=DATE:20180628
DTSTAMP:20260423T145148
CREATED:20180317T032551Z
LAST-MODIFIED:20191202T164129Z
UID:11564-1530057600-1530143999@www.friendsofmttam.org
SUMMARY:6pm Moonrise/Evening Hike from Mt Home\,  with docent Sue Karp and interpreter Rosanna Petralia
DESCRIPTION:Moonrise/Evening Hike! Wednesday\, June 27 @6pm from Mt Home parking lot. Co-Led by docent Sue Karp and park interpreter Rosanna Petralia. Walk along the Matt Davis and Nora trails to the West Point Inn and back the Old Railroad Grade fire road for great views of the Bay Area. We will share thoughts and stories along the way and watch the full moon rising! We will be back at twilight. Please\, bring water\, snack\, flashlight (just in case) and hiking poles. \nRegular.
URL:https://www.friendsofmttam.org/event/6pm-hike-from-mt-home-parking-lot-redwoods-with-docent-sue-karp/
CATEGORIES:Hike
END:VEVENT
BEGIN:VEVENT
DTSTART;VALUE=DATE:20180624
DTEND;VALUE=DATE:20180625
DTSTAMP:20260423T145148
CREATED:20190504T053531Z
LAST-MODIFIED:20190510T194342Z
UID:37299-1529798400-1529884799@www.friendsofmttam.org
SUMMARY:VC - Closed Redflag Condtions
DESCRIPTION:
URL:https://www.friendsofmttam.org/event/vc-closed-redflag-condtions-2/
CATEGORIES:Visitor Center
END:VEVENT
BEGIN:VEVENT
DTSTART;VALUE=DATE:20180624
DTEND;VALUE=DATE:20180625
DTSTAMP:20260423T145148
CREATED:20180317T032551Z
LAST-MODIFIED:20191202T164129Z
UID:11563-1529798400-1529884799@www.friendsofmttam.org
SUMMARY:CANCELLED (redflag conditions) - 9:30am Hike from Rock Spring parking lot.  "Mt Tam Microclimates/adaptive native plants" with docent Tom Dewey
DESCRIPTION:Sunday\, June 24 @9:30am from Rock Spring parking lot. “Mt Tam Microclimates/adaptive native plants“ with docent Tom Dewey —Explore a variety of microclimates and magical moments among the many pathways of Mt Tamalpais. Enjoy new knowledge of variety of endemic and adaptive species found on our magic mountain. Regular
URL:https://www.friendsofmttam.org/event/930am-hike-from-rock-spring-parking-lot-mt-tam-microclimates-adaptive-native-plants-with-docent-robert-freinkel/
CATEGORIES:Hike
END:VEVENT
BEGIN:VEVENT
DTSTART;VALUE=DATE:20180624
DTEND;VALUE=DATE:20180625
DTSTAMP:20260423T145148
CREATED:20180317T032550Z
LAST-MODIFIED:20191202T164129Z
UID:11562-1529798400-1529884799@www.friendsofmttam.org
SUMMARY:CANCELLED (redflag conditions) - 11am Hike from Rock Spring trailhead.  "Spirit and Nature" with docent Tina Meinig
DESCRIPTION:Sunday\, June 24 @11am from Rock Spring trailhead. “Spirit and Nature“ with docent Tina Meinig —Nature provides many spiritual benefits that can help us in today’s frantic world. Discover the mystery of nature…how it can awaken our senses\, quiet our minds and open our hearts. Explore the sacredness of MT. Tam as the Miwok Indians did centuries ago and as the animals do today. Easy
URL:https://www.friendsofmttam.org/event/11am-hike-from-rock-spring-trailhead-spirit-and-nature-with-docent-tina-meinig/
CATEGORIES:Hike
END:VEVENT
BEGIN:VEVENT
DTSTART;VALUE=DATE:20180623
DTEND;VALUE=DATE:20180624
DTSTAMP:20260423T145148
CREATED:20190504T053531Z
LAST-MODIFIED:20190510T194342Z
UID:37298-1529712000-1529798399@www.friendsofmttam.org
SUMMARY:VC - Closed Redflag Condtions
DESCRIPTION:
URL:https://www.friendsofmttam.org/event/vc-closed-redflag-condtions/
CATEGORIES:Visitor Center
END:VEVENT
BEGIN:VEVENT
DTSTART;VALUE=DATE:20180623
DTEND;VALUE=DATE:20180624
DTSTAMP:20260423T145148
CREATED:20180317T032550Z
LAST-MODIFIED:20191202T164129Z
UID:11561-1529712000-1529798399@www.friendsofmttam.org
SUMMARY:CANCELLED (redflag conditions) - Hike from Rock Spring parking lot.  "Nuts About Woodpeckers" with docent Brendan Hickey
DESCRIPTION:Saturday\, June 23 #4 from Rock Spring parking lot. “Nuts About Woodpeckers“ with docent Brendan Hickey —Let’s explore the patently weird social mores of the Acorn Woodpecker and trade tales of its massive cousin\, the Pileated. We’ll get in a nice 5-hour hike on some lesser-trod trails in this first-weekend-of-summer hike. Moderate
URL:https://www.friendsofmttam.org/event/930am-hike-from-rock-spring-parking-lot-nuts-about-woodpeckers-with-docent-brendan-hickey/
CATEGORIES:Hike
END:VEVENT
BEGIN:VEVENT
DTSTART;VALUE=DATE:20180623
DTEND;VALUE=DATE:20180624
DTSTAMP:20260423T145148
CREATED:20180317T032550Z
LAST-MODIFIED:20191202T164129Z
UID:11560-1529712000-1529798399@www.friendsofmttam.org
SUMMARY:CANCELLED (redflag conditions) - Moonlight Hike rescheduled for Wed 27\, 6pm
DESCRIPTION:This hike has been rescheduled for the true full moon day\, Wednesday June 27\, at 6PM.
URL:https://www.friendsofmttam.org/event/moonlight-hike-at-830pm-from-pantoll-trailhead-strawberry-moon-with-docent-lizzy-silverstein/
CATEGORIES:Hike
END:VEVENT
BEGIN:VEVENT
DTSTART;VALUE=DATE:20180620
DTEND;VALUE=DATE:20180621
DTSTAMP:20260423T145148
CREATED:20180317T032441Z
LAST-MODIFIED:20191202T164129Z
UID:11559-1529452800-1529539199@www.friendsofmttam.org
SUMMARY:6pmHike from East Ridgecrest Blvd at the intersection with Miller trail.  "Last Evening of Spring" with docent Brendan Hickey
DESCRIPTION:Evening Hike! Wednesday\, June 20 @6pm from East Ridgecrest Blvd at the intersection with Miller trail. “Last Evening of Spring“ with docent Brendan Hickey —Circling two peaks and pausing at Inspiration Point. Let’s take a lovely walk into dusk\, to listen and reflect and drink it all in. Easy
URL:https://www.friendsofmttam.org/event/6pmhike-from-east-ridgecrest-blvd-at-the-intersection-with-miller-trail-last-evening-of-spring-with-docent-brendan-hickey/
CATEGORIES:Hike
END:VEVENT
BEGIN:VEVENT
DTSTART;VALUE=DATE:20180617
DTEND;VALUE=DATE:20180618
DTSTAMP:20260423T145148
CREATED:20190504T053531Z
LAST-MODIFIED:20190510T194342Z
UID:37297-1529193600-1529279999@www.friendsofmttam.org
SUMMARY:VC - Tom Brookshire
DESCRIPTION:
URL:https://www.friendsofmttam.org/event/vc-tom-brookshire-2/
CATEGORIES:Visitor Center
END:VEVENT
BEGIN:VEVENT
DTSTART;VALUE=DATE:20180617
DTEND;VALUE=DATE:20180618
DTSTAMP:20260423T145148
CREATED:20180317T032441Z
LAST-MODIFIED:20191202T164129Z
UID:11558-1529193600-1529279999@www.friendsofmttam.org
SUMMARY:9:30am Hike from Mt Home parking lot.  "Mountain Views" with docent Tom Dewey
DESCRIPTION:Sunday\, June 17 @9:30am from Mt Home parking lot. “Mountain Views“ with docent Tom Dewey —Hike to the top of Mt Tam with views of San Francisco\, Mt Diablo and the Pacific Ocean along the way Moderate
URL:https://www.friendsofmttam.org/event/930am-hike-from-mt-home-parking-lot-mountain-views-with-docent-tom-dewey/
CATEGORIES:Hike
END:VEVENT
BEGIN:VEVENT
DTSTART;TZID=America/Los_Angeles:20180616T200000
DTEND;TZID=America/Los_Angeles:20180616T223000
DTSTAMP:20260423T145148
CREATED:20180408T005107Z
LAST-MODIFIED:20190516T001919Z
UID:11983-1529179200-1529188200@www.friendsofmttam.org
SUMMARY:CANCELLED - Astronomy Night - MISSION: MARS - Pascal Lee
DESCRIPTION:Jun 16\, 8:00pm — MISSION: MARS \nPascal Lee\, Planetary Scientist\, Mars& SETI InstitutesWe are making progress globally — from the Arctic to Antarctica\, from basementlabs to the International Space Station — to achieve the first humanvoyage to Mars. Come explore the what\, why\, how\, when\, and who of ourfirst journey to the Red Planet. \nParking Pass Required! Visit   http://www.friendsofmttam.org/astronomy.htmlfor directions\, parking and parking passes.
URL:https://www.friendsofmttam.org/event/astronomy-night-mission-mars-pascal-lee/
LOCATION:Cushing Memorial Amphitheater\, Mill Valley\, CA 94941\, USA\, 2 Cushing Dr\, United States
CATEGORIES:Astronomy
END:VEVENT
BEGIN:VEVENT
DTSTART;VALUE=DATE:20180616
DTEND;VALUE=DATE:20180617
DTSTAMP:20260423T145148
CREATED:20180317T032441Z
LAST-MODIFIED:20191202T164129Z
UID:11557-1529107200-1529193599@www.friendsofmttam.org
SUMMARY:9:30am Hike from Bootjack trailhead.  "Muir Woods" with docent Franklin Young
DESCRIPTION:Saturday\, June 16 @9:30am from Bootjack trailhead. “Muir Woods“ with docent Franklin Young —Hike down to Muir Woods and talk about historical events that have occurred in this special setting. Moderate
URL:https://www.friendsofmttam.org/event/930am-hike-from-bootjack-trailhead-muir-woods-with-docent-franklin-young/
CATEGORIES:Hike
END:VEVENT
BEGIN:VEVENT
DTSTART;VALUE=DATE:20180613
DTEND;VALUE=DATE:20180614
DTSTAMP:20260423T145148
CREATED:20180317T032440Z
LAST-MODIFIED:20191202T164129Z
UID:11556-1528848000-1528934399@www.friendsofmttam.org
SUMMARY:6pm Hike from Mt Home parking lot.  "West Point Inn" with docent Franklin Young
DESCRIPTION:Evening Hike! Wednesday\, June 13 @6pm from Mt Home parking lot. “West Point Inn“ with docent Franklin Young —Hike up to West Point Inn and talk about its name and its history. We’ll take the Railroad grade back to Mt Home Regular
URL:https://www.friendsofmttam.org/event/6pm-hike-from-mt-home-parking-lot-west-point-inn-with-docent-franklin-young/
CATEGORIES:Hike
END:VEVENT
BEGIN:VEVENT
DTSTART;VALUE=DATE:20180610
DTEND;VALUE=DATE:20180611
DTSTAMP:20260423T145148
CREATED:20180317T032440Z
LAST-MODIFIED:20190106T021641Z
UID:11555-1528588800-1528675199@www.friendsofmttam.org
SUMMARY:No Hikes
DESCRIPTION:
URL:https://www.friendsofmttam.org/event/no-hikes-2/
CATEGORIES:Hike
END:VEVENT
BEGIN:VEVENT
DTSTART;VALUE=DATE:20180610
DTEND;VALUE=DATE:20180611
DTSTAMP:20260423T145148
CREATED:20171010T051234Z
LAST-MODIFIED:20190510T194342Z
UID:9385-1528588800-1528675199@www.friendsofmttam.org
SUMMARY:11-4 VC: Kit Murphy & Debra Brody
DESCRIPTION:
URL:https://www.friendsofmttam.org/event/11-4-vc-kit-murphy-debra-brody-6/
CATEGORIES:Visitor Center
END:VEVENT
BEGIN:VEVENT
DTSTART;VALUE=DATE:20180609
DTEND;VALUE=DATE:20180610
DTSTAMP:20260423T145148
CREATED:20190504T053531Z
LAST-MODIFIED:20190510T194342Z
UID:37296-1528502400-1528588799@www.friendsofmttam.org
SUMMARY:VC - Cate Zovod
DESCRIPTION:
URL:https://www.friendsofmttam.org/event/vc-cate-zovod-3/
CATEGORIES:Visitor Center
END:VEVENT
BEGIN:VEVENT
DTSTART;VALUE=DATE:20180609
DTEND;VALUE=DATE:20180610
DTSTAMP:20260423T145148
CREATED:20180317T030831Z
LAST-MODIFIED:20191202T164129Z
UID:11552-1528502400-1528588799@www.friendsofmttam.org
SUMMARY:9:30 Hike from Stinson Beach Parking lot\, with docent Santi Abascal.
DESCRIPTION:Saturday\, June 9 @9:30am from Stinson Beach Parking lot. Hike with docent Santi Abascal. Moderate.
URL:https://www.friendsofmttam.org/event/930-hike-from-stinson-beach-parking-lot-with-docent-santi-abascal/
CATEGORIES:Hike
END:VEVENT
BEGIN:VEVENT
DTSTART;VALUE=DATE:20180606
DTEND;VALUE=DATE:20180607
DTSTAMP:20260423T145148
CREATED:20180317T030831Z
LAST-MODIFIED:20191202T164128Z
UID:11551-1528243200-1528329599@www.friendsofmttam.org
SUMMARY:6pm Hike from Rock Spring parknig lot.  "Wild Azaleas" with docent Karen Sappe
DESCRIPTION:Evening Hike! Wednesday\, June 6 @6pm from Rock Spring parknig lot. “Wild Azaleas“ with docent Karen Sapper —A favorite trail along Cateract Creek. A rest at Bart’s Retreat. Enjoy the scented Wild Azaleas. Moderate
URL:https://www.friendsofmttam.org/event/6pm-hike-from-rock-spring-parknig-lot-wild-azaleas-with-docent-karen-sappe/
CATEGORIES:Hike
END:VEVENT
BEGIN:VEVENT
DTSTART;VALUE=DATE:20180603
DTEND;VALUE=DATE:20180604
DTSTAMP:20260423T145148
CREATED:20180529T234303Z
LAST-MODIFIED:20191202T164128Z
UID:14015-1527984000-1528070399@www.friendsofmttam.org
SUMMARY:9:30 Easy Hike from Pantoll led by Lizzy Silverstein: "Finding Community in the Redwoods"
DESCRIPTION:“Finding Community in the Redwoods”\n9:30 Hike from Pantoll by Lizzy Silverstein \nLearn about the incredible communities Redwoods build\, not just among themselves but with other plants and animals in Mt. Tam! \nThis is an easy loop hike: Alpine Trail to TCC Trail and back Dipsea and Old Mine Trails.
URL:https://www.friendsofmttam.org/event/930-easy-hike-from-pantoll-led-by-lizzy-silverstein-finding-community-in-the-redwoods/
CATEGORIES:Hike
END:VEVENT
BEGIN:VEVENT
DTSTART;VALUE=DATE:20180603
DTEND;VALUE=DATE:20180604
DTSTAMP:20260423T145148
CREATED:20180317T030831Z
LAST-MODIFIED:20180529T155616Z
UID:11550-1527984000-1528070399@www.friendsofmttam.org
SUMMARY:No Hikes
DESCRIPTION:
URL:https://www.friendsofmttam.org/event/no-hikes/
CATEGORIES:Hike
END:VEVENT
BEGIN:VEVENT
DTSTART;VALUE=DATE:20180603
DTEND;VALUE=DATE:20180604
DTSTAMP:20260423T145148
CREATED:20170813T215639Z
LAST-MODIFIED:20190510T194342Z
UID:9012-1527984000-1528070399@www.friendsofmttam.org
SUMMARY:11-4 Visitor Center Shirley Beers/Lillian Lessler
DESCRIPTION:
URL:https://www.friendsofmttam.org/event/11-4-visitor-center-shirley-beerslillian-lessler-14/
CATEGORIES:Visitor Center
END:VEVENT
BEGIN:VEVENT
DTSTART;VALUE=DATE:20180602
DTEND;VALUE=DATE:20180603
DTSTAMP:20260423T145148
CREATED:20180317T030831Z
LAST-MODIFIED:20191202T164128Z
UID:11549-1527897600-1527983999@www.friendsofmttam.org
SUMMARY:9:30am Hike from Pantoll:  "Shinrin-Yoku" with docent Nancy Benjamin
DESCRIPTION:Saturday\, June 2 @9:30am from Pantoll trailhead. “Shinrin-Yoku “ with docent Nancy Benjamin —What is Shinrin-Yoku? First developed in Japan\, learn more about the practice and healing benefits of “forest bathing” to engage your senses with a gentle\, guided hike to the Mountain Theatre. Please pack a brimmed hat\, a small towel or mat for sitting\, and water. This walk is offered in collaboration with the Healthy Parks Healthy People Bay Area program. Easy
URL:https://www.friendsofmttam.org/event/930am-hike-from-pantoll-shinrin-yoku-with-docent-nancy-benjamin/
CATEGORIES:Hike
END:VEVENT
BEGIN:VEVENT
DTSTART;VALUE=DATE:20180602
DTEND;VALUE=DATE:20180603
DTSTAMP:20260423T145148
CREATED:20180317T030830Z
LAST-MODIFIED:20191202T164128Z
UID:11548-1527897600-1527983999@www.friendsofmttam.org
SUMMARY:9:30 Hike from Rock Spring parking lot.  "West Point Inn and California State Rock" with docent Pat Ernsberger
DESCRIPTION:Saturday\, June 2 @9:30am from Rock Spring parking lot. “West Point Inn and California State Rock“ with docent Pat Ernsberger —We will have a loop hike along Rock Spring trail\, Old Stage\,and Bootjack or Easy Grade back. We will show and talk about our state rock – the lovely serpentine rock featured in some of the most dramatic landscapes on the mountain. Regular
URL:https://www.friendsofmttam.org/event/930-hike-from-rock-spring-parking-lot-west-point-inn-and-california-state-rock-with-docent-pat-ernsberger/
CATEGORIES:Hike
END:VEVENT
BEGIN:VEVENT
DTSTART;VALUE=DATE:20180530
DTEND;VALUE=DATE:20180531
DTSTAMP:20260423T145148
CREATED:20180317T025455Z
LAST-MODIFIED:20191202T164128Z
UID:11547-1527638400-1527724799@www.friendsofmttam.org
SUMMARY:5:30pm Hike with docent Joan Lamphier from Bootjack (E)
DESCRIPTION:Evening Hike! Wednesday\, May 30 @5:30pm Bootjack Trailheadwith docent Joan LamphierLet’s talk about birds on Mt Tam!
URL:https://www.friendsofmttam.org/event/530pm-hike-tbd/
LOCATION:Bootjack Trailhead
CATEGORIES:Hike
END:VEVENT
BEGIN:VEVENT
DTSTART;VALUE=DATE:20180528
DTEND;VALUE=DATE:20180529
DTSTAMP:20260423T145148
CREATED:20180317T025455Z
LAST-MODIFIED:20191202T164128Z
UID:11546-1527465600-1527551999@www.friendsofmttam.org
SUMMARY:9:30am Holiday Hike from Pantoll: "Owls" with docent Joan Lamphier
DESCRIPTION:Holiday Hike! Monday\, May 28 @9:30am from Pantoll trailhead. “Owls“ with docent Joan Lamphier —-Learn about the owl species that live on Mt Tam. Among them is the endangered Northern Spotted Owl! We will discuss where and when the owls are seen and how they are doing. Easy
URL:https://www.friendsofmttam.org/event/930am-holiday-hike-from-pantoll-owls-with-docent-joan-lamphier/
CATEGORIES:Hike
END:VEVENT
BEGIN:VEVENT
DTSTART;VALUE=DATE:20180527
DTEND;VALUE=DATE:20180528
DTSTAMP:20260423T145148
CREATED:20180317T025455Z
LAST-MODIFIED:20191202T164128Z
UID:11545-1527379200-1527465599@www.friendsofmttam.org
SUMMARY:9:30 Hike "Muir Woods History" with docent Madelyn Misite from Mt Home parking lot
DESCRIPTION:Sunday\, May 27 @9:30am from Mt Home parking lot. “Muir Woods History“ with docent Madelyn Misite —Hike through Muir Woods and learn about William Kent and the preservation of this National Monument. Moderate
URL:https://www.friendsofmttam.org/event/930-hike-muir-woods-history-with-docent-madelyn-misite-from-mt-home-parking-lot/
CATEGORIES:Hike
END:VEVENT
END:VCALENDAR