BEGIN:VCALENDAR
VERSION:2.0
PRODID:-//Friends of Mt Tam - ECPv6.15.18//NONSGML v1.0//EN
CALSCALE:GREGORIAN
METHOD:PUBLISH
X-ORIGINAL-URL:https://www.friendsofmttam.org
X-WR-CALDESC:Events for Friends of Mt Tam
REFRESH-INTERVAL;VALUE=DURATION:PT1H
X-Robots-Tag:noindex
X-PUBLISHED-TTL:PT1H
BEGIN:VTIMEZONE
TZID:America/Los_Angeles
BEGIN:DAYLIGHT
TZOFFSETFROM:-0800
TZOFFSETTO:-0700
TZNAME:PDT
DTSTART:20160313T100000
END:DAYLIGHT
BEGIN:STANDARD
TZOFFSETFROM:-0700
TZOFFSETTO:-0800
TZNAME:PST
DTSTART:20161106T090000
END:STANDARD
BEGIN:DAYLIGHT
TZOFFSETFROM:-0800
TZOFFSETTO:-0700
TZNAME:PDT
DTSTART:20170312T100000
END:DAYLIGHT
BEGIN:STANDARD
TZOFFSETFROM:-0700
TZOFFSETTO:-0800
TZNAME:PST
DTSTART:20171105T090000
END:STANDARD
BEGIN:DAYLIGHT
TZOFFSETFROM:-0800
TZOFFSETTO:-0700
TZNAME:PDT
DTSTART:20180311T100000
END:DAYLIGHT
BEGIN:STANDARD
TZOFFSETFROM:-0700
TZOFFSETTO:-0800
TZNAME:PST
DTSTART:20181104T090000
END:STANDARD
END:VTIMEZONE
BEGIN:VEVENT
DTSTART;VALUE=DATE:20170805
DTEND;VALUE=DATE:20170806
DTSTAMP:20260424T001548
CREATED:20170811T144950Z
LAST-MODIFIED:20190510T191520Z
UID:8455-1501891200-1501977599@www.friendsofmttam.org
SUMMARY:12-4 Gravity Car Barn Open
DESCRIPTION:
URL:https://www.friendsofmttam.org/event/12-4-gravity-car-barn-open-9/
LOCATION:East Peak\, Mt Tamalpais
CATEGORIES:Gravity Car Barn
END:VEVENT
BEGIN:VEVENT
DTSTART;VALUE=DATE:20170805
DTEND;VALUE=DATE:20170806
DTSTAMP:20260424T001548
CREATED:20170812T051946Z
LAST-MODIFIED:20191202T164107Z
UID:8717-1501891200-1501977599@www.friendsofmttam.org
SUMMARY:Moonlight hike led by Glenn Carter: "Sturgeon Moon"
DESCRIPTION:Starts 15 minutes after sunset
URL:https://www.friendsofmttam.org/event/moonlight-hike-led-by-glenn-carter-sturgeon-moon/
LOCATION:Pantoll Parking Lot\, Mt Tamalpais
CATEGORIES:Hike
END:VEVENT
BEGIN:VEVENT
DTSTART;TZID=America/Los_Angeles:20170805T120000
DTEND;TZID=America/Los_Angeles:20170805T153000
DTSTAMP:20260424T001548
CREATED:20170812T044525Z
LAST-MODIFIED:20190516T003828Z
UID:8696-1501934400-1501947000@www.friendsofmttam.org
SUMMARY:FMT Annual Members Picnic
DESCRIPTION:Madrone Grove Picnic Area – Mt Theater\nRSPV Invite or friendsofmttam@gmail.com
URL:https://www.friendsofmttam.org/event/fmt-annual-members-picnic/
LOCATION:Cushing Memorial Amphitheater\, Mill Valley\, CA 94941\, USA\, 2 Cushing Dr\, United States
CATEGORIES:Other
END:VEVENT
BEGIN:VEVENT
DTSTART;VALUE=DATE:20170806
DTEND;VALUE=DATE:20170807
DTSTAMP:20260424T001548
CREATED:20170811T144951Z
LAST-MODIFIED:20190510T191521Z
UID:8456-1501977600-1502063999@www.friendsofmttam.org
SUMMARY:12-4 Gravity Car Barn Open
DESCRIPTION:
URL:https://www.friendsofmttam.org/event/12-4-gravity-car-barn-open-10/
LOCATION:East Peak\, Mt Tamalpais
CATEGORIES:Gravity Car Barn
END:VEVENT
BEGIN:VEVENT
DTSTART;VALUE=DATE:20170806
DTEND;VALUE=DATE:20170807
DTSTAMP:20260424T001548
CREATED:20170812T051947Z
LAST-MODIFIED:20191202T164107Z
UID:8718-1501977600-1502063999@www.friendsofmttam.org
SUMMARY:9:30am Hike led by Robert Feist: "Mt Tam History"
DESCRIPTION:3-4 hours with a break for a light lunch. See Hiking / Sunday
URL:https://www.friendsofmttam.org/event/930am-hike-led-by-robert-feist-mt-tam-history-3/
LOCATION:BootJack\, Mt Tamalpais
CATEGORIES:Hike
END:VEVENT
BEGIN:VEVENT
DTSTART;VALUE=DATE:20170806
DTEND;VALUE=DATE:20170807
DTSTAMP:20260424T001548
CREATED:20170813T215012Z
LAST-MODIFIED:20190510T194337Z
UID:8984-1501977600-1502063999@www.friendsofmttam.org
SUMMARY:11-4 Visitor Center Shirley Beers/Lillian Lessler
DESCRIPTION:
URL:https://www.friendsofmttam.org/event/11-4-visitor-center-shirley-beerslillian-lessler-4/
CATEGORIES:Visitor Center
END:VEVENT
BEGIN:VEVENT
DTSTART;VALUE=DATE:20170806
DTEND;VALUE=DATE:20170807
DTSTAMP:20260424T001548
CREATED:20180301T212116Z
LAST-MODIFIED:20190510T194337Z
UID:11246-1501977600-1502063999@www.friendsofmttam.org
SUMMARY:11-4 VC: Shirley Beers/Lillian Lessler
DESCRIPTION:
URL:https://www.friendsofmttam.org/event/11-4-vc-shirley-beers-lillian-lessler-4/
CATEGORIES:Visitor Center
END:VEVENT
BEGIN:VEVENT
DTSTART;VALUE=DATE:20170809
DTEND;VALUE=DATE:20170810
DTSTAMP:20260424T001548
CREATED:20170812T051947Z
LAST-MODIFIED:20191202T164107Z
UID:8719-1502236800-1502323199@www.friendsofmttam.org
SUMMARY:Evening hike led by Sue Karp: "Sunset/Moonrise Potlu"
DESCRIPTION:Wednesday evening hikes last 2 to 3 hours with a 15 minute break.
URL:https://www.friendsofmttam.org/event/evening-hike-led-by-sue-karp-sunsetmoonrise-potlu/
LOCATION:Trojan Point Parking Lot\, Mt Tamalpais
CATEGORIES:Hike
END:VEVENT
BEGIN:VEVENT
DTSTART;VALUE=DATE:20170811
DTEND;VALUE=DATE:20170812
DTSTAMP:20260424T001548
CREATED:20170813T215012Z
LAST-MODIFIED:20190510T194337Z
UID:8985-1502409600-1502495999@www.friendsofmttam.org
SUMMARY:11-4 Visitor Center: Chris Castleman
DESCRIPTION:
URL:https://www.friendsofmttam.org/event/11-4-visitor-center-chris-castleman/
CATEGORIES:Visitor Center
END:VEVENT
BEGIN:VEVENT
DTSTART;VALUE=DATE:20170812
DTEND;VALUE=DATE:20170813
DTSTAMP:20260424T001548
CREATED:20170811T144951Z
LAST-MODIFIED:20190510T191521Z
UID:8457-1502496000-1502582399@www.friendsofmttam.org
SUMMARY:12-4 Gravity Car Barn Open
DESCRIPTION:
URL:https://www.friendsofmttam.org/event/12-4-gravity-car-barn-open-11/
LOCATION:East Peak\, Mt Tamalpais
CATEGORIES:Gravity Car Barn
END:VEVENT
BEGIN:VEVENT
DTSTART;VALUE=DATE:20170812
DTEND;VALUE=DATE:20170813
DTSTAMP:20260424T001548
CREATED:20170813T215013Z
LAST-MODIFIED:20190510T194337Z
UID:8986-1502496000-1502582399@www.friendsofmttam.org
SUMMARY:11-4 Visitor Center: Cate Zovod
DESCRIPTION:
URL:https://www.friendsofmttam.org/event/11-4-visitor-center-cate-zovod-3/
LOCATION:East Peak\, Mt. Tam
CATEGORIES:Visitor Center
END:VEVENT
BEGIN:VEVENT
DTSTART;VALUE=DATE:20170813
DTEND;VALUE=DATE:20170814
DTSTAMP:20260424T001548
CREATED:20170811T144951Z
LAST-MODIFIED:20190510T191521Z
UID:8458-1502582400-1502668799@www.friendsofmttam.org
SUMMARY:12-4 Gravity Car Barn Open
DESCRIPTION:
URL:https://www.friendsofmttam.org/event/12-4-gravity-car-barn-open-12/
LOCATION:East Peak\, Mt Tamalpais
CATEGORIES:Gravity Car Barn
END:VEVENT
BEGIN:VEVENT
DTSTART;VALUE=DATE:20170813
DTEND;VALUE=DATE:20170814
DTSTAMP:20260424T001548
CREATED:20170812T052011Z
LAST-MODIFIED:20191202T164108Z
UID:8720-1502582400-1502668799@www.friendsofmttam.org
SUMMARY:9:30am Hike led by Glenn Carter: "Pancake Breakfast Hik"
DESCRIPTION:3-4 hours with a break for a light lunch. See Hiking / Sunday
URL:https://www.friendsofmttam.org/event/930am-hike-led-by-glenn-carter-pancake-breakfast-hik/
LOCATION:Rock Spring\, Mt Tamalpais
CATEGORIES:Hike
END:VEVENT
BEGIN:VEVENT
DTSTART;VALUE=DATE:20170813
DTEND;VALUE=DATE:20170814
DTSTAMP:20260424T001548
CREATED:20170813T215013Z
LAST-MODIFIED:20190510T194337Z
UID:8987-1502582400-1502668799@www.friendsofmttam.org
SUMMARY:11-4 Visitor Center Kit Murphy
DESCRIPTION:
URL:https://www.friendsofmttam.org/event/11-4-kit-murphy/
CATEGORIES:Visitor Center
END:VEVENT
BEGIN:VEVENT
DTSTART;VALUE=DATE:20170816
DTEND;VALUE=DATE:20170817
DTSTAMP:20260424T001548
CREATED:20170812T052012Z
LAST-MODIFIED:20191202T164108Z
UID:8721-1502841600-1502927999@www.friendsofmttam.org
SUMMARY:Evening hike led by Karen Sapper: "Mt Tam Flora and Faun"
DESCRIPTION:Wednesday evening hikes last 2 to 3 hours with a 15 minute break.
URL:https://www.friendsofmttam.org/event/evening-hike-led-by-karen-sapper-mt-tam-flora-and-faun-2/
LOCATION:Pantoll\, Mt Tamalpais
CATEGORIES:Hike
END:VEVENT
BEGIN:VEVENT
DTSTART;VALUE=DATE:20170819
DTEND;VALUE=DATE:20170820
DTSTAMP:20260424T001548
CREATED:20170811T145001Z
LAST-MODIFIED:20190510T191521Z
UID:8459-1503100800-1503187199@www.friendsofmttam.org
SUMMARY:12-4 Gravity Car Barn Open
DESCRIPTION:
URL:https://www.friendsofmttam.org/event/12-4-gravity-car-barn-open-13/
LOCATION:East Peak\, Mt Tamalpais
CATEGORIES:Gravity Car Barn
END:VEVENT
BEGIN:VEVENT
DTSTART;VALUE=DATE:20170819
DTEND;VALUE=DATE:20170820
DTSTAMP:20260424T001548
CREATED:20170813T215013Z
LAST-MODIFIED:20190510T194337Z
UID:8988-1503100800-1503187199@www.friendsofmttam.org
SUMMARY:11-4 Visitor Center ALBERT WALD / Kristi Williams
DESCRIPTION:
URL:https://www.friendsofmttam.org/event/vc-albert-wald/
CATEGORIES:Visitor Center
END:VEVENT
BEGIN:VEVENT
DTSTART;VALUE=DATE:20170820
DTEND;VALUE=DATE:20170821
DTSTAMP:20260424T001548
CREATED:20170811T145001Z
LAST-MODIFIED:20190510T191521Z
UID:8460-1503187200-1503273599@www.friendsofmttam.org
SUMMARY:12-4 Gravity Car Barn Open
DESCRIPTION:
URL:https://www.friendsofmttam.org/event/12-4-gravity-car-barn-open-14/
LOCATION:East Peak\, Mt Tamalpais
CATEGORIES:Gravity Car Barn
END:VEVENT
BEGIN:VEVENT
DTSTART;VALUE=DATE:20170820
DTEND;VALUE=DATE:20170821
DTSTAMP:20260424T001548
CREATED:20170812T052012Z
LAST-MODIFIED:20191202T164108Z
UID:8722-1503187200-1503273599@www.friendsofmttam.org
SUMMARY:9:30am Hike led by Glenn Carter: "Mt Tam History"
DESCRIPTION:3-4 hours with a break for a light lunch. See Hiking / Sunday
URL:https://www.friendsofmttam.org/event/930am-hike-led-by-glenn-carter-mt-tam-history-4/
LOCATION:Rock Spring\, Mt Tamalpais
CATEGORIES:Hike
END:VEVENT
BEGIN:VEVENT
DTSTART;VALUE=DATE:20170820
DTEND;VALUE=DATE:20170821
DTSTAMP:20260424T001548
CREATED:20170813T215316Z
LAST-MODIFIED:20170821T213800Z
UID:8989-1503187200-1503273599@www.friendsofmttam.org
SUMMARY:11-4 Visitor Center - Tom Brookshire
DESCRIPTION:
URL:https://www.friendsofmttam.org/event/11-4-visitor-center-tom-brookshire-4/
LOCATION:Mt Tam\, East Peak Parking Lot\, East Ridgecrest Blvd.\, Mill Valley\, CA 94941\, USA\, 201 Meda Ln\, United States
CATEGORIES:Visitor Center
END:VEVENT
BEGIN:VEVENT
DTSTART;VALUE=DATE:20170823
DTEND;VALUE=DATE:20170824
DTSTAMP:20260424T001548
CREATED:20170812T052012Z
LAST-MODIFIED:20191202T164108Z
UID:8723-1503446400-1503532799@www.friendsofmttam.org
SUMMARY:Evening hike led by Glenn Carter: "Mt Tam History"
DESCRIPTION:Wednesday evening hikes last 2 to 3 hours with a 15 minute break.
URL:https://www.friendsofmttam.org/event/evening-hike-led-by-glenn-carter-mt-tam-history-2/
LOCATION:Dias Ridge\, Mt Tamalpais
CATEGORIES:Hike
END:VEVENT
BEGIN:VEVENT
DTSTART;VALUE=DATE:20170826
DTEND;VALUE=DATE:20170827
DTSTAMP:20260424T001548
CREATED:20170811T145001Z
LAST-MODIFIED:20190510T191521Z
UID:8461-1503705600-1503791999@www.friendsofmttam.org
SUMMARY:12-4 Gravity Car Barn Open
DESCRIPTION:
URL:https://www.friendsofmttam.org/event/12-4-gravity-car-barn-open-15/
LOCATION:East Peak\, Mt Tamalpais
CATEGORIES:Gravity Car Barn
END:VEVENT
BEGIN:VEVENT
DTSTART;VALUE=DATE:20170826
DTEND;VALUE=DATE:20170827
DTSTAMP:20260424T001548
CREATED:20170813T215316Z
LAST-MODIFIED:20170821T213800Z
UID:8990-1503705600-1503791999@www.friendsofmttam.org
SUMMARY:11-4 Visitor Center - Chris & Tara Castleman / Kristi Wiliams
DESCRIPTION:
URL:https://www.friendsofmttam.org/event/11-4-visitor-center-chris-tara-castleman-kristi-wiliams/
CATEGORIES:Visitor Center
END:VEVENT
BEGIN:VEVENT
DTSTART;TZID=America/Los_Angeles:20170826T110000
DTEND;TZID=America/Los_Angeles:20170826T160000
DTSTAMP:20260424T001548
CREATED:20170823T045959Z
LAST-MODIFIED:20190510T194337Z
UID:9158-1503745200-1503763200@www.friendsofmttam.org
SUMMARY:Visitor Center - Chris & Tara Castleman
DESCRIPTION:
URL:https://www.friendsofmttam.org/event/visitor-center-chris-tara-castleman/
CATEGORIES:Visitor Center
END:VEVENT
BEGIN:VEVENT
DTSTART;TZID=America/Los_Angeles:20170826T203000
DTEND;TZID=America/Los_Angeles:20170826T230000
DTSTAMP:20260424T001548
CREATED:20170814T044542Z
LAST-MODIFIED:20190516T001918Z
UID:9023-1503779400-1503788400@www.friendsofmttam.org
SUMMARY:Astronomy Night - Carol Stoker
DESCRIPTION:Carol Stoker\,  Planetary Scientist\, NASA Ames Research Center        \n*** The Search for Life Beyond Earth ***\nBesides Earth\, several planetary bodies in our solar systems are recognized as having the potential to host primitive forms of life. This talk will describe why and how NASA plans to search for life on Mars and the icy moons of Jupiter and Saturn. \nStar Viewing after the program with the San Francisco Amature Astronomers
URL:https://www.friendsofmttam.org/event/astronomy-night-carol-stoker/
LOCATION:Cushing Memorial Amphitheater\, Mill Valley\, CA 94941\, USA\, 2 Cushing Dr\, United States
CATEGORIES:Astronomy
END:VEVENT
BEGIN:VEVENT
DTSTART;VALUE=DATE:20170827
DTEND;VALUE=DATE:20170828
DTSTAMP:20260424T001548
CREATED:20170811T145002Z
LAST-MODIFIED:20190510T191521Z
UID:8462-1503792000-1503878399@www.friendsofmttam.org
SUMMARY:12-4 Gravity Car Barn Open
DESCRIPTION:
URL:https://www.friendsofmttam.org/event/12-4-gravity-car-barn-open-16/
LOCATION:East Peak\, Mt Tamalpais
CATEGORIES:Gravity Car Barn
END:VEVENT
BEGIN:VEVENT
DTSTART;VALUE=DATE:20170827
DTEND;VALUE=DATE:20170828
DTSTAMP:20260424T001548
CREATED:20170812T052012Z
LAST-MODIFIED:20191202T164108Z
UID:8724-1503792000-1503878399@www.friendsofmttam.org
SUMMARY:9:30am Hike led by Brendan Hickey: "Mt Tam Eccentrics"
DESCRIPTION:3-4 hours with a break for a light lunch. See Hiking / Sunday
URL:https://www.friendsofmttam.org/event/930am-hike-led-by-brendan-hickey-mt-tam-eccentrics/
LOCATION:Laurel Dell\, Mt Tamalpais
CATEGORIES:Hike
END:VEVENT
BEGIN:VEVENT
DTSTART;VALUE=DATE:20170830
DTEND;VALUE=DATE:20170831
DTSTAMP:20260424T001548
CREATED:20170812T052019Z
LAST-MODIFIED:20191202T164109Z
UID:8725-1504051200-1504137599@www.friendsofmttam.org
SUMMARY:Evening hike led by Robert Feist: "Mt Tam History"
DESCRIPTION:Wednesday evening hikes last 2 to 3 hours with a 15 minute break.
URL:https://www.friendsofmttam.org/event/evening-hike-led-by-robert-feist-mt-tam-history/
LOCATION:Quarry Parking Lot\, Mt Tamalpais
CATEGORIES:Hike
END:VEVENT
BEGIN:VEVENT
DTSTART;VALUE=DATE:20170902
DTEND;VALUE=DATE:20170903
DTSTAMP:20260424T001548
CREATED:20170811T145002Z
LAST-MODIFIED:20190510T191521Z
UID:8463-1504310400-1504396799@www.friendsofmttam.org
SUMMARY:Closed -  Gravity Car Barn - Redflag Warning
DESCRIPTION:
URL:https://www.friendsofmttam.org/event/12-4-gravity-car-barn-open-17/
LOCATION:East Peak\, Mt Tamalpais
CATEGORIES:Gravity Car Barn
END:VEVENT
BEGIN:VEVENT
DTSTART;VALUE=DATE:20170902
DTEND;VALUE=DATE:20170903
DTSTAMP:20260424T001548
CREATED:20170813T215316Z
LAST-MODIFIED:20190510T194337Z
UID:8991-1504310400-1504396799@www.friendsofmttam.org
SUMMARY:Closed - Visitor Center - Redflag Warning
DESCRIPTION:
URL:https://www.friendsofmttam.org/event/vc-albert-wald-2/
CATEGORIES:Visitor Center
END:VEVENT
END:VCALENDAR