BEGIN:VCALENDAR
VERSION:2.0
PRODID:-//Friends of Mt Tam - ECPv6.15.18//NONSGML v1.0//EN
CALSCALE:GREGORIAN
METHOD:PUBLISH
X-ORIGINAL-URL:https://www.friendsofmttam.org
X-WR-CALDESC:Events for Friends of Mt Tam
REFRESH-INTERVAL;VALUE=DURATION:PT1H
X-Robots-Tag:noindex
X-PUBLISHED-TTL:PT1H
BEGIN:VTIMEZONE
TZID:America/Los_Angeles
BEGIN:DAYLIGHT
TZOFFSETFROM:-0800
TZOFFSETTO:-0700
TZNAME:PDT
DTSTART:20170312T100000
END:DAYLIGHT
BEGIN:STANDARD
TZOFFSETFROM:-0700
TZOFFSETTO:-0800
TZNAME:PST
DTSTART:20171105T090000
END:STANDARD
BEGIN:DAYLIGHT
TZOFFSETFROM:-0800
TZOFFSETTO:-0700
TZNAME:PDT
DTSTART:20180311T100000
END:DAYLIGHT
BEGIN:STANDARD
TZOFFSETFROM:-0700
TZOFFSETTO:-0800
TZNAME:PST
DTSTART:20181104T090000
END:STANDARD
BEGIN:DAYLIGHT
TZOFFSETFROM:-0800
TZOFFSETTO:-0700
TZNAME:PDT
DTSTART:20190310T100000
END:DAYLIGHT
BEGIN:STANDARD
TZOFFSETFROM:-0700
TZOFFSETTO:-0800
TZNAME:PST
DTSTART:20191103T090000
END:STANDARD
END:VTIMEZONE
BEGIN:VEVENT
DTSTART;VALUE=DATE:20180219
DTEND;VALUE=DATE:20180220
DTSTAMP:20260423T144715
CREATED:20171216T213216Z
LAST-MODIFIED:20191202T164123Z
UID:9709-1518998400-1519084799@www.friendsofmttam.org
SUMMARY:9:30am Hike led by Franklin Young: "Crookedest Railroad" (from Mt Home)
DESCRIPTION:Crookedest Railroad / Rating= M   See website for Rating Descriptions.
URL:https://www.friendsofmttam.org/event/930am-hike-led-by-franklin-young-crookedest-railroad/
LOCATION:Mt Home\, Mt Tamalpais
CATEGORIES:Hike
END:VEVENT
BEGIN:VEVENT
DTSTART;VALUE=DATE:20180224
DTEND;VALUE=DATE:20180225
DTSTAMP:20260423T144715
CREATED:20171216T213216Z
LAST-MODIFIED:20180224T195700Z
UID:9710-1519430400-1519516799@www.friendsofmttam.org
SUMMARY:9:30am Hike led by Cindy Ray: "HPHP: opic TBA" (from Pantoll)
DESCRIPTION:Healthy Parks Healthy People  Topic TBA / Rating= E   See website for Rating Descriptions.
URL:https://www.friendsofmttam.org/event/930am-hike-led-by-cindy-ray-hphp-opic-tba/
LOCATION:Pantoll\, Mt Tamalpais
CATEGORIES:Hike
END:VEVENT
BEGIN:VEVENT
DTSTART;VALUE=DATE:20180224
DTEND;VALUE=DATE:20180225
DTSTAMP:20260423T144715
CREATED:20171216T213217Z
LAST-MODIFIED:20191202T164123Z
UID:9711-1519430400-1519516799@www.friendsofmttam.org
SUMMARY:9:00am Hike led by Maria de la Fuente: "Trees" from Pantoll
DESCRIPTION:Trees / Rating= M   See website for Rating Descriptions.
URL:https://www.friendsofmttam.org/event/900am-hike-led-by-maria-de-la-fuente-trees/
LOCATION:Pantoll\, Mt Tamalpais
CATEGORIES:Hike
END:VEVENT
BEGIN:VEVENT
DTSTART;VALUE=DATE:20180224
DTEND;VALUE=DATE:20180225
DTSTAMP:20260423T144715
CREATED:20180111T041052Z
LAST-MODIFIED:20190420T170019Z
UID:10296-1519430400-1519516799@www.friendsofmttam.org
SUMMARY:12-4 Gravity Car Barn - Fred Codoni\, Richard Torney\, Larry Salbeak
DESCRIPTION:Gravity Car Barn Museum – East Peak
URL:https://www.friendsofmttam.org/event/12-4-gravity-car-barn-fred-runner-richard-torney-larry-salbeak-2/
LOCATION:East Peak\, Mt Tamalpais
CATEGORIES:Gravity Car Barn
END:VEVENT
BEGIN:VEVENT
DTSTART;VALUE=DATE:20180225
DTEND;VALUE=DATE:20180226
DTSTAMP:20260423T144715
CREATED:20171216T213217Z
LAST-MODIFIED:20191202T164123Z
UID:9712-1519516800-1519603199@www.friendsofmttam.org
SUMMARY:9:30am Hike led by Tracy Stuart: "Health and Inspiration" (from Rock Spring)
DESCRIPTION:Health and Inspiration / Rating= R   See website for Rating Descriptions.
URL:https://www.friendsofmttam.org/event/930am-hike-led-by-tracy-stuart-health-and-inspiration/
LOCATION:Rock Spring\, Mt Tamalpais
CATEGORIES:Hike
END:VEVENT
BEGIN:VEVENT
DTSTART;VALUE=DATE:20180225
DTEND;VALUE=DATE:20180226
DTSTAMP:20260423T144715
CREATED:20180111T041125Z
LAST-MODIFIED:20190420T170020Z
UID:10297-1519516800-1519603199@www.friendsofmttam.org
SUMMARY:12-4 Gravity Car Barn - Colleen Hogue
DESCRIPTION:Gravity Car Barn Museum – East Peak
URL:https://www.friendsofmttam.org/event/12-4-gravity-car-barn-colleen-hogue-2/
LOCATION:East Peak\, Mt Tamalpais
CATEGORIES:Gravity Car Barn
END:VEVENT
BEGIN:VEVENT
DTSTART;VALUE=DATE:20180303
DTEND;VALUE=DATE:20180304
DTSTAMP:20260423T144715
CREATED:20171216T213218Z
LAST-MODIFIED:20191202T164123Z
UID:9716-1520035200-1520121599@www.friendsofmttam.org
SUMMARY:9:30am Hike led bySantiago Abascal: "Topic TBD" (from Stinson Beach)
DESCRIPTION:Topic TBD / Rating= M   See website for Rating Descriptions.
URL:https://www.friendsofmttam.org/event/930am-hike-led-bysantiago-abascal-topic-tbd/
LOCATION:Stinson\, Mt Tamalpais
CATEGORIES:Hike
END:VEVENT
BEGIN:VEVENT
DTSTART;VALUE=DATE:20180303
DTEND;VALUE=DATE:20180304
DTSTAMP:20260423T144715
CREATED:20171216T213218Z
LAST-MODIFIED:20191202T164123Z
UID:9713-1520035200-1520121599@www.friendsofmttam.org
SUMMARY:9:30am Hike led by Nancy Benjamin: "HPHP: What is ShinrinYoku? " (from Pantoll)
DESCRIPTION:Healthy Parks Healthy People:  What is ShinrinYoku?  / Rating= E   See website for Rating Descriptions.
URL:https://www.friendsofmttam.org/event/930am-hike-led-by-nancy-benjamin-hphp-what-is-shinrinyoku/
LOCATION:Pantoll\, Mt Tamalpais
CATEGORIES:Hike
END:VEVENT
BEGIN:VEVENT
DTSTART;VALUE=DATE:20180303
DTEND;VALUE=DATE:20180304
DTSTAMP:20260423T144715
CREATED:20180111T041126Z
LAST-MODIFIED:20190420T170020Z
UID:10298-1520035200-1520121599@www.friendsofmttam.org
SUMMARY:12-4 Gravity Car Barn - Paul Rubinfeld
DESCRIPTION:Gravity Car Barn Museum – East Peak
URL:https://www.friendsofmttam.org/event/12-4-gravity-car-barn-paul-rubinfeld-3/
LOCATION:East Peak\, Mt Tamalpais
CATEGORIES:Gravity Car Barn
END:VEVENT
BEGIN:VEVENT
DTSTART;VALUE=DATE:20180304
DTEND;VALUE=DATE:20180305
DTSTAMP:20260423T144715
CREATED:20170813T215639Z
LAST-MODIFIED:20190510T194340Z
UID:9009-1520121600-1520207999@www.friendsofmttam.org
SUMMARY:11-4 Visitor Center Shirley Beers/Lillian Lessler
DESCRIPTION:
URL:https://www.friendsofmttam.org/event/11-4-visitor-center-shirley-beerslillian-lessler-11/
CATEGORIES:Visitor Center
END:VEVENT
BEGIN:VEVENT
DTSTART;VALUE=DATE:20180304
DTEND;VALUE=DATE:20180305
DTSTAMP:20260423T144715
CREATED:20171216T213218Z
LAST-MODIFIED:20191202T164123Z
UID:9714-1520121600-1520207999@www.friendsofmttam.org
SUMMARY:9:30am Hike led by Tom Dewey: "Mountain Views" (from Rock Spring)
DESCRIPTION:Mountain Views / Rating= M   See website for Rating Descriptions.
URL:https://www.friendsofmttam.org/event/930am-hike-led-by-tom-dewey-mountain-views-3/
LOCATION:Rock Spring\, Mt Tamalpais
CATEGORIES:Hike
END:VEVENT
BEGIN:VEVENT
DTSTART;VALUE=DATE:20180304
DTEND;VALUE=DATE:20180305
DTSTAMP:20260423T144715
CREATED:20180111T041126Z
LAST-MODIFIED:20190420T170020Z
UID:10299-1520121600-1520207999@www.friendsofmttam.org
SUMMARY:12-4 Gravity Car Barn - Cathie and Bob Karcher
DESCRIPTION:Gravity Car Barn Museum – East Peak
URL:https://www.friendsofmttam.org/event/12-4-gravity-car-barn-cathie-and-bob-karcher-3/
LOCATION:East Peak\, Mt Tamalpais
CATEGORIES:Gravity Car Barn
END:VEVENT
BEGIN:VEVENT
DTSTART;VALUE=DATE:20180304
DTEND;VALUE=DATE:20180305
DTSTAMP:20260423T144715
CREATED:20180301T212352Z
LAST-MODIFIED:20180304T173631Z
UID:11253-1520121600-1520207999@www.friendsofmttam.org
SUMMARY:11-4 VC: Shirley Beers/Lillian Lessler
DESCRIPTION:
URL:https://www.friendsofmttam.org/event/11-4-vc-shirley-beers-lillian-lessler-11/
CATEGORIES:Visitor Center
END:VEVENT
BEGIN:VEVENT
DTSTART;VALUE=DATE:20180310
DTEND;VALUE=DATE:20180311
DTSTAMP:20260423T144715
CREATED:20171216T212950Z
LAST-MODIFIED:20190516T003830Z
UID:9672-1520640000-1520726399@www.friendsofmttam.org
SUMMARY:9am - FMT Annual Meeting
DESCRIPTION:
URL:https://www.friendsofmttam.org/event/9am-fmt-annual-meeting/
LOCATION:California Alpine Club\, 730 Panoramic Hwy\, Mill Valley\, CA 94941\, USA\, 2 Panoramic Hwy\, United States
CATEGORIES:Other
END:VEVENT
BEGIN:VEVENT
DTSTART;VALUE=DATE:20180310
DTEND;VALUE=DATE:20180311
DTSTAMP:20260423T144715
CREATED:20171216T213218Z
LAST-MODIFIED:20180224T195707Z
UID:9715-1520640000-1520726399@www.friendsofmttam.org
SUMMARY:9:30am Hike led byCindy Ray: "HPHP: Topic TBD" (from Pantoll)
DESCRIPTION:Healthy Parks Healthy People:  Topic TBD / Rating= E   See website for Rating Descriptions.
URL:https://www.friendsofmttam.org/event/930am-hike-led-bycindy-ray-hphp-topic-tbd/
LOCATION:Pantoll\, Mt Tamalpais
CATEGORIES:Hike
END:VEVENT
BEGIN:VEVENT
DTSTART;VALUE=DATE:20180310
DTEND;VALUE=DATE:20180311
DTSTAMP:20260423T144715
CREATED:20171216T213220Z
LAST-MODIFIED:20191202T164124Z
UID:9718-1520640000-1520726399@www.friendsofmttam.org
SUMMARY:9:30am Hike led by Maria de la Fuente: "Trees" (from Mt Home)
DESCRIPTION:Topic “Trees”\nRating= M\nSee website for Rating Descriptions.
URL:https://www.friendsofmttam.org/event/930am-hike-led-bymaria-de-la-fuente-trees/
LOCATION:Mt Home parking lot\, Mt Tamalpais
CATEGORIES:Hike
END:VEVENT
BEGIN:VEVENT
DTSTART;VALUE=DATE:20180310
DTEND;VALUE=DATE:20180311
DTSTAMP:20260423T144715
CREATED:20180111T041126Z
LAST-MODIFIED:20190420T170020Z
UID:10300-1520640000-1520726399@www.friendsofmttam.org
SUMMARY:12-4 Gravity Car Barn - Janet Rostad
DESCRIPTION:Gravity Car Barn Museum – East Peak
URL:https://www.friendsofmttam.org/event/12-4-gravity-car-barn-janet-rostad-2/
LOCATION:East Peak\, Mt Tamalpais
CATEGORIES:Gravity Car Barn
END:VEVENT
BEGIN:VEVENT
DTSTART;TZID=America/Los_Angeles:20180310T120000
DTEND;TZID=America/Los_Angeles:20180310T130000
DTSTAMP:20260423T144715
CREATED:20180305T000654Z
LAST-MODIFIED:20190106T021635Z
UID:11320-1520683200-1520686800@www.friendsofmttam.org
SUMMARY:FMT Member Hike led by Rosanna Petralia
DESCRIPTION:
URL:https://www.friendsofmttam.org/event/fmt-member-hike-led-by-rosanna-petralia/
CATEGORIES:Hike
END:VEVENT
BEGIN:VEVENT
DTSTART;TZID=America/Los_Angeles:20180310T120000
DTEND;TZID=America/Los_Angeles:20180310T130000
DTSTAMP:20260423T144715
CREATED:20180305T004924Z
LAST-MODIFIED:20190516T003830Z
UID:11322-1520683200-1520686800@www.friendsofmttam.org
SUMMARY:FMT Member Hike led by Rosanna Petralia
DESCRIPTION:
URL:https://www.friendsofmttam.org/event/fmt-member-hike-led-by-rosanna-petralia-2/
CATEGORIES:Other
END:VEVENT
BEGIN:VEVENT
DTSTART;VALUE=DATE:20180311
DTEND;VALUE=DATE:20180312
DTSTAMP:20260423T144715
CREATED:20171010T050642Z
LAST-MODIFIED:20190510T194340Z
UID:9382-1520726400-1520812799@www.friendsofmttam.org
SUMMARY:11-4 VC: Kit Murphy & Debra Brody
DESCRIPTION:
URL:https://www.friendsofmttam.org/event/11-4-vc-kit-murphy-debra-brody-3/
CATEGORIES:Visitor Center
END:VEVENT
BEGIN:VEVENT
DTSTART;VALUE=DATE:20180311
DTEND;VALUE=DATE:20180312
DTSTAMP:20260423T144715
CREATED:20171216T213219Z
LAST-MODIFIED:20191202T164124Z
UID:9717-1520726400-1520812799@www.friendsofmttam.org
SUMMARY:11am Hike led by Catherine Orland: "Biodiversity & Trees of Tam" (from Stinson Beach)
DESCRIPTION:Biodiversity & Trees of Tam / Rating= M   See website for Rating Descriptions.
URL:https://www.friendsofmttam.org/event/930am-hike-led-by-catherine-orland-biodiversity-trees-of-tam-2/
LOCATION:Stinson\, Mt Tamalpais
CATEGORIES:Hike
END:VEVENT
BEGIN:VEVENT
DTSTART;VALUE=DATE:20180311
DTEND;VALUE=DATE:20180312
DTSTAMP:20260423T144715
CREATED:20180111T041126Z
LAST-MODIFIED:20190420T170020Z
UID:10301-1520726400-1520812799@www.friendsofmttam.org
SUMMARY:12-4 Gravity Car Barn - Amy Palmer\, Karen Betzner
DESCRIPTION:Gravity Car Barn Museum – East Peak
URL:https://www.friendsofmttam.org/event/12-4-gravity-car-barn-amy-palmer-karen-betzner-3/
LOCATION:East Peak\, Mt Tamalpais
CATEGORIES:Gravity Car Barn
END:VEVENT
BEGIN:VEVENT
DTSTART;TZID=America/Los_Angeles:20180311T000100
DTEND;TZID=America/Los_Angeles:20180311T235900
DTSTAMP:20260423T144715
CREATED:20171124T065440Z
LAST-MODIFIED:20171124T065440Z
UID:9604-1520726460-1520812740@www.friendsofmttam.org
SUMMARY:11-4 VC: Kit Murphy & Debra Brody
DESCRIPTION:
URL:https://www.friendsofmttam.org/event/11-4-vc-kit-murphy-debra-brody-23/
CATEGORIES:Visitor Center
END:VEVENT
BEGIN:VEVENT
DTSTART;TZID=America/Los_Angeles:20180311T000100
DTEND;TZID=America/Los_Angeles:20180311T235900
DTSTAMP:20260423T144715
CREATED:20171125T224153Z
LAST-MODIFIED:20171125T224153Z
UID:9617-1520726460-1520812740@www.friendsofmttam.org
SUMMARY:11-4 VC: Kit Murphy & Debra Brody
DESCRIPTION:
URL:https://www.friendsofmttam.org/event/11-4-vc-kit-murphy-debra-brody-24/
CATEGORIES:Visitor Center
END:VEVENT
BEGIN:VEVENT
DTSTART;TZID=America/Los_Angeles:20180311T000100
DTEND;TZID=America/Los_Angeles:20180311T235900
DTSTAMP:20260423T144715
CREATED:20171127T064043Z
LAST-MODIFIED:20171127T064043Z
UID:9625-1520726460-1520812740@www.friendsofmttam.org
SUMMARY:11-4 VC: Kit Murphy & Debra Brody
DESCRIPTION:
URL:https://www.friendsofmttam.org/event/11-4-vc-kit-murphy-debra-brody-25/
CATEGORIES:Visitor Center
END:VEVENT
BEGIN:VEVENT
DTSTART;TZID=America/Los_Angeles:20180311T000100
DTEND;TZID=America/Los_Angeles:20180311T235900
DTSTAMP:20260423T144715
CREATED:20171128T223859Z
LAST-MODIFIED:20171128T223859Z
UID:9641-1520726460-1520812740@www.friendsofmttam.org
SUMMARY:11-4 VC: Kit Murphy & Debra Brody
DESCRIPTION:
URL:https://www.friendsofmttam.org/event/11-4-vc-kit-murphy-debra-brody-26/
CATEGORIES:Visitor Center
END:VEVENT
BEGIN:VEVENT
DTSTART;VALUE=DATE:20180313
DTEND;VALUE=DATE:20180314
DTSTAMP:20260423T144715
CREATED:20180110T203832Z
LAST-MODIFIED:20190516T003830Z
UID:10258-1520899200-1520985599@www.friendsofmttam.org
SUMMARY:6:30pm - FMT Board Meeting
DESCRIPTION:Community Meeting Room\, 2nd floor
URL:https://www.friendsofmttam.org/event/630pm-fmt-board-meeting-4/
LOCATION:Northgate\, 5800 Northgate Parking Lot\, San Rafael\, CA 94903\, USA\, 501 Northgate Dr\, United States
CATEGORIES:Other
END:VEVENT
BEGIN:VEVENT
DTSTART;VALUE=DATE:20180317
DTEND;VALUE=DATE:20180318
DTSTAMP:20260423T144715
CREATED:20171216T213215Z
LAST-MODIFIED:20191202T164124Z
UID:9706-1521244800-1521331199@www.friendsofmttam.org
SUMMARY:9:30am Hike led by Lizzy Silverstein: "HPHP: Redwoods" (from Pantoll)
DESCRIPTION:Topic: Redwoods\nRating= Easy\, between 2 and 4 miles.
URL:https://www.friendsofmttam.org/event/930am-hike-led-by-lizzy-silverstein-hphp-redwoods/
LOCATION:Pantoll\, Mt Tamalpais
CATEGORIES:Hike
END:VEVENT
BEGIN:VEVENT
DTSTART;VALUE=DATE:20180317
DTEND;VALUE=DATE:20180318
DTSTAMP:20260423T144715
CREATED:20171216T213220Z
LAST-MODIFIED:20191202T164124Z
UID:9721-1521244800-1521331199@www.friendsofmttam.org
SUMMARY:9:30am Hike led byAlexandra Jurasin: "Mindfulness in Nature" from Rock Spring
DESCRIPTION:Mindfulness in Nature / Rating= R   See website for Rating Descriptions.
URL:https://www.friendsofmttam.org/event/930am-hike-led-byalexandra-jurasin-mindfulness-in-nature/
LOCATION:Rock Spring\, Mt Tamalpais
CATEGORIES:Hike
END:VEVENT
BEGIN:VEVENT
DTSTART;VALUE=DATE:20180317
DTEND;VALUE=DATE:20180318
DTSTAMP:20260423T144715
CREATED:20180111T041128Z
LAST-MODIFIED:20190420T170020Z
UID:10302-1521244800-1521331199@www.friendsofmttam.org
SUMMARY:12-4 Gravity Car Barn - Arlene Haligan\, Phil Rhodes\, Jan McKey
DESCRIPTION:Gravity Car Barn Museum – East Peak
URL:https://www.friendsofmttam.org/event/12-4-gravity-car-barn-arlene-haligan-and-jan-mckey-3/
LOCATION:East Peak\, Mt Tamalpais
CATEGORIES:Gravity Car Barn
END:VEVENT
END:VCALENDAR